BEGIN:VCALENDAR
VERSION:2.0
PRODID:-//Tvoříme Evropu - ECPv6.15.0.1//NONSGML v1.0//EN
CALSCALE:GREGORIAN
METHOD:PUBLISH
X-WR-CALNAME:Tvoříme Evropu
X-ORIGINAL-URL:https://tvorimevropu.showyourweb.cz
X-WR-CALDESC:Akce na Tvoříme Evropu
REFRESH-INTERVAL;VALUE=DURATION:PT1H
X-Robots-Tag:noindex
X-PUBLISHED-TTL:PT1H
BEGIN:VTIMEZONE
TZID:UTC
BEGIN:STANDARD
TZOFFSETFROM:+0000
TZOFFSETTO:+0000
TZNAME:UTC
DTSTART:20240101T000000
END:STANDARD
END:VTIMEZONE
BEGIN:VEVENT
DTSTART;TZID=UTC:20240926T080000
DTEND;TZID=UTC:20240926T143000
DTSTAMP:20260420T033252
CREATED:20240910T132010Z
LAST-MODIFIED:20240910T132010Z
UID:170257-1727337600-1727361000@tvorimevropu.showyourweb.cz
SUMMARY:Evropský den jazyků 26.9.
DESCRIPTION:Evropský den jazyků proběhne 26.09. od 08:00 do 14:30 v Krajské vědecké knihovně v Liberci. Během EDJ si žáci budou moci vyzkoušet nejrůznější aktivity spojené s jazyky. Program je vhodný pro 2. stupeň ZŠ a pro studenty SŠ. Rezervujte si termín pro Vaši třídu! \nPro studenty budou přichystané celkem 4 krátké aktivity po 25 minutách (Riskuj s jazyky!; Znakové jazyky; Zkoušky dabingu; Speakdating a další aktivity). Celkový program trvá i s krátkými přestávkami mezi jednotlivými bloky 1h 55minut. Z důvodu omezené kapacity máme pro každý čas máme místo pro 4 třídy\, které se na aktivitách střídají.  Děkujeme za pochopení. \n \nVeškerý program je zdarma\, ale vzhledem k omezenému počtu míst se\, prosím\, registrujte na email: martin.fiser@vlada.gov.cz nebo tel.:720970598  a uveďte\, prosím\, o jaký čas byste měli zájem (klidně můžete napsat více variant pokud se Vám hodí) a z jaké jste školy\, počet žáků\, ročník\, jméno doprovodu a kontakt – email a telefon\,  abychom Vám mohli zavolat v případě\, že už Vámi požadovaný čas není volný a mohli Vám nabídnout jiný. Doporučený počet studentů ve skupině je max. 30. \nNíže máte na výběr několik časových variant  a uveďte preferovaný/é čas/y také do přihlašovacího emailu: \nVarianta č.1: 08:10 – 10:05 (obsazeno) \nVarianta č.2: 10:15 – 12:10 (obsazeno) \nVarianta č.3: 12:20 – 14:15 (obsazeno) \n  \nAktivity na Evropském dni jazyků v KVKLI:   \n1) Riskuj s jazyky: Soutěž v týmech o drobné ceny. Kolik toho víš o jazycích? Moderuje Martin Fišer z Eurocentra Liberec. Probíhá v 2. patře\, malý sál. \n2) Znakové jazyky: Nauč se více o znakových jazycích a vyzkoušej si znakovat! Přednáší Karel Redlich z Centra pro zdravotně postižené LK. Probíhá v přízemí KVKLI. \n3) Zkoušky dabingu: Jak se dělá dabing? Vybraní zájemci si dabing mohou i vyzkoušet. Aktivitou provází pan Jan Myšák. Probíhá ve 4. patře. \n4) Speak-dating: krátký rozhovor s rodilými mluvčími nejen z Technické univerzity v Liberci; informace o možnostech pro mladé\, obří puzzle Evropy\, výstava výtvarné soutěže k EDJ. Probíhá ve 2. patře ve velkém sále. \nPro 2. stupeň ZŠ k příležitosti EDJ pořádáme také výtvarnou soutěž. Více informací ZDE.
URL:https://tvorimevropu.showyourweb.cz/event/evropsky-den-jazyku-26-9-3-3/
CATEGORIES:Liberec
END:VEVENT
END:VCALENDAR