BEGIN:VCALENDAR
VERSION:2.0
PRODID:-//Tvoříme Evropu - ECPv6.15.0.1//NONSGML v1.0//EN
CALSCALE:GREGORIAN
METHOD:PUBLISH
X-WR-CALNAME:Tvoříme Evropu
X-ORIGINAL-URL:https://tvorimevropu.showyourweb.cz
X-WR-CALDESC:Akce na Tvoříme Evropu
REFRESH-INTERVAL;VALUE=DURATION:PT1H
X-Robots-Tag:noindex
X-PUBLISHED-TTL:PT1H
BEGIN:VTIMEZONE
TZID:Europe/Prague
BEGIN:DAYLIGHT
TZOFFSETFROM:+0100
TZOFFSETTO:+0200
TZNAME:CEST
DTSTART:20250330T010000
END:DAYLIGHT
BEGIN:STANDARD
TZOFFSETFROM:+0200
TZOFFSETTO:+0100
TZNAME:CET
DTSTART:20251026T010000
END:STANDARD
END:VTIMEZONE
BEGIN:VTIMEZONE
TZID:UTC
BEGIN:STANDARD
TZOFFSETFROM:+0000
TZOFFSETTO:+0000
TZNAME:UTC
DTSTART:20230101T000000
END:STANDARD
END:VTIMEZONE
BEGIN:VEVENT
DTSTART;VALUE=DATE:20250505
DTEND;VALUE=DATE:20250601
DTSTAMP:20260419T220447
CREATED:20250505T074514Z
LAST-MODIFIED:20250505T074514Z
UID:170491-1746403200-1748735999@tvorimevropu.showyourweb.cz
SUMMARY:Back to Europe: Kvíz o tom\, co nás spojilo
DESCRIPTION:V letošním roce si připomínáme 80 let od konce 2. světové války – jedné z nejtemnějších kapitol evropských dějin. Při této příležitosti jsme pro vás připravili soutěžní vědomostní kvíz\, který vás provede důležitými historickými událostmi a zajímavostmi souvisejícími s vývojem Evropy a vznikem Evropské unie. \n \nJak se zúčastnit? \n\nKlikněte ZDE nebo načtěte QR kód.\nZískejte v kvízu minimálně 8000 bodů.\nVyplňte na konci kvízu své jméno a e-mailovou adresu.\nPokud dosáhnete tohoto skóre\, budete automaticky zařazeni do slosování o zajímavé ceny.\n\nKvíz probíhá do 31. května 2025. Z celkového počtu účastníků\, kteří splní podmínky\, vylosujeme tři výherce\, které odměníme hodnotnými cenami. \nVylosovaní výherci budou kontaktováni e-mailem. Výhry odesíláme pouze na území České republiky\, do zahraničí není možné výhry zaslat. \nBudeme rádi\, když se zapojíte a připomenete si s námi důležitou kapitolu společné evropské historie.
URL:https://tvorimevropu.showyourweb.cz/event/back-to-europe-kviz-o-tom-co-nas-spojilo-2/
CATEGORIES:Ústí nad Labem
END:VEVENT
BEGIN:VEVENT
DTSTART;TZID=UTC:20230923T100000
DTEND;TZID=UTC:20230923T220000
DTSTAMP:20260419T220447
CREATED:20230831T111902Z
LAST-MODIFIED:20230831T111902Z
UID:169837-1695463200-1695506400@tvorimevropu.showyourweb.cz
SUMMARY:Den zaniklých obcí na Ryžovně
DESCRIPTION:Krušné hory jsou víc než jen turistická destinace. Jsou krajinou příběhů a jedinečných lidských osudů. Jejich výjimečná historie\, plná vzestupů a pádů\, přivedla zdejší hornický region až k zápisu na seznam světového kulturního dědictví UNESCO. Rádi bychom připomínali život a dílo našich předků\, protože bez pochopení a respektu k minulosti nelze smysluplně rozvíjet Krušné hory do budoucna. \nKdyby se v každé zaniklé obci v Krušných horách rozsvítila svíčka\, zářilo by celé pohoří. Míst\, kde kdysi tepal puls života\, aby jej po čase vystřídalo ticho a pusto\, je mnoho. Mnohé vesnice byly vysídleny po válce\, jiné ustoupily vodě či dolům. Po domech\, kde žili lidé\, kostelech\, kde byli křtěni a hřbitovech\, kam byli uloženi k věčnému odpočinku\, nám zbyly památky v podobě fotografií\, vzpomínek pamětníků\, nebo otisků lidské činnosti v krajině. Jedno z takových míst si připomeneme v sobotu 23. září\, kdy se v místě bývalé obce Ryžovna uskuteční první DEN ZANIKLÝCH OBCÍ. Akce navazuje na tradiční Svatováclavské setkání\, které Češi a Němci na Ryžovně společně pořádají již mnohá léta. \nA na co se můžete těšit?\nna tradiční svatováclavskou mši\, hudební vystoupení a kulturní program\, dokument o obci Ryžovna a její historii\, rozhovory s pamětníky a jejich potomky\, nebo na komentovanou procházku s architektem. Stánek Eurocentra Karlovy Vary nebude chybět. Stavte se za námi!\nAkci pořádá nová destinační agentura Krušnohoří / Erzgebirge https://www.krusnehory.cz/ s jejím ředitelem Štěpánem Javůrkem a pivovar Ryžovna https://www.ryzovna.cz/ \nVíce v události na facebooku nebo webu
URL:https://tvorimevropu.showyourweb.cz/event/den-zaniklych-obci-na-ryzovne-3/
CATEGORIES:Karlovy Vary
ATTACH;FMTTYPE=:
END:VEVENT
END:VCALENDAR