BEGIN:VCALENDAR
VERSION:2.0
PRODID:-//Tvoříme Evropu - ECPv6.15.0.1//NONSGML v1.0//EN
CALSCALE:GREGORIAN
METHOD:PUBLISH
X-WR-CALNAME:Tvoříme Evropu
X-ORIGINAL-URL:https://tvorimevropu.showyourweb.cz
X-WR-CALDESC:Akce na Tvoříme Evropu
REFRESH-INTERVAL;VALUE=DURATION:PT1H
X-Robots-Tag:noindex
X-PUBLISHED-TTL:PT1H
BEGIN:VTIMEZONE
TZID:Europe/Prague
BEGIN:DAYLIGHT
TZOFFSETFROM:+0100
TZOFFSETTO:+0200
TZNAME:CEST
DTSTART:20250330T010000
END:DAYLIGHT
BEGIN:STANDARD
TZOFFSETFROM:+0200
TZOFFSETTO:+0100
TZNAME:CET
DTSTART:20251026T010000
END:STANDARD
END:VTIMEZONE
BEGIN:VEVENT
DTSTART;TZID=Europe/Prague:20250717T140000
DTEND;TZID=Europe/Prague:20250717T170000
DTSTAMP:20260420T033026
CREATED:20250715T125823Z
LAST-MODIFIED:20250715T125823Z
UID:169840-1752760800-1752771600@tvorimevropu.showyourweb.cz
SUMMARY:Putování po projektech: Za československým opevněním v Králíkách
DESCRIPTION:Zveme vás na jedinečné odpoledne plné historie\, poznání a evropských souvislostí! v rámci cyklu „Putování po projektech podpořených z fondů EU“ vás tentokrát zavedeme do Králík\, kde se společně vydáme po stopách československého pohraničního opevnění. \n\n\n\nČeká vás komentovaná prohlídka dělostřelecké tvrze Hůrka\, která patří k nejvýznamnějším pevnostním objektům v regionu. Dozvíte se zajímavosti o její stavbě\, vojenské strategii i o tom\, jaké místo zaujímala v obranném systému republiky. \nPoté se po naučné stezce přesuneme k pěchotnímu srubu K–S 14 „U Cihelny“\, kde prohlídku zakončíme odborným výkladem. Během celé akce budete mít možnost nahlédnout do podzemních prostor a přiblížit si význam této části našich moderních dějin. \nKapacita je omezena na 20 osob\, proto je nutná registrace předem na tomto odkazu: https://docs.google.com/forms/d/1W4T3hdke6abluzlxDwmZ2KyZjvsNIvhsm9jr7Ezmv9o/edit. Registrace přijímáme do 16. 7.\, 12:00. \nKdy: čtvrtek 17. července 2025 \nKde: Sraz ve 14:00 na Velkém náměstí v Králíkách (před Městským muzeem a infocentrem) \nProgram: \n\n14:00 – Sraz účastníků na Velkém náměstí před Městským muzeem v Králíkách\n14:30–15:30 – Komentovaná prohlídka dělostřelecké tvrze Hůrka\n15:30–16:30 – Přesun po naučné stezce ke srubu K–S 14 „U Cihelny“\n16:30–17:10 – Prohlídky srubu s výkladem\n\nDoporučujeme pevnou obuv a teplejší oblečení\, zejména pro návštěvu chladnějších podzemních prostor. \nAkci pořádáme ve spolupráci s Eurocentrem Pardubice a Městským muzeem Králíky. \nTěšíme se na vás při putování za poznáním evropských projektů i naší historie!
URL:https://tvorimevropu.showyourweb.cz/event/putovani-po-projektech-za-ceskoslovenskym-opevnenim-v-kralikach/
LOCATION:32338-120-student
CATEGORIES:Pardubice
END:VEVENT
END:VCALENDAR