BEGIN:VCALENDAR
VERSION:2.0
PRODID:-//Tvoříme Evropu - ECPv6.15.0.1//NONSGML v1.0//EN
CALSCALE:GREGORIAN
METHOD:PUBLISH
X-WR-CALNAME:Tvoříme Evropu
X-ORIGINAL-URL:https://tvorimevropu.showyourweb.cz
X-WR-CALDESC:Akce na Tvoříme Evropu
REFRESH-INTERVAL;VALUE=DURATION:PT1H
X-Robots-Tag:noindex
X-PUBLISHED-TTL:PT1H
BEGIN:VTIMEZONE
TZID:UTC
BEGIN:STANDARD
TZOFFSETFROM:+0000
TZOFFSETTO:+0000
TZNAME:UTC
DTSTART:20220101T000000
END:STANDARD
END:VTIMEZONE
BEGIN:VEVENT
DTSTART;VALUE=DATE:20220621
DTEND;VALUE=DATE:20220713
DTSTAMP:20260420T053208
CREATED:20220621T063528Z
LAST-MODIFIED:20220621T063528Z
UID:169290-1655769600-1657670399@tvorimevropu.showyourweb.cz
SUMMARY:Kvíz: Poznejte Tour de France
DESCRIPTION:Francouzské předsednictví se chýlí ke konci a pomyslnou štafetu převezme 1. července Česká republika. Zároveň v tento den startuje legendární francouzský cyklistický závod Tour de France\, který má délku téměř 3500 kilometrů (letošní délka je 3328 km). \nVyzkoušejte kvíz tematicky zaměřený na slavný závod Tour de France a vyhrajte skvělé ceny.  \nSoutěžící\, kteří získají alespoň 7000 bodů\, budou zařazeni do slosování o ceny. \nSoutěž trvá do 12. července 2022.  \n 
URL:https://tvorimevropu.showyourweb.cz/event/kviz-poznejte-tour-de-france-3/
CATEGORIES:Ústí nad Labem
ATTACH;FMTTYPE=:
END:VEVENT
BEGIN:VEVENT
DTSTART;TZID=UTC:20220504T163000
DTEND;TZID=UTC:20220504T173000
DTSTAMP:20260420T053208
CREATED:20220419T090625Z
LAST-MODIFIED:20220419T090625Z
UID:169247-1651681800-1651685400@tvorimevropu.showyourweb.cz
SUMMARY:FRANCIE: Za inspirací na kraj světa II
DESCRIPTION:Bretaňské pobřeží lemované majáky se stalo námětem pro mnohé umělce. Turisty zde lákají malebná městečka s historickými přístavy\, vydatná kuchyně či cidre. Inspiraci však můžeme nalézt nejen v nespoutaném oceánu a mýtické kultuře\, ale také v nových projektech\, jež do regionu vnášejí svěží vítr. \nO své impresi z putování po bretaňském pobřeží se s námi podělí Dominik Plíhal\, který v regionu absolvoval pracovní stáž a účastnil se dobrovolnické mise. \nAkce se koná u příležitosti předsednictví Francie v Radě EU. \nPozvánka zde: Francie – Vietnamská \n \n 
URL:https://tvorimevropu.showyourweb.cz/event/francie-za-inspiraci-na-kraj-sveta-ii-3/
CATEGORIES:Ostrava
END:VEVENT
BEGIN:VEVENT
DTSTART;TZID=UTC:20220503T170000
DTEND;TZID=UTC:20220503T180000
DTSTAMP:20260420T053208
CREATED:20220419T085115Z
LAST-MODIFIED:20220419T085115Z
UID:169245-1651597200-1651600800@tvorimevropu.showyourweb.cz
SUMMARY:FRANCIE: Za inspirací na kraj světa
DESCRIPTION:Bretaňské pobřeží lemované majáky se stalo námětem pro mnohé umělce. Turisty zde lákají malebná městečka s historickými přístavy\, vydatná kuchyně či cidre. Inspiraci však můžeme nalézt nejen v nespoutaném oceánu a mýtické kultuře\, ale také v nových projektech\, jež do regionu vnášejí svěží vítr. \nO své impresi z putování po bretaňském pobřeží se s námi podělí Dominik Plíhal\, který v regionu absolvoval pracovní stáž a účastnil se dobrovolnické mise. \nAkce se koná u příležitosti předsednictví Francie v Radě EU. \nPozvánka zde: Francie – Jiřího Trnky
URL:https://tvorimevropu.showyourweb.cz/event/francie-za-inspiraci-na-kraj-sveta-3/
CATEGORIES:Ostrava
END:VEVENT
BEGIN:VEVENT
DTSTART;TZID=UTC:20220311T110000
DTEND;TZID=UTC:20220311T123000
DTSTAMP:20260420T053208
CREATED:20220304T101703Z
LAST-MODIFIED:20220304T101703Z
UID:169170-1646996400-1647001800@tvorimevropu.showyourweb.cz
SUMMARY:Dny Francie aneb Česko a Francie v čele EU
DESCRIPTION:Eurocentrum Pardubice si pro studenty Univerzity třetího věku Univerzity Pardubice připravilo přednášku na téma Dny Francie aneb Česko a Francie v čele EU. Pozvání na akci přijal Mgr. Simon Gilmer\, ředitel Francouzské aliance Pardubice. Akce se uskuteční v pátek 11.3.2022 v době od 11:00 do 12:30 hodin v budově Dopravní fakulty Jana Pernera Univerzity Pardubice\, Studentská 95\, 532 10 Pardubice\, učebně B5. \nObsahem přednášky bude téma českého a francouzského předsednictví v Radě EU\, stejně jako zajímavosti o Francii\, zemích tzv. Frankofonie\, francouzské kultuře a gastronomii. Pro účastníky bude rovněž připraveno drobné občerstvení. \nAkce je organizována Eurocentrem Pardubice ve spolupráci s Univerzitou Pardubice a Francouzskou aliancí Pardubice. \nAkce také tematicky odpovídá prioritám Národního konventu o EU: Program předsednického tria Francie-ČR-Švédsko. Tímto tématem se Národní konvent o EU zabýval v roce 2021. \nNárodní konvent o Evropské unii je diskuzní platforma\, která představuje stálé místo pro debatu o evropských otázkách v ČR a koordinaci pozice ČR v EU. Činnost Národního konventu probíhá formou konferencí\, kulatých stolů a veřejných debat (seminářů) v Praze a v regionech České republiky.
URL:https://tvorimevropu.showyourweb.cz/event/dny-francie-aneb-cesko-a-francie-v-cele-eu-3/
CATEGORIES:Pardubice
ATTACH;FMTTYPE=:
END:VEVENT
BEGIN:VEVENT
DTSTART;VALUE=DATE:20220311
DTEND;VALUE=DATE:20220401
DTSTAMP:20260420T053208
CREATED:20220311T093715Z
LAST-MODIFIED:20220311T093715Z
UID:169186-1646956800-1648771199@tvorimevropu.showyourweb.cz
SUMMARY:Soutěž - Poznejte Francii
DESCRIPTION:VÝHERCI soutěže jsou: pan Jiří K.\, pan Eduard S. a paní Eva K. Gratulujeme! \nFrancie je rozlohou největším státem Evropské unie a nabízí návštěvníkům nepřeberné množství turistických cílů. Ať už Vás láká lyžování v Alpách\, ochutnávání vín a francouzského jídla\, azurově modré moře francouzské Riviéry\, návštěva nádherných zámků nebo architektura a kultura Paříže\, Francie Vás v tomto ohledu nezklame. Zkuste poznat šest známých míst Francie a máte šanci vyhrát skvělé ceny. \nSoutěž se koná v rámci předsednictví Francie v Radě EU\, které trvá do 30. 6. 2022. Poté převezme předsednictví  na půl roku Česká republika. \nVaše odpovědi posílejte na e-mail: Eurocentrum.ul@euroskop.cz \nSoutěž probíhá do 31. 3. 2022 \nZe správných odpovědí budou vylosování tři výherci\, kteří budou kontaktováni e-mailem. Výhry budou odeslány v první polovině dubna 2022.
URL:https://tvorimevropu.showyourweb.cz/event/soutez-poznejte-francii-3/
CATEGORIES:Ústí nad Labem
ATTACH;FMTTYPE=image/gif:https://tvorimevropu.showyourweb.cz/wp-content/uploads/2022/01/7e69dad1778e1c321b066fb16e432b82.gif
END:VEVENT
END:VCALENDAR