BEGIN:VCALENDAR
VERSION:2.0
PRODID:-//Tvoříme Evropu - ECPv6.15.0.1//NONSGML v1.0//EN
CALSCALE:GREGORIAN
METHOD:PUBLISH
X-ORIGINAL-URL:https://tvorimevropu.showyourweb.cz
X-WR-CALDESC:Akce na Tvoříme Evropu
REFRESH-INTERVAL;VALUE=DURATION:PT1H
X-Robots-Tag:noindex
X-PUBLISHED-TTL:PT1H
BEGIN:VTIMEZONE
TZID:UTC
BEGIN:STANDARD
TZOFFSETFROM:+0000
TZOFFSETTO:+0000
TZNAME:UTC
DTSTART:20220101T000000
END:STANDARD
END:VTIMEZONE
BEGIN:VEVENT
DTSTART;TZID=UTC:20220823T170000
DTEND;TZID=UTC:20220823T183000
DTSTAMP:20260420T053313
CREATED:20220729T102346Z
LAST-MODIFIED:20220729T102346Z
UID:169301-1661274000-1661279400@tvorimevropu.showyourweb.cz
SUMMARY:Putování po projektech: Křížem krážem Chocní
DESCRIPTION:Co byste řekli na pozvání k prohlídce krásného města Choceň v podhůří Orlických hor\, které se pyšní mnoha turistickými zajímavostmi? Přijali byste naše pozvání k návštěvě zdejší zámecké kaple? a chtěli byste si poslechnout to nejdůležitější o historii i současnosti tohoto města z úst odborníka na slovo vzatého? Pokud jste v průběhu čtení předchozích řádků pokývali hlavou\, pak jste u nás správně. \nSrdečně Vás zveme na prohlídku Chocně\, kde mimo jiné uvidíte choceňský zámek\, kostel sv. Františka Serafínského\, zvonici a náměstí. Zavítáme také do revitalizovaného přednádraží či zahrad zámeckého parku. Uvidíte však i mnohé další. \nPrůvodcem nám bude pan vedoucí Orlického muzea v Chocni\, Mgr. Michal Hofman. \nTěšíme se na Vás! \nKapacita je omezena\, prosíme o registraci předem. \nAkce je zdarma. \nKontaktní osoba: PhDr. Radka Kozlová\, tel: +420 739 682 806\, email: radka.kozlova@mmr.cz \nSpolupořadatelem této akce je také středisko Europe Direct Pardubice.
URL:https://tvorimevropu.showyourweb.cz/event/putovani-po-projektech-krizem-krazem-chocni-3/
CATEGORIES:Pardubice
ATTACH;FMTTYPE=:
END:VEVENT
BEGIN:VEVENT
DTSTART;TZID=UTC:20220514T090000
DTEND;TZID=UTC:20220514T150000
DTSTAMP:20260420T053313
CREATED:20220503T103903Z
LAST-MODIFIED:20220503T103903Z
UID:169264-1652518800-1652540400@tvorimevropu.showyourweb.cz
SUMMARY:Den otevřených dveří v Dopravním podniku města Pardubic
DESCRIPTION:Eurocentrum Pardubice a Dopravní podnik města Pardubic\, a.s. zvou všechny zájemce k návštěvě areálu Dopravního podniku města Pardubic a.s.\, který v letošním roce slaví výročí 70 let trolejbusové dopravy! \nPrávě při této příležitosti otevírá své brány veřejnosti poprvé od roku 2015. Návštěvníci se mohou těšit na prohlídku samotné vozovny včetně jejího technického zázemí. Ke zhlédnutí budou nejen tyto prostory\, ale na místě budou také vystaveny historické i moderní vozy. Lákavou součástí programu bude vyhlídková jízda po městě a jeho přilehlém okolí. \nVozový park prošel v nedávné době velmi náročnou a nákladnou obměnou. Nákup nových autobusů a trolejbusů byl podpořen z fondů Evropské unie. Přijměte pozvání s námi posoudit výsledek těchto změn. Uvidíte\, že čas\, jenž s námi strávíte\, bude stát určitě za to! \nCo vše bude během dne možné navštívit?\nv rámci komentované prohlídky budou otevřeny běžně nepřístupné části areálu vozovny. Návštěvníci tak budou moci nahlédnout mimo jiné například do prostor údržby\, myčky\, lakovny či autoškoly. Jednotlivé skupinky bude provázet odborný personál\, který rovněž zodpoví případné dotazy. na prohlídku není třeba předchozí registrace. \nA na jaký doprovodný program se můžete těšit?\nVeškerý program v průběhu dne bude zdarma.\nPro děti bude připraveno množství aktivit na různých stanovištích\, za které budou odměněny drobnými cenami. \nV průběhu celé akce bude zajištěna hudba. Vystoupení pro naše nejmenší si připraví paní Markéta Havlová. Děti se tak mohou těšit na vyprávění pohádky za doprovodu široké škály hudebních nástrojů. \nAreál bude přístupný po celou dobu akce. na komentované prohlídky není třeba předchozí registrace. \nNa akci nebude chybět ani stánek Eurocentra Pardubice a Domu zahraniční spolupráce s informacemi o Evropské unii\, evropských příležitostech pro mládež či o blížícím se českém předsednictví v Radě EU. Součástí budou rovněž soutěže o drobné ceny na cesty! \nAkce je ZDARMA. \nTěšíme se na vás!
URL:https://tvorimevropu.showyourweb.cz/event/den-otevrenych-dveri-v-dopravnim-podniku-mesta-pardubic-3/
CATEGORIES:Pardubice
ATTACH;FMTTYPE=:
END:VEVENT
BEGIN:VEVENT
DTSTART;TZID=UTC:20220412T083000
DTEND;TZID=UTC:20220412T150000
DTSTAMP:20260420T053313
CREATED:20220330T112638Z
LAST-MODIFIED:20220330T112638Z
UID:169241-1649752200-1649775600@tvorimevropu.showyourweb.cz
SUMMARY:E-Mobilita
DESCRIPTION:Diskuzní fórum na téma ekologizace dopravy Moravskoslezského kraje bude věnováno chytré mobilitě\, jejímu současnému stavu především v Moravskoslezském kraji\, možnostem jejího rozvoje jak ve veřejném\, tak soukromém sektoru. \nPředstavíme vhodné dotační nástroje\, zabývat se budeme stávající legislativou\, infrastrukturou a její připraveností na expanzi nízkouhlíkové dopravy. Rozvineme debatu o veřejné i firemní dopravě\, využití ekologických dopravních prostředků v komunálních službách. Tématem bude také aktuální světové dění a vliv na Green Deal. \nDetailní PROGRAM naleznete zde. \nCílem je inspirovat a podělit se o cenné a praktické informace. \nAkce je ZDARMA. Registrace ZDE. \n \n 
URL:https://tvorimevropu.showyourweb.cz/event/e-mobilita-3/
CATEGORIES:Ostrava
END:VEVENT
END:VCALENDAR