BEGIN:VCALENDAR
VERSION:2.0
PRODID:-//Tvoříme Evropu - ECPv6.15.0.1//NONSGML v1.0//EN
CALSCALE:GREGORIAN
METHOD:PUBLISH
X-ORIGINAL-URL:https://tvorimevropu.showyourweb.cz
X-WR-CALDESC:Akce na Tvoříme Evropu
REFRESH-INTERVAL;VALUE=DURATION:PT1H
X-Robots-Tag:noindex
X-PUBLISHED-TTL:PT1H
BEGIN:VTIMEZONE
TZID:UTC
BEGIN:STANDARD
TZOFFSETFROM:+0000
TZOFFSETTO:+0000
TZNAME:UTC
DTSTART:20220101T000000
END:STANDARD
END:VTIMEZONE
BEGIN:VEVENT
DTSTART;TZID=UTC:20230630T080000
DTEND;TZID=UTC:20230708T170000
DTSTAMP:20260420T032957
CREATED:20230630T133459Z
LAST-MODIFIED:20230630T133459Z
UID:169794-1688112000-1688835600@tvorimevropu.showyourweb.cz
SUMMARY:Mezinárodní filmový festival v Karlových Varech
DESCRIPTION:Začíná 57. ročník KVIFF! \nMezinárodní filmový festival Karlovy Vary (MFF) je největší filmový festival v České republice a nejprestižnější filmový festival ve střední a východní Evropě. Jako jeden z nejstarších je zařazen do kategorie a (tj. nespecializovaný festival se soutěží celovečerních hraných filmů) například spolu s festivaly v Cannes\, Berlíně\, Benátkách\, Locarnu\, San Sebastianu\, Montrealu\, Šanghaji nebo Tokiu. Mezi filmaři\, buyery\, distributory\, sales agenty a novináři je považován za nejdůležitější událost ve střední a východní Evropě vůbec. \nFestival představí každoročně na 200 filmů z celého světa a pravidelně se na něm objevují slavní a významní filmoví tvůrci. Pravidelně zde bývají uveřejněny i filmy podpořené evropským programem Kreativní Evropa MEDIA\, letos to bude 10 filmů. MFF Karlovy Vary je určen laické i odborné veřejnosti a nabízí svým návštěvníkům pečlivě koncipovaný program\, kvalitní zázemí a široký servis služeb. \nVše o festivalu najdete na webu nebo Facebooku \nAle nejlepší je\, zažít ho na vlastní oči!
URL:https://tvorimevropu.showyourweb.cz/event/mezinarodni-filmovy-festival-v-karlovych-varech-3/
CATEGORIES:Karlovy Vary
ATTACH;FMTTYPE=image/jpeg:https://tvorimevropu.showyourweb.cz/wp-content/uploads/2022/01/26510-120-vw.jpg
END:VEVENT
BEGIN:VEVENT
DTSTART;TZID=UTC:20230627T090000
DTEND;TZID=UTC:20230628T140000
DTSTAMP:20260420T032957
CREATED:20230531T101136Z
LAST-MODIFIED:20230531T101136Z
UID:169785-1687856400-1687960800@tvorimevropu.showyourweb.cz
SUMMARY:Výroční setkání Iniciativy EU pro uhelné regiony v transformaci
DESCRIPTION:Již 4. výroční společenský dialog Iniciativy EU pro uhelné regiony v transformaci se bude konat ve dnech 27.–28. června 2023 v Karlových Varech. Akci pořádá Evropská komise a Karlovarský kraj s podporou Evropského výboru regionů. Místem konání prvního dne konference bude čerstvě zrekonstruovaný objekt Císařských Lázní. \nPro zúčastněné strany ze všech uhelných\, rašelinových\, lignitových a ropných břidlicových regionů EU to bude příležitost sejít se\, zhodnotit vývoj dosažený od zahájení iniciativy v roce 2018 a prodiskutovat společné výzvy\, kterým čelí v dnešní rychle se měnící situaci v oblasti energetiky. Diskuse bude probíhat s těmi\, kteří navrhují a realizují transformaci v uhelných regionech\, v hlavních městech EU a v Bruselu. Program zahrnuje strategické diskuse na vysoké úrovni o tom\, s čím budou uhelné regiony EU konfrontovány na své cestě ke klimatické neutralitě a jak lze klimatické neutrality dosáhnout spravedlivým a inkluzivním způsobem. Druhý den konference budou návštěvy regionálních projektů a lokalit souvisejících s transformací.\nBěhem akce povede diskuse řada řečníků na vysoké úrovni\, např:\nKadri Simson\, komisařka EU pro energetiku\nElisa Ferreira\, komisařka EU pro soudržnost a reformy \nPetr Kulhánek\, hejtman Karlovarského kraje\nPrvní den bude zahájen doprovodnou akcí zaměřenou na výměnný program EU (27. června od 9:30–10:30)\, po níž bude následovat oficiální zahájení konference. Odpoledne program bude rozdělen do třech paralelních dílčí sekcí\, kde se budou diskutovat témata související s přechodem regionů. \nTermín pro přihlášení k osobní účasti je 1. června 2023. Uzávěrka pro registraci virtuální účasti je 26. června 2023 (živě se bude vysílat pouze úvodní zasedání této události). Upozorňujeme\, že počet účastníků této akce je omezený. Registrace je bezplatná.\nPodrobnosti a možnost registrace zde.
URL:https://tvorimevropu.showyourweb.cz/event/vyrocni-setkani-iniciativy-eu-pro-uhelne-regiony-v-transformaci-3/
CATEGORIES:Karlovy Vary
ATTACH;FMTTYPE=:
END:VEVENT
BEGIN:VEVENT
DTSTART;TZID=UTC:20230221T100000
DTEND;TZID=UTC:20230221T130000
DTSTAMP:20260420T032957
CREATED:20221216T142828Z
LAST-MODIFIED:20221216T142828Z
UID:169512-1676973600-1676984400@tvorimevropu.showyourweb.cz
SUMMARY:Seminář: Dotace EU a audity 2023 - Karlovy Vary
DESCRIPTION:Seminář poskytne informace o nejčastějších nedostatcích a oblastech zjištění při auditech projektů z fondů EU se všeobecným zaměřením na všechny operační programy přímo od zástupců Auditního orgánu.\nPodstatná část semináře bude také věnována informacím o auditech v oblasti veřejných zakázek a v oblasti realizace projektu. v závěru semináře bude vyhrazen dostatečný prostor pro všechny případné dotazy a náměty.\nRegistrujte se prosím nejpozději do 17. 2. 2023 na https://1url.cz/urhFv \nKontaktní osoba: Markéta Novotná\,\ne-mail: marketa.novotna@mmr.cz\, tel.: 704 951 029
URL:https://tvorimevropu.showyourweb.cz/event/seminar-dotace-eu-a-audity-2023-karlovy-vary-3/
CATEGORIES:Karlovy Vary
ATTACH;FMTTYPE=:
END:VEVENT
BEGIN:VEVENT
DTSTART;TZID=UTC:20230220T100000
DTEND;TZID=UTC:20230220T133000
DTSTAMP:20260420T032957
CREATED:20230202T104529Z
LAST-MODIFIED:20230202T104529Z
UID:169577-1676887200-1676899800@tvorimevropu.showyourweb.cz
SUMMARY:Seminář: Dotace EU a audity 2023 - České Budějovice
DESCRIPTION:Seminář: Dotace EU a audity 2023 – České Budějovice \n  \nTermín konání: 20. 2. 2023 10:00 – 13:30 \nAdresa místa konání: Krajský úřad Jihočeského kraje\, u Zimního stadionu 1952/2\, České Budějovice 370 01 \n  \nSeminář poskytne informace o nejčastějších nedostatcích a oblastech zjištění při auditech projektů z fondů EU se všeobecným zaměřením na všechny operační programy přímo od zástupců Auditního orgánu. \n  \nPodstatná část semináře bude také věnována informacím o auditech v oblasti veřejných zakázek a v oblasti realizace projektu. v závěru semináře bude vyhrazen dostatečný prostor pro všechny případné dotazy a náměty. \n  \nVíce informací zde: DotaceEU – Seminář: Dotace EU a audity 2023 – České Budějovice
URL:https://tvorimevropu.showyourweb.cz/event/seminar-dotace-eu-a-audity-2023-ceske-budejovice-3/
CATEGORIES:České Budějovice
ATTACH;FMTTYPE=:
END:VEVENT
BEGIN:VEVENT
DTSTART;TZID=UTC:20230217T100000
DTEND;TZID=UTC:20230217T150000
DTSTAMP:20260420T032957
CREATED:20230131T124519Z
LAST-MODIFIED:20230131T124519Z
UID:169562-1676628000-1676646000@tvorimevropu.showyourweb.cz
SUMMARY:Seminář OP TAK pro Karlovarský kraj
DESCRIPTION:Jste podnikatel či výzkumník? Hledáte finanční podporu svého projektu? Přijďte na seminář věnovaný podpoře uhelným regionům v rámci Operačního programu Technologie a aplikace pro konkurenceschopnost (OP TAK). \nNa akci získáte informace k dočerpávání finančních prostředků z předchozího Operačního programu Podnikání a inovace pro konkurenceschopnost\, budou představeny priority nového OP TAK a seznámíte se i s možnostmi pro podnikatele z dalšího Operačního programu Spravedlivá transformace. Nakonec bude představena i Regionální kancelář Agentury pro podnikání a inovace\, která má na starosti komunikaci s potenciálními žadateli o dotace. \nSeminář se bude konat 17. února na Krajském úřadě Karlovarského kraje\, Závodní 353/88\, v Karlových Varech. \nPodrobný program včetně možnosti registrace najdete zde\nVstup je zdarma.
URL:https://tvorimevropu.showyourweb.cz/event/seminar-op-tak-pro-karlovarsky-kraj-3/
CATEGORIES:Karlovy Vary
ATTACH;FMTTYPE=:
END:VEVENT
BEGIN:VEVENT
DTSTART;TZID=UTC:20221215T150000
DTEND;TZID=UTC:20221215T170000
DTSTAMP:20260420T032957
CREATED:20221214T122440Z
LAST-MODIFIED:20221214T122440Z
UID:169508-1671116400-1671123600@tvorimevropu.showyourweb.cz
SUMMARY:Setkání ke vzniku agentury 4K
DESCRIPTION:Zastupitelstvo Karlovarského kraje schválilo vznik Agentury pro kulturní a kreativní průmysly Karlovarského kraje. Pro nastavení jejího fungování Karlovarský kraj pořádá již druhý společný workshop kreativců a firem z Karlovarského kraje\, na kterém bude zjišťovat potřeby místní podnikatelské a kreativní scény. Hlavním účelem setkání bude zjištění potřeb kreativců a firem a toho\, jak jim nově vzniklá agentura 4K může pomoci v rozvoji. Během setkání bude představena Agentura 4K\, proces jejího vzniku a její možné přínosy pro Karlovarský kraj. \nAkce se koná v Městské knihovně Ostrov\, Zámecký park 224. \nSetkání je součástí přípravy tohoto strategického projektu\, který má vzniknout v rámci procesu Spravedlivé transformace. \nV rámci sběru dat od kreativců a firem ke vzniku 4K je už v tuto chvíli možné vyplnit online dotazník  \nhttps://redpond.cz/?fbclid=IwAR0b9mfMCYYf1jPyl1WkpKtLebBjdMssm9zEJO0ALuyyUc1FH67cu4BGINg
URL:https://tvorimevropu.showyourweb.cz/event/setkani-ke-vzniku-agentury-4k-3/
CATEGORIES:Karlovy Vary
END:VEVENT
BEGIN:VEVENT
DTSTART;TZID=UTC:20221201T090000
DTEND;TZID=UTC:20221201T130000
DTSTAMP:20260420T032957
CREATED:20221125T144551Z
LAST-MODIFIED:20221125T144551Z
UID:169545-1669885200-1669899600@tvorimevropu.showyourweb.cz
SUMMARY:Veletrh dotačních příležitostí se zaměřením na podnikání a průmysl
DESCRIPTION:V jeden čas a na jednom místě máte příležitost konzultovat své záměry nebo jen načerpat informace o dotačních titulech z nejžádanějších operačních programů a jiných zdrojů dotací v České republice. \nÚčast na semináři je bezplatná po předchozí registraci. Registrujte se prostřednictvím QR kódu v plakátku níže nebo na webu CzechInvestu zde. \n1. prosince 2022 | Sál Krajské knihovny Karlovy Vary 9:00—13:00 | Závodní 378/84\, Karlovy Vary
URL:https://tvorimevropu.showyourweb.cz/event/veletrh-dotacnich-prilezitosti-se-zamerenim-zejmena-na-podnikani-a-prumysl-3/
CATEGORIES:Karlovy Vary
END:VEVENT
BEGIN:VEVENT
DTSTART;VALUE=DATE:20221122
DTEND;VALUE=DATE:20221123
DTSTAMP:20260420T032957
CREATED:20221024T122737Z
LAST-MODIFIED:20221024T122737Z
UID:169468-1669075200-1669161599@tvorimevropu.showyourweb.cz
SUMMARY:Jak se v Pardubicích vaří pivo? (exkurze)
DESCRIPTION:Zajímá Vás\, jak probíhá proces výroby piva? Jak se nazývají jednotlivé fáze přípravy? Jaké podmínky jsou pro to nezbytné? a bez kterých surovin se při tom neobejdeme?  \nPřijměte naše pozvání k návštěvě pivovaru v Pardubicích a dozvíte se více o nejnovějších metodách a postupech v oblasti pivovarnictví. \nPivovar v Pardubicích prošel v minulých letech nákladnou modernizací\, která byla částečně podpořena z fondů EU. Pojďme se podívat\, jak se změna povedla\, a nejen na to. \nBěhem komentované prohlídky se seznámíme s celým areálem\, na jehož pozadí pronikneme do tajů této zajímavé práce. \nAkce je bezplatná a je určena studentům Univerzity třetího věku Univerzity Pardubice. \nKontaktní osoba: Radka Kozlová\, tel: +420 739 682 806\, email: radka.kozlova@mmr.cz. \nKdy: 22.11.2022 \nKde: Pardubický pivovar\, Palackého třída 250\, 530 33\, Pardubice \nTěšíme se na setkání! \n \n 
URL:https://tvorimevropu.showyourweb.cz/event/jak-se-v-pardubicich-vari-pivo-exkurze-3/
CATEGORIES:Pardubice
ATTACH;FMTTYPE=image/jpeg:https://tvorimevropu.showyourweb.cz/wp-content/uploads/2022/01/30747-er6.jpg
END:VEVENT
BEGIN:VEVENT
DTSTART;TZID=UTC:20221108T090000
DTEND;TZID=UTC:20221108T160000
DTSTAMP:20260420T032957
CREATED:20221009T110818Z
LAST-MODIFIED:20221009T110818Z
UID:169440-1667898000-1667923200@tvorimevropu.showyourweb.cz
SUMMARY:Seminář Dotace EU a finanční řízení 2022
DESCRIPTION:  \nNové programové období naplno odstartovalo a s ním i první výzvy. Chcete získat informace jak správně finančně řídit projekt z fondů EU? Přijďte na seminář Eurocentra Karlovy Vary „Dotace EU a finanční řízení 2022“.\nSeminář je určen pro cílovou skupinu žadatelů a příjemců podpory z fondů EU a je ZDARMA. Aktualizovanou podobou navazujeme na úspěšný cyklus seminářů z minulých let. Pro praktické ukázky a cvičení je vhodné mít s sebou vlastní notebook či obdobné mobilní zařízení.\nŠkolitel: Ing. Lukáš Melecký\, PhD.\nKapacita omezená\, registrujte se prosím nejpozději do 2.11.2022 (https://1url.cz/nr2i2).\nKontaktní osoba: Markéta Novotná\, e-mail: marketa.novotna@mmr.cz\, tel.: 704 951 029
URL:https://tvorimevropu.showyourweb.cz/event/seminar-dotace-eu-a-financni-rizeni-2022-3/
CATEGORIES:Karlovy Vary
END:VEVENT
BEGIN:VEVENT
DTSTART;TZID=UTC:20221107T090000
DTEND;TZID=UTC:20221107T160000
DTSTAMP:20260420T032957
CREATED:20221009T105658Z
LAST-MODIFIED:20221009T105658Z
UID:169438-1667811600-1667836800@tvorimevropu.showyourweb.cz
SUMMARY:Seminář Dotace EU a projektové řízení 2022
DESCRIPTION:Nové programové období naplno odstartovalo a s ním i první výzvy. Chcete získat informace jak správně řídit projekt z fondů EU? Přijďte na seminář Eurocentra Karlovy Vary „Dotace EU a projektové řízení 2022“.\nBezplatný seminář je určen pro cílovou skupinu žadatelů a příjemců podpory z fondů EU. Aktualizovanou podobou navazujeme na úspěšný cyklus seminářů z minulých let. Pro praktické ukázky a cvičení je vhodné mít s sebou vlastní notebook či obdobné mobilní zařízení.\nŠkolitel: Ing. Lukáš Melecký\, PhD.\nKapacita omezená\, registrujte se prosím nejpozději do 1.11.2022 (https://1url.cz/nr2i2).\nKontaktní osoba: Markéta Novotná\, e-mail: marketa.novotna@mmr.cz\, tel.: 704 951 029
URL:https://tvorimevropu.showyourweb.cz/event/seminar-dotace-eu-a-projektove-rizeni-2022-3/
CATEGORIES:Karlovy Vary
END:VEVENT
BEGIN:VEVENT
DTSTART;TZID=UTC:20221005T130000
DTEND;TZID=UTC:20221005T150000
DTSTAMP:20260420T032957
CREATED:20221004T120548Z
LAST-MODIFIED:20221004T120548Z
UID:169423-1664974800-1664982000@tvorimevropu.showyourweb.cz
SUMMARY:Evropská unie: Vše\, co Vás zajímá
DESCRIPTION:Přijďte se zeptat na vše\, co Vás zajímá k tématu Evropské unie a aktuálního dění! \n\nJak funguje Evropská unie?\nJak je to doopravdy s pomazánkovým máslem\, křivými banány a zákazem prodeje vysavačů?\nCo je to české předsednictví v Radě EU a jaká je jeho role?\nKde fondy EU pomáhají?\n\nKdy: 5. října 2022\, 13:00 \nKde: spolek Hurá na Výlet!\, Široká 29\, 537 01 Chrudim \nNa konci programu nebude chybět soutěž o drobné ceny Eurocentra Pardubice! \n \n 
URL:https://tvorimevropu.showyourweb.cz/event/evropska-unie-vse-co-vas-zajima-3/
CATEGORIES:Pardubice
ATTACH;FMTTYPE=image/jpeg:https://tvorimevropu.showyourweb.cz/wp-content/uploads/2022/01/31288-usegalileo_pic.jpg
END:VEVENT
BEGIN:VEVENT
DTSTART;TZID=UTC:20220825T100000
DTEND;TZID=UTC:20220825T170000
DTSTAMP:20260420T032957
CREATED:20220727T113916Z
LAST-MODIFIED:20220727T113916Z
UID:169299-1661421600-1661446800@tvorimevropu.showyourweb.cz
SUMMARY:Den v Muzeu Berlova vápenka
DESCRIPTION:Muzeum Berlova vápenka v Třemošnici otevírá ve čtvrtek 25. srpna své brány! Nachází se v nově postavené budově\, která věrně kopíruje původní objekt\, jenž dříve stával v těsné blízkosti vápenky. Rozsáhlé stavební úpravy\, kterými muzeum prošlo v minulých letech\, byly podpořeny z prostředků EU. Přijměte naše pozvání posoudit výsledek těchto změn. Troufáme si říct\, že čas strávený s námi bude stát za to! \nCo vše bude během dne možné navštívit? \nCelým prostorem si budete moci projít volně nebo využít možnosti komentované prohlídky s odborným průvodcem. v rámci svého vyprávění nás zavede do historie a dozvíme se\, jak vápenka fungovala v dobách dávno minulých. Budeme si moci obtěžkat nástroje\, které tu k práci používali dělníci. na vlastní kůži tak poznáme\, že pracovat zde nebyl žádný med. Pohlédneme také do nitra pece\, kde září oheň. ale nebojte\, určitě se nespálíme\, jedná se totiž o imitaci. Třešničkou na dortu bude možnost postavit se dovnitř pece a obdivovat vysoký komín přímo nad námi. Prohlédneme si rovněž suroviny\, ze kterých se vyrábí cement i vápno a společně také nahlédneme do tajemství jejich výroby.\nZavítáme i do přilehlého Zemědělského muzea\, které svojí expozicí dokreslí dobu\, kdy vápenka fungovala. \nA na jaký doprovodný program se můžete těšit? \nVeškerý program v průběhu dne bude zdarma. Bude opravdu pestrý\, však posuďte sami. \n\nBudete si moci vyzkoušet virtuální realitu nebo si vyrobit vlastní odznáček. Čekat na Vás bude také kolo štěstí a pokud vyhrajete\, odnesete si malý dárek.\nPro děti bude připravena dílnička\, ve které si budou moci akrylovými barvami namalovat kamínek.\nNaše ratolesti také budou moci navštívit různá stanoviště\, kde budou plnit lehké úkoly nebo zodpovídat různé otázky\, po jejichž splnění budou odměněni drobnými cenami. \nSvé služby na akci představí také Eurocentrum Pardubice a Dům zahraniční spolupráce. \nZ kapacitních důvodů prosíme o registraci na komentované prohlídky předem. \nAkce je zdarma. \nKontaktní osoba: Radka Kozlová\, Eurocentrum Pardubice (tel. 739 682 806\, email radka.kozlova@mmr.cz). \nAreál bude volně přístupný po celou dobu akce.
URL:https://tvorimevropu.showyourweb.cz/event/den-v-muzeu-berlova-vapenka-3/
CATEGORIES:Pardubice
ATTACH;FMTTYPE=:
END:VEVENT
BEGIN:VEVENT
DTSTART;TZID=UTC:20220823T170000
DTEND;TZID=UTC:20220823T183000
DTSTAMP:20260420T032957
CREATED:20220729T102346Z
LAST-MODIFIED:20220729T102346Z
UID:169301-1661274000-1661279400@tvorimevropu.showyourweb.cz
SUMMARY:Putování po projektech: Křížem krážem Chocní
DESCRIPTION:Co byste řekli na pozvání k prohlídce krásného města Choceň v podhůří Orlických hor\, které se pyšní mnoha turistickými zajímavostmi? Přijali byste naše pozvání k návštěvě zdejší zámecké kaple? a chtěli byste si poslechnout to nejdůležitější o historii i současnosti tohoto města z úst odborníka na slovo vzatého? Pokud jste v průběhu čtení předchozích řádků pokývali hlavou\, pak jste u nás správně. \nSrdečně Vás zveme na prohlídku Chocně\, kde mimo jiné uvidíte choceňský zámek\, kostel sv. Františka Serafínského\, zvonici a náměstí. Zavítáme také do revitalizovaného přednádraží či zahrad zámeckého parku. Uvidíte však i mnohé další. \nPrůvodcem nám bude pan vedoucí Orlického muzea v Chocni\, Mgr. Michal Hofman. \nTěšíme se na Vás! \nKapacita je omezena\, prosíme o registraci předem. \nAkce je zdarma. \nKontaktní osoba: PhDr. Radka Kozlová\, tel: +420 739 682 806\, email: radka.kozlova@mmr.cz \nSpolupořadatelem této akce je také středisko Europe Direct Pardubice.
URL:https://tvorimevropu.showyourweb.cz/event/putovani-po-projektech-krizem-krazem-chocni-3/
CATEGORIES:Pardubice
ATTACH;FMTTYPE=:
END:VEVENT
BEGIN:VEVENT
DTSTART;TZID=UTC:20220514T090000
DTEND;TZID=UTC:20220514T150000
DTSTAMP:20260420T032957
CREATED:20220503T103903Z
LAST-MODIFIED:20220503T103903Z
UID:169264-1652518800-1652540400@tvorimevropu.showyourweb.cz
SUMMARY:Den otevřených dveří v Dopravním podniku města Pardubic
DESCRIPTION:Eurocentrum Pardubice a Dopravní podnik města Pardubic\, a.s. zvou všechny zájemce k návštěvě areálu Dopravního podniku města Pardubic a.s.\, který v letošním roce slaví výročí 70 let trolejbusové dopravy! \nPrávě při této příležitosti otevírá své brány veřejnosti poprvé od roku 2015. Návštěvníci se mohou těšit na prohlídku samotné vozovny včetně jejího technického zázemí. Ke zhlédnutí budou nejen tyto prostory\, ale na místě budou také vystaveny historické i moderní vozy. Lákavou součástí programu bude vyhlídková jízda po městě a jeho přilehlém okolí. \nVozový park prošel v nedávné době velmi náročnou a nákladnou obměnou. Nákup nových autobusů a trolejbusů byl podpořen z fondů Evropské unie. Přijměte pozvání s námi posoudit výsledek těchto změn. Uvidíte\, že čas\, jenž s námi strávíte\, bude stát určitě za to! \nCo vše bude během dne možné navštívit?\nv rámci komentované prohlídky budou otevřeny běžně nepřístupné části areálu vozovny. Návštěvníci tak budou moci nahlédnout mimo jiné například do prostor údržby\, myčky\, lakovny či autoškoly. Jednotlivé skupinky bude provázet odborný personál\, který rovněž zodpoví případné dotazy. na prohlídku není třeba předchozí registrace. \nA na jaký doprovodný program se můžete těšit?\nVeškerý program v průběhu dne bude zdarma.\nPro děti bude připraveno množství aktivit na různých stanovištích\, za které budou odměněny drobnými cenami. \nV průběhu celé akce bude zajištěna hudba. Vystoupení pro naše nejmenší si připraví paní Markéta Havlová. Děti se tak mohou těšit na vyprávění pohádky za doprovodu široké škály hudebních nástrojů. \nAreál bude přístupný po celou dobu akce. na komentované prohlídky není třeba předchozí registrace. \nNa akci nebude chybět ani stánek Eurocentra Pardubice a Domu zahraniční spolupráce s informacemi o Evropské unii\, evropských příležitostech pro mládež či o blížícím se českém předsednictví v Radě EU. Součástí budou rovněž soutěže o drobné ceny na cesty! \nAkce je ZDARMA. \nTěšíme se na vás!
URL:https://tvorimevropu.showyourweb.cz/event/den-otevrenych-dveri-v-dopravnim-podniku-mesta-pardubic-3/
CATEGORIES:Pardubice
ATTACH;FMTTYPE=:
END:VEVENT
BEGIN:VEVENT
DTSTART;TZID=UTC:20220412T083000
DTEND;TZID=UTC:20220412T150000
DTSTAMP:20260420T032957
CREATED:20220330T112638Z
LAST-MODIFIED:20220330T112638Z
UID:169241-1649752200-1649775600@tvorimevropu.showyourweb.cz
SUMMARY:E-Mobilita
DESCRIPTION:Diskuzní fórum na téma ekologizace dopravy Moravskoslezského kraje bude věnováno chytré mobilitě\, jejímu současnému stavu především v Moravskoslezském kraji\, možnostem jejího rozvoje jak ve veřejném\, tak soukromém sektoru. \nPředstavíme vhodné dotační nástroje\, zabývat se budeme stávající legislativou\, infrastrukturou a její připraveností na expanzi nízkouhlíkové dopravy. Rozvineme debatu o veřejné i firemní dopravě\, využití ekologických dopravních prostředků v komunálních službách. Tématem bude také aktuální světové dění a vliv na Green Deal. \nDetailní PROGRAM naleznete zde. \nCílem je inspirovat a podělit se o cenné a praktické informace. \nAkce je ZDARMA. Registrace ZDE. \n \n 
URL:https://tvorimevropu.showyourweb.cz/event/e-mobilita-3/
CATEGORIES:Ostrava
END:VEVENT
END:VCALENDAR