BEGIN:VCALENDAR
VERSION:2.0
PRODID:-//Tvoříme Evropu - ECPv6.15.0.1//NONSGML v1.0//EN
CALSCALE:GREGORIAN
METHOD:PUBLISH
X-WR-CALNAME:Tvoříme Evropu
X-ORIGINAL-URL:https://tvorimevropu.showyourweb.cz
X-WR-CALDESC:Akce na Tvoříme Evropu
REFRESH-INTERVAL;VALUE=DURATION:PT1H
X-Robots-Tag:noindex
X-PUBLISHED-TTL:PT1H
BEGIN:VTIMEZONE
TZID:UTC
BEGIN:STANDARD
TZOFFSETFROM:+0000
TZOFFSETTO:+0000
TZNAME:UTC
DTSTART:20240101T000000
END:STANDARD
END:VTIMEZONE
BEGIN:VEVENT
DTSTART;TZID=UTC:20240422T110000
DTEND;TZID=UTC:20240422T160000
DTSTAMP:20260420T033000
CREATED:20240416T120121Z
LAST-MODIFIED:20240416T120121Z
UID:170119-1713783600-1713801600@tvorimevropu.showyourweb.cz
SUMMARY:Den Evropy na TUL!
DESCRIPTION:Oslav s námi blížící se Den Evropy a to\, že ČR je již 20 let v Evropské unii! Akce bude probíhat na Univerzitním náměstí u Technické univerzity v Liberci. v případě deště se přesune do budovy menzy.  \n\n\n\nProgram:  \n\n\n\nOd 11:00 – 13:00 Speak dating  \n\n\n\nSedni si k rodilým mluvčím z nejrůznějších zemí. Můžete se seznámit\, naučit se pár slov v jejich rodném jazyku\, poznat hlouběji jejich kulturu nebo se jich třeba zeptat\, jak se jim zde studuje\, pracuje. \n\n\n\nOd 14:00 Flag Parade. \n\n\n\nPřidejte se na pochod po Liberci s vlajkami. Startujeme rovněž na Univerzitním náměstí. \nBěhem celého dne: soutěže\, informační stánky o příležitostech v zahraničí i o našem členství v EU.  \n \n  \nTěšíme se na Vás!
URL:https://tvorimevropu.showyourweb.cz/event/den-evropy-na-tul-3/
CATEGORIES:20 let v EU,Liberec
END:VEVENT
END:VCALENDAR