BEGIN:VCALENDAR
VERSION:2.0
PRODID:-//Tvoříme Evropu - ECPv6.15.0.1//NONSGML v1.0//EN
CALSCALE:GREGORIAN
METHOD:PUBLISH
X-WR-CALNAME:Tvoříme Evropu
X-ORIGINAL-URL:https://tvorimevropu.showyourweb.cz
X-WR-CALDESC:Akce na Tvoříme Evropu
REFRESH-INTERVAL;VALUE=DURATION:PT1H
X-Robots-Tag:noindex
X-PUBLISHED-TTL:PT1H
BEGIN:VTIMEZONE
TZID:Europe/Prague
BEGIN:DAYLIGHT
TZOFFSETFROM:+0100
TZOFFSETTO:+0200
TZNAME:CEST
DTSTART:20240331T010000
END:DAYLIGHT
BEGIN:STANDARD
TZOFFSETFROM:+0200
TZOFFSETTO:+0100
TZNAME:CET
DTSTART:20241027T010000
END:STANDARD
END:VTIMEZONE
BEGIN:VTIMEZONE
TZID:UTC
BEGIN:STANDARD
TZOFFSETFROM:+0000
TZOFFSETTO:+0000
TZNAME:UTC
DTSTART:20230101T000000
END:STANDARD
END:VTIMEZONE
BEGIN:VEVENT
DTSTART;TZID=Europe/Prague:20241213T193000
DTEND;TZID=Europe/Prague:20241213T223000
DTSTAMP:20260419T214151
CREATED:20241212T220418Z
LAST-MODIFIED:20241212T220418Z
UID:170381-1734118200-1734129000@tvorimevropu.showyourweb.cz
SUMMARY:Evropský filmový kvíz
DESCRIPTION:Osvědčený koncept znalostních kvízů pro vícečlenné týmy. Již potřetí! \nMísto konání je FilmCafé a Kino Drahomíra v Karlových Varech a tak není divu\, že kvíz bude filmový. \nOtázky budou na hlášky z filmů\, herce a herečky\, filmovou hudbu a další podobná témata. Takže jestli máte rádi filmy a baví vás soutěžit\, přijďte v pátek 13. prosince od 19:30 do multižánrového kina Drahomíra. \nTentokrát na kvízu spolupracuje s organizátory i Eurocentrum a EUROPE DIRECT Karlovy Vary\, takže 3 vítězné týmy dostanou i část ceny od nás. \nDozvíte se také\, co je cena LUX a jak ji můžete ovlivnit. \nVíce v události na FB
URL:https://tvorimevropu.showyourweb.cz/event/evropsky-filmovy-kviz-3/
CATEGORIES:Karlovy Vary
END:VEVENT
BEGIN:VEVENT
DTSTART;TZID=UTC:20240628T090000
DTEND;TZID=UTC:20240706T235900
DTSTAMP:20260419T214151
CREATED:20240625T111436Z
LAST-MODIFIED:20240625T111436Z
UID:170205-1719565200-1720310340@tvorimevropu.showyourweb.cz
SUMMARY:Eurocentrum Karlovy Vary na MFF
DESCRIPTION:Léto se nezadržitelně blíží a s ním i Mezinárodní filmový festival v Karlových Varech. Největší svátek filmu bude trvat od 28. června do 6. července. Bohatá přehlídka filmů a dokumentů\, besedy s přítomnými autorkami a autory\, herečky a herci a další umělkyně a umělci\, které můžete potkat v ulicích. Program festivalu tradičně doprovodí hudba různých žánrů\, mluvené slovo i výtvarné umění na mnoha místech v Karlových Varech. Akce sledujte třeba na FB. \nNovinkou je samostatný prostor Karlovarského kraje Krajina\, který nabídne od 29. 6. do 5.7. workshopy\, debaty\, lokální potraviny\, umělkyně a umělce\, hudbu\, slam poetry i pecha kucha. Sledujte na webu nebo FB. \nA se zástupkyní Eurocentra Karlovy Vary se budete moct setkat na společném stánku s Kanceláří Evropského parlamentu od pondělí do středy 1. – 3.7. v čase od 9:30 do 18 hodin u infopointu v hotelu Thermal. Přijďte si zasoutěžit\, pohrát nebo jen tak popovídat! Třeba o filmech nominovaných na cenu Evropského parlamentu LUX. \nTěšíme se na Vás v Karlových Varech\, těšíme se na Vás na MFF!
URL:https://tvorimevropu.showyourweb.cz/event/eurocentrum-karlovy-vary-na-mff-3/
CATEGORIES:Karlovy Vary
ATTACH;FMTTYPE=image/jpeg:https://tvorimevropu.showyourweb.cz/wp-content/uploads/2024/06/449027883_2136631756718639_4853149684845707758_n-1-e1719766263640.jpg
END:VEVENT
BEGIN:VEVENT
DTSTART;TZID=UTC:20240601T100000
DTEND;TZID=UTC:20240601T170000
DTSTAMP:20260419T214151
CREATED:20240425T184112Z
LAST-MODIFIED:20240425T184112Z
UID:170136-1717236000-1717261200@tvorimevropu.showyourweb.cz
SUMMARY:Festival Řetízkárna 2024
DESCRIPTION:O co jde?\nJedná se o 3 denní festival (2. ročník) pro širokou veřejnost. Festival pořádá Novinářský inkubátor a spolek Političtí vězni.cz. Akce připomene pohnuté lokálních historické skutečnosti související s pronásledováním osob komunistickým režimem. Pravidelně se zde setkávají lidé\, kteří se o tuto problematiku zajímají. Festival se koná v místě bývalého vězeňského lágru z 50. let minulého století Rovnost u Jáchymova. Novinářský inkubátor se chystá na tomto místě rekonstruovat původní objekt na komunitní a vzdělávací centrum společně s Montanregion Krušnohoří – Erzgebirge o.p.s. Využije k tomu evropské fondy (Interreg Bavorsko-Česko). \nProgram\nFestival začíná v pátek večerním benefičním koncertem na jáchymovské Šlikově věži s kapelami Vítkovo kvarteto\, Veteráni studené války a The Primitives Group. v sobotu pokračuje od 10 do 22 hod. dalšími koncerty\, přednáškami\, debatami\, literárním pásmem a promítáním filmu apod. Nedělní program zahrnuje opět kulturu a přednášku. \nV sobotu bude v objektu bývalé řetízkové šatny zóna se stánky místních organizací a dalších subjektů včetně Eurocentra Karlovy Vary a EUROPE DIRECT Karlovy Vary. na našem stánku budeme veřejnosti nabízet informace a zábavné aktivity třeba o blížících se volbách do Evropského parlamentu nebo o výročí 20 let ČR v Evropské unii.\nTěšíme se na setkání s Vámi!\nAktuální informace a program najdete na FB události.
URL:https://tvorimevropu.showyourweb.cz/event/festival-retizkarna-2024-3/
CATEGORIES:20 let v EU,Karlovy Vary
END:VEVENT
BEGIN:VEVENT
DTSTART;TZID=UTC:20240327T090000
DTEND;TZID=UTC:20240327T183000
DTSTAMP:20260419T214151
CREATED:20240311T132751Z
LAST-MODIFIED:20240311T132751Z
UID:170051-1711530000-1711564200@tvorimevropu.showyourweb.cz
SUMMARY:Green day aneb šetrně k životnímu prostředí
DESCRIPTION:Co to je?\nStav životního prostředí a péče o krajinu v posledních letech zajímá velkou část veřejnosti zejména mladých lidí. Co všechno do této kategorie spadá a jak se to promítá do našich každodenních aktivit? Co pro zlepšení situace můžeme udělat sami? Těmito otázkami se zabývají lidé i v jiných částech Evropy a evropské státy se rozhodly\, že to zkusí společně řešit. Vznikla proto Zelená Dohoda pro Evropu stanovující změny\, kterých chce Evropská unie dosáhnout a zlepšit tak situaci v této oblasti. \nKdy a kde?\nNás v Eurocentru Karlovy Vary toto téma také zajímá a proto již druhým rokem pořádáme ve spolupráci s krajskou knihovnou celodenní akci s názvem Green day – šetrně k životnímu prostředí. Fotky z loňské roku vidíte níže.\nLetos bude Green day ve středu 27. března od 9 do 18 hodin v Krajské knihovně Karlovy Vary. \nPro koho?\nBude to opět celodenní akce rozdělená na dvě části. Dopoledne bude určené pro středoškolské studentky a studenty\, kterým doplní výuku ekologie. Nejprve se společně podíváme na dokument s ekologickým zaměřením z databáze Jeden svět na školách (JSNS.cz – Člověk v tísni) a budeme o něm pak diskutovat. Následovat bude přednáška pana Jiřího Šindeláře o unikátní Bečovské botanické zahradě\, ale nejen o ní. Nakonec si účastníci mohou zasoutěžit v kvízu o ekologii\, ale také o Evropské unii a jejích institucích a něco malého vytvořit.\nOdpolední část je přístupná široké veřejnosti a začneme také promítáním dokumentu od JSNS.cz\, který určitě vyvolá otázky. Dále bude pokračovat kreativní workshop\, ze kterého si účastníci odnesou vlastnoručně vytvořenou interiérovou výzdobu ze sukulentů. \nA co dalšího?\nPracovnice krajské knihovny nám vytvoří na akci menší výstavu knih o životním prostředí a ekologii\, která bude k vidění i další 2 týdny. Kromě toho připravíme panely přibližující akce a činnosti Eurocentra Karlovy Vary. Ty zde také budou 2 týdny společně s ekologickým kvízem o ceny\, pro ty\, kteří by naši akci Green day nestihnou. \nProgram:\n9\,00 – 13\,00 / program pro školy\n16\,00 – 16\,30 / filmový dokument o ekologii\n16\,30 – 18\,30 / výtvarná dílna (přírodniny\, textil\, recyklace)\n– Výstava Green Day / vstupní chodba do A-klubu – knihy zaměřené k ekologii \n  \n                                 
URL:https://tvorimevropu.showyourweb.cz/event/green-day-aneb-setrne-k-zivotnimu-prostredi-3/
CATEGORIES:Karlovy Vary
ATTACH;FMTTYPE=image/jpeg:https://tvorimevropu.showyourweb.cz/wp-content/uploads/2024/03/431472349_823144403193669_448849428512060022_n-e1710163010658.jpg
END:VEVENT
BEGIN:VEVENT
DTSTART;TZID=UTC:20240222T140000
DTEND;TZID=UTC:20240222T170000
DTSTAMP:20260419T214151
CREATED:20240208T111356Z
LAST-MODIFIED:20240208T111356Z
UID:169996-1708610400-1708621200@tvorimevropu.showyourweb.cz
SUMMARY:Solidarita každý den
DESCRIPTION:Nejen v Karlových Varech\, ale i v odlehlejších částech Karlovarského kraje se setkáváme s veřejností. \nZveme Vás tentokrát na tematickou debatu a workshop do Kraslic do Klubu Aktiv ve čtvrtek 22. února. \nJedná se o akci zaměřenou zejména na mládež od 12 do 26 let a pracovníky s mládeží\, ale i veřejnost. Akce začne ve 14 hodin představením Eurocentra a EUROPE DIRECT Karlovy Vary a jeho činností. Dále bude následovat přednáška a workshop o solidaritě a adaptaci v každodenním životě a diskuse na toto téma. Akci doprovodí promítání zajímavého dokumentárního filmu z programu Promítej i ty! na závěr akce bude zábavný kvíz o probírané tematice\, ale i o evropských zemích s cenami. \nTuto akci pořádáme společně s organizací Člověk v tísni Karlovarský kraj\, Klubem Aktiv a Eurodeskem ČR.
URL:https://tvorimevropu.showyourweb.cz/event/solidarita-kazdy-den-3/
CATEGORIES:Karlovy Vary
ATTACH;FMTTYPE=image/jpeg:https://tvorimevropu.showyourweb.cz/wp-content/uploads/2024/02/oprava_421969996_837640858167193_5206693955431345450_n-e1707480412469.jpg
END:VEVENT
BEGIN:VEVENT
DTSTART;TZID=UTC:20230512T100000
DTEND;TZID=UTC:20230512T130000
DTSTAMP:20260419T214151
CREATED:20230509T063651Z
LAST-MODIFIED:20230509T063651Z
UID:169781-1683885600-1683896400@tvorimevropu.showyourweb.cz
SUMMARY:Promítání filmu Blízko v Biografu Kotva
DESCRIPTION:Promítání je již plně obsazeno. \nV pátek 12.5. od 10:00 bude probíhat promítání filmu Blízko v rámci prezentace filmů nominovaných Ceny Lux. \nFilm Blízko vypráví příběh dvou chlapců. Jeho hlavním tématem je nejen tenká hranice mezi přátelstvím a láskou\, ale i touha po zapadnutí do kolektivu\, dospívání a pochyby a otázky\, které s sebou nese. Režisérem filmu je Lukas Dhont (Belgie)\, mezi ocenění\, které film posbíral patří např. cena pro nejlepší mezinárodní nezávislý film na BIFA\, Univerzitní cenu studentů na European Film Awards\, cenu pro nejlepší cizojazyčný film na Golden Globes či Velkou cenu a Zlatou palmu na festivalu v Cannes (https://www.csfd.cz/film/1170254-blizko/prehled/) \nFilmové ceny Lux jsou každoročně udělovány Evropským parlamentem\, více informací naleznete pod následujícím odkazem: https://luxaward.eu/cs/cena-divaku-lux/.
URL:https://tvorimevropu.showyourweb.cz/event/promitani-filmu-blizko-v-biografu-kotva-3/
CATEGORIES:České Budějovice
ATTACH;FMTTYPE=image/jpeg:https://tvorimevropu.showyourweb.cz/wp-content/uploads/2022/01/27275-malstrom.jpg
END:VEVENT
BEGIN:VEVENT
DTSTART;VALUE=DATE:20230322
DTEND;VALUE=DATE:20230402
DTSTAMP:20260419T214151
CREATED:20230214T124034Z
LAST-MODIFIED:20230214T124034Z
UID:169601-1679443200-1680393599@tvorimevropu.showyourweb.cz
SUMMARY:Festival Jeden svět Karlovy Vary
DESCRIPTION:Mezinárodní festival dokumentárních filmů o lidských právech. \nTéma letošního festivalu\, které otevírá otázky toho\, co pro nás ve světě plném nejistot\, obav a krizí bezpečí znamená a co jsme ochotni pro něj udělat – Cena bezpečí. \nJak bezpečí dosáhnout? Možná někoho občas odstrčíme. Nebo právě naopak\, jsme sami někdy odstrčeni. Někdy se nám cena\, kterou za klid platíme\, může zdát vysoká\, ale mnohdy je to to nejmenší\, co můžeme udělat. Nebo je to naopak moc? Co je to vlastně bezpečí? a jaká je jeho cena? \nPři příležitosti 25. výročí existence festivalu byla uvedena do provozu platforma  Jeden svět online\, kde si můžete přehrát ty nejvýraznější snímky z uplynulých ročníků. \nBěhem této doby vyrostl festival do největší akce tohoto typu na světě a koná se nejen v Praze\, ale i v dalších 26 městech v České republice a Bruselu. na festival v kinech se můžete v Karlovarském kraji těšit od 22. března do 2. dubna 2023. Kromě tradičního kina Drahomíra bude promítání i na dalších místech v kraji. \nSledujte FB stránku https://www.facebook.com/jedensvetkarlovyvary nebo web festivalu https://www.jedensvet.cz/
URL:https://tvorimevropu.showyourweb.cz/event/festival-jeden-svet-karlovy-vary-3/
CATEGORIES:Karlovy Vary
ATTACH;FMTTYPE=:
END:VEVENT
END:VCALENDAR