BEGIN:VCALENDAR
VERSION:2.0
PRODID:-//Tvoříme Evropu - ECPv6.15.0.1//NONSGML v1.0//EN
CALSCALE:GREGORIAN
METHOD:PUBLISH
X-ORIGINAL-URL:https://tvorimevropu.showyourweb.cz
X-WR-CALDESC:Akce na Tvoříme Evropu
REFRESH-INTERVAL;VALUE=DURATION:PT1H
X-Robots-Tag:noindex
X-PUBLISHED-TTL:PT1H
BEGIN:VTIMEZONE
TZID:UTC
BEGIN:STANDARD
TZOFFSETFROM:+0000
TZOFFSETTO:+0000
TZNAME:UTC
DTSTART:20230101T000000
END:STANDARD
END:VTIMEZONE
BEGIN:VEVENT
DTSTART;TZID=UTC:20231115T090000
DTEND;TZID=UTC:20231115T170000
DTSTAMP:20260419T233803
CREATED:20231024T130334Z
LAST-MODIFIED:20231024T130334Z
UID:169910-1700038800-1700067600@tvorimevropu.showyourweb.cz
SUMMARY:Veletrh pracovních příležitostí Sokolov
DESCRIPTION:Krajská hospodářská komora Karlovarského kraje již tradičně na podzim pořádá veletrhy pracovních příležitostí. Prezentují se na nich významní zaměstnavatelé z různých oborů\, ale také Úřad práce a další instituce. Navštěvují je studentky a studenti středních škol\, většinou poslední ročníky\, aby zjistili\, jaká nabídka práce zde je. Využívají jich i rodiče studujících nebo prostě lidé\, kteří uvažují o změně zaměstnání. \nV Sokolově se veletrh koná ve středu 15.11. od 9 do 16 hodin v Městském domě kultury. \nNa veletrzích nebude chybět ani stánek Eurocentra a EUROPE DIRECT Karlovy Vary\, kde budeme zájemkyně a zájemce informovat nejen o pracovních možnostech v evropských institucích a procesu výběru na tyto pozice\, ale i o dalších příležitostech pro mladé prostřednictvím eurocenter a Domu zahraniční spolupráce jako jsou DiscoverEU\, Erasmus+ a solidárních projekty. \nPřijďte a můžete si třeba udělat test svých digitálních dovedností\, ať víte\, jak na tom jste. Víte\, že 90% pracovních pozic v současnosti vyžaduje digitální dovednosti? \nLetošní rok je Evropským rokem dovedností!
URL:https://tvorimevropu.showyourweb.cz/event/veletrh-pracovnich-prilezitosti-sokolov-3/
CATEGORIES:Karlovy Vary
END:VEVENT
BEGIN:VEVENT
DTSTART;TZID=UTC:20231101T170000
DTEND;TZID=UTC:20231101T190000
DTSTAMP:20260419T233803
CREATED:20230929T053719Z
LAST-MODIFIED:20230929T053719Z
UID:169889-1698858000-1698865200@tvorimevropu.showyourweb.cz
SUMMARY:Vernisáž výstavy Evropský rok dovedností
DESCRIPTION:Eurocentra Pardubice a Hradec Králové a informační střediska Europe Direct Pardubice a Europe Direct Hradec Králové Vás srdečně zvou na slavnostní vernisáž výstavy soutěžních snímků\, spojenou s vyhlášením výsledků letní fotosoutěže Evropský rok dovedností! \nLetní fotosoutěž EVROPSKÝ ROK DOVEDNOSTÍ byla v letošním roce zaměřena na šikovné lidi u práce či dovednosti\, stejně jako na zajímavé architektonické skvosty. Cílem fotosoutěže tak bylo zachytit řemesla\, tvoření\, sport\, umělecká vystoupení či zajímavé stavby. Soutěžící proto mohli zasílat fotografie hned ve dvou kategoriích: \n1) lidé – zachycení u jakékoliv práce či dovednosti – (řemesla\, tvoření\, šití\, vaření\, sport\, ale i veletrhy\, festivaly atd.) \n2) stavby – vzniklé také díky dovednosti lidí – (skanzeny\, muzea\, hrady\, zámky\, ale i moderní architektura atd.). \nFotosoutěž probíhala v termínu 1. 7. – 30. 9. 2023 a soutěžit v ní mohli všichni amatérští fotografové v celé ČR ve věku od 15 let. \nDne 1. listopadu 2023 proběhne od 17:00 slavnostní vyhlášení vítězů a předání cen nejlepším amatérským fotografům\, které budou součástí vernisáže výstavy nejzdařilejších snímků. Budeme se na vás těšit ve foyer přízemí Knihovny města Hradce Králové (Wonkova 1262/1a\, Hradec Králové). Kromě fotografií nebude chybět drobné občerstvení a doprovodný program včetně hodnocení vítězných snímků z úst profesionálního fotografa! \nVýstava nejzdařilejších snímků zde potrvá od 1. 11. do 22. 12. 2023. \nSoutěž se konala u příležitosti Evropského roku dovedností 2023. \nOrganizátory soutěže jsou Eurocentra Hradec Králové a Pardubice a informační střediska Europe Direct Hradec Králové a Europe Direct Pardubice. \nPozvánka ke stažení ZDE. \n \n 
URL:https://tvorimevropu.showyourweb.cz/event/vernisaz-vystavy-evropsky-rok-dovednosti-3/
CATEGORIES:Hradec Králové,Pardubice
ATTACH;FMTTYPE=:
END:VEVENT
BEGIN:VEVENT
DTSTART;TZID=UTC:20231101T090000
DTEND;TZID=UTC:20231101T170000
DTSTAMP:20260419T233803
CREATED:20231024T125024Z
LAST-MODIFIED:20231024T125024Z
UID:169908-1698829200-1698858000@tvorimevropu.showyourweb.cz
SUMMARY:Veletrh pracovních příležitostí Karlovy Vary
DESCRIPTION:Krajská hospodářská komora Karlovarského kraje již tradičně na podzim pořádá veletrhy pracovních příležitostí. Prezentují se na nich významní zaměstnavatelé z různých oborů\, ale také Úřad práce a další instituce. Navštěvují je studentky a studenti středních škol\, většinou poslední ročníky\, aby zjistili\, jaká nabídka práce zde je. Využívají jich i rodiče studujících nebo prostě lidé\, kteří uvažují o změně zaměstnání. \nV Karlových Varech se veletrh koná ve středu 1.11. od 9 do 16 hodin v hotelu Thermal. \nNa veletrzích nebude chybět ani stánek Eurocentra a EUROPE DIRECT Karlovy Vary\, kde budeme zájemkyně a zájemce informovat nejen o pracovních možnostech v evropských institucích a procesu výběru na tyto pozice\, ale i o dalších příležitostech pro mladé prostřednictvím eurocenter a Domu zahraniční spolupráce jako jsou DiscoverEU\, Erasmus+ a solidárních projekty. \nPřijďte a můžete si třeba udělat test svých digitálních dovedností\, ať víte\, jak na tom jste. Víte\, že 90% pracovních pozic v současnosti vyžaduje digitální dovednosti? \nLetošní rok je Evropským rokem dovedností!
URL:https://tvorimevropu.showyourweb.cz/event/veletrh-pracovnich-prilezitosti-karlovy-vary-3/
CATEGORIES:Karlovy Vary
ATTACH;FMTTYPE=image/jpeg:https://tvorimevropu.showyourweb.cz/wp-content/uploads/2022/01/19509-120-Manuel-Rajoy-oez.jpg
END:VEVENT
BEGIN:VEVENT
DTSTART;TZID=UTC:20231020T173000
DTEND;TZID=UTC:20231020T200000
DTSTAMP:20260419T233803
CREATED:20231004T204154Z
LAST-MODIFIED:20231004T204154Z
UID:169895-1697823000-1697832000@tvorimevropu.showyourweb.cz
SUMMARY:GENDEROVÁ ROVNOST: Jak využít ženskosti v podnikání?
DESCRIPTION:Podnikání už dávno není jen pro muže. Jsou ženy podnikatelky jiné než muži? Jaká specifika má ženské podnikání? v čem je jiné? Mají to ženy podnikatelky těžší? Zajímá nás\, jestli už se doba mění a ženy mají stejné podmínky pro rozjezd podnikání nebo stále existují nějaké bariéry. \nO tom všem si určitě budeme povídat\, necháme se inspirovat a můžeme se vzájemně propojit. \nKde? \nv podnikatelském inkubátoru INION \nS kým? \n\nLucie Königová (Life Academy)\nNikola Al Haboubi Florianová (Něžná pivoňka)\nŠtěpánka Kolesnyk Pitterová (Tulouš)\nmoderuje Andrea Vajnar (Český rozhlas Karlovy Vary)\n\nPořádá  \n\nNovinářský inkubátor  – nezisková organizace\, jejímž cílem je dokázat\, že mediální prostředí je místem pro všechny\nINION   – ti\, kdo se chtějí stát vyhledávaným průvodcem ve světě podnikání  a inovací na Karlovarsku\nEurocentrum a EUROPE DIRECT Karlovy Vary – informační místo o evropských záležitostech\n\nProjekt je realizován v rámci Europe on Track\, do kterého je Novinářský inkubátor zapojený a který se letos zaměří na genderovou rovnost.
URL:https://tvorimevropu.showyourweb.cz/event/genderova-rovnost-jak-vyuzit-zenskosti-v-podnikani-3/
CATEGORIES:Karlovy Vary
ATTACH;FMTTYPE=:
END:VEVENT
BEGIN:VEVENT
DTSTART;VALUE=DATE:20231016
DTEND;VALUE=DATE:20231104
DTSTAMP:20260419T233803
CREATED:20230929T055145Z
LAST-MODIFIED:20230929T055145Z
UID:169890-1697414400-1699055999@tvorimevropu.showyourweb.cz
SUMMARY:Výstava Evropský rok dovedností
DESCRIPTION:Eurocentrum Pardubice a informační středisko Europe Direct Pardubice Vás srdečně zvou na pardubickou výstavu nejzdařilejších soutěžních snímků letní fotosoutěže Evropský rok dovedností! \nLetní fotosoutěž EVROPSKÝ ROK DOVEDNOSTÍ byla v letošním roce zaměřena na šikovné lidi u práce či dovednosti\, stejně jako na zajímavé architektonické skvosty. Cílem fotosoutěže tak bylo zachytit řemesla\, tvoření\, sport\, umělecká vystoupení či zajímavé stavby. Soutěžící proto mohli zasílat fotografie hned ve dvou kategoriích: \n1) lidé – zachycení u jakékoliv práce či dovednosti – (řemesla\, tvoření\, šití\, vaření\, sport\, ale i veletrhy\, festivaly atd.) \n2) stavby – vzniklé také díky dovednosti lidí – (skanzeny\, muzea\, hrady\, zámky\, ale i moderní architektura atd.). \nFotosoutěž probíhala v termínu 1. 7. – 30. 9. 2023 a soutěžit v ní mohli všichni amatérští fotografové v celé ČR ve věku od 15 let. \nV termínu 16. 10. 2023 – 3. 11. 2023 proběhne výstava nejzdařilejších snímků letní fotosoutěže v Turistickém informačním centru Pardubice (třída Míru 60\, Pardubice). \nSoutěž se konala u příležitosti Evropského roku dovedností 2023. \nOrganizátory soutěže jsou Eurocentra Hradec Králové a Pardubice a informační střediska Europe Direct Hradec Králové a Europe Direct Pardubice. \nPozvánka ke stažení ZDE. \n \n 
URL:https://tvorimevropu.showyourweb.cz/event/vystava-evropsky-rok-dovednosti-3/
CATEGORIES:Pardubice
ATTACH;FMTTYPE=image/jpeg:https://tvorimevropu.showyourweb.cz/wp-content/uploads/2022/01/23676-120-nemecke_velvyslanectvi.jpeg
END:VEVENT
BEGIN:VEVENT
DTSTART;TZID=UTC:20231004T140000
DTEND;TZID=UTC:20231006T153000
DTSTAMP:20260419T233803
CREATED:20230930T081602Z
LAST-MODIFIED:20230930T081602Z
UID:169891-1696428000-1696606200@tvorimevropu.showyourweb.cz
SUMMARY:Evropský kongres lázeňství a balneologie 2023
DESCRIPTION:Ve dnech 4. – 6. října se bude v Karlových Varech konat Evropský kongres lázeňství a balneologie 2023. Jednání a přednášky budou probíhat nejen v Císařských Lázních\, ale i v kongresovém hotelu Thermal. \nTéma kongresu \nJe to jedna z největších a nejproslulejších akcí\, která se zabývá zdravotní a lázeňskou turistikou. Letošní ročník je zaměřen na téma „Evropské lázně – cesta ke zdravému životu“.\nBěhem konference se představí významní profesionálové s bohatou praxí v oboru\, kteří promluví o důsledcích pandemie COVID-19 na lázeňství nebo dopadu aktuálních témat a trendů\, jako jsou udržitelnost\, digitalizace a vzdělávání. \nProgram \nV úvodu proběhnou jednání orgánů Evropské lázeňské asociace (ESPA) a společné pití karlovarské minerální vody. Druhý den začne slavnostním zahájením za přítomnosti ministra pro místní rozvoj Ivana Bartoše\, náměstka ministra zdravotnictví Josefa Pavlovice a nejvyšších zástupců města a kraje. Dále budou následovat po celý den bloky odborných vystoupení zástupců a zástupkyň různých evropských organizací a institucí\, které se zabývají lázeňstvím a balneologií. Jejich seznam je široký a podrobně si ho můžete prohlédnout na webu kongresu  europeanspas.eu/congress/\nPoslední den je věnován paralelním workshopům\, kde budou sdíleny příklady dobré praxe\, výzkumné aktivity i pohled místních samospráv na přínos lázeňství. Odpoledne pak bude kongres slavnostně zakončen za účasti ministra pro evropské záležitosti Martina Dvořáka a účastníci budou moci navštívit další 3 lázeňská města Mariánské Lázně\, Františkovy Lázně a Jáchymov. \nOcenění a veletrh \nSoučástí kongresu bude také předávání ceny ESPA Innovation Awards za nové\, efektivnější postupy zvyšující kvalitu lázeňských resortů a veletrh ESPA SPA-CE B2B zaměřený na špičkovou lázeňskou a wellness turistiku s účastí více než 15 zemí. \n 
URL:https://tvorimevropu.showyourweb.cz/event/evropsky-kongres-lazenstvi-a-balneologie-2023-3/
CATEGORIES:Karlovy Vary
ATTACH;FMTTYPE=image/jpeg:https://tvorimevropu.showyourweb.cz/wp-content/uploads/2022/01/23618-120-skotsko_referendum_480.jpg
END:VEVENT
BEGIN:VEVENT
DTSTART;TZID=UTC:20230829T090000
DTEND;TZID=UTC:20230829T150000
DTSTAMP:20260419T233803
CREATED:20230824T112442Z
LAST-MODIFIED:20230824T112442Z
UID:169827-1693299600-1693321200@tvorimevropu.showyourweb.cz
SUMMARY:Budoucnost duálního vzdělávání v ČR
DESCRIPTION:Evropská komise i Evropský parlament již před 10 lety vyzvali členské státy\, aby zintenzivnily své úsilí o rozvoj odborného vzdělávání a přípravy na světové úrovni\, které zlepší kvalitu odborných dovedností\, o podporu programů učení zaměřených na praxi\, včetně kvalitních stáží\, firemní praxe a duálních systémů.\nPodle Evropského střediska pro rozvoj odborné přípravy (Cedefop) se duální vzdělávání týká „vzdělávání či odborné přípravy\, které kombinují období\, která probíhají ve vzdělávací instituci či školicím středisku\, a období na pracovišti“. Firmy si vysoce cení pracovních zkušeností\, a jejich nedostatek tudíž představuje pro uchazeče o první zaměstnání významnou překážku. Mnoho mladých lidí se tak ocitá v začarovaném kruhu: nedaří se jim najít první zaměstnání\, avšak první zaměstnání ani nemohou získat pro nedostatek pracovních zkušeností. Je prokázáno\, že firemní praxe mají rozsáhlý pozitivní dopad na zaměstnanost mladých lidí a jsou hlavním důvodem nízké míry nezaměstnanosti mladých v některých evropských zemích. \n\na právě duálnímu vzdělávání se bude věnovat celostátní konference Budoucnost duálního vzdělávání v ČR\, která se bude konat v Karlových Varech v úterý 29. srpna od 9 do 15 hodin v nově opravené budově Císařských Lázní. Na akci vystoupí zástupci obou hlavních pořadatelů\, tedy pan Mikuláš Bek\, ministr školství\, mládeže a tělovýchovy a pan Zdeněk Zajíček\, prezident Hospodářské komory ČR\, ale i další přednášející. \n\nPodrobnější informace o konferenci naleznete zde https://www.khkkk.cz/event/konference-dualni-vzdelavani/ \nKonference se uskuteční v Evropském roce dovedností a v rámci projektu „Implementace krajského akčního plánu 2 v Karlovarském kraji“ podpořeného z Operačního programu Výzkum\, vývoj a vzdělávání.
URL:https://tvorimevropu.showyourweb.cz/event/budoucnost-dualniho-vzdelavani-v-cr-3/
CATEGORIES:Karlovy Vary
ATTACH;FMTTYPE=image/jpeg:https://tvorimevropu.showyourweb.cz/wp-content/uploads/2022/01/25297-120-mark_rutte_600.jpg
END:VEVENT
BEGIN:VEVENT
DTSTART;VALUE=DATE:20230701
DTEND;VALUE=DATE:20231001
DTSTAMP:20260419T233803
CREATED:20230503T072309Z
LAST-MODIFIED:20230503T072309Z
UID:169742-1688169600-1696118399@tvorimevropu.showyourweb.cz
SUMMARY:Letní fotosoutěž Evropský rok dovedností
DESCRIPTION:Informační střediska Europe Direct Hradec Králové a Pardubice ve spolupráci s regionálními Eurocentry vyhlašují další ročník prázdninové fotosoutěže pro amatérské fotografy\, tentokrát zaměřený na Evropský rok dovedností.  \nPodařilo se vám zachytit šikovné lidi u práce či nějaké dovednosti? Zaujala vás nějaká stavba? Byla vaše fotografie pořízena v některé z členských zemí Evropské unie? Pak neváhejte a pošlete nám ji na e-mail fotosoutez@euroskop.cz v termínu od 1. července do 30. září 2023. Fotografie mohou zachytit řemesla\, tvoření\, sport\, umělecká vystoupení nebo i zajímavé stavby. Proto máme dvě kategorie\, do kterých můžete vaše fotografie zaslat: \n1) lidé – zachycení u jakékoliv práce či dovednosti – (řemesla\, tvoření\, šití\, vaření\, sport\, ale i veletrhy\, festivaly atd.) \n2) stavby – vzniklé také díky dovednosti lidí – (skanzeny\, muzea\, hrady\, zámky\, ale i moderní architektura atd.) \nNejzdařilejší snímek v každé kategorii vybere odborná porota. Speciální cena veřejnosti bude udělena autorovi fotografie s nejvíce udělenými „To se mi líbí“ na FB profilu soutěže. Výherci získají hodnotné ceny v podobě poukázek na nákup fotoknihy či fotografického vybavení v CEWE Fotolab. v obou kategoriích budou uděleny následující ceny: 1. místo poukaz v hodnotě 1.500 Kč\, 2. místo poukaz v hodnotě 1.000 Kč\, 3. místo poukaz v hodnotě 500 Kč. \nVíce informací a pravidla soutěže naleznete na facebookové stránce soutěže https://www.facebook.com/fotosoutezEU/ a na webových stránkách organizátorů. \nSoutěž se koná u příležitosti Evropského roku dovedností 2023. \nPlakát ke stažení ZDE. \nPravidla ke stažení ZDE. \n 
URL:https://tvorimevropu.showyourweb.cz/event/letni-fotosoutez-evropsky-rok-dovednosti-3/
CATEGORIES:Hradec Králové,Pardubice
ATTACH;FMTTYPE=:
END:VEVENT
END:VCALENDAR