BEGIN:VCALENDAR
VERSION:2.0
PRODID:-//Tvoříme Evropu - ECPv6.15.0.1//NONSGML v1.0//EN
CALSCALE:GREGORIAN
METHOD:PUBLISH
X-ORIGINAL-URL:https://tvorimevropu.showyourweb.cz
X-WR-CALDESC:Akce na Tvoříme Evropu
REFRESH-INTERVAL;VALUE=DURATION:PT1H
X-Robots-Tag:noindex
X-PUBLISHED-TTL:PT1H
BEGIN:VTIMEZONE
TZID:Europe/Prague
BEGIN:DAYLIGHT
TZOFFSETFROM:+0100
TZOFFSETTO:+0200
TZNAME:CEST
DTSTART:20250330T010000
END:DAYLIGHT
BEGIN:STANDARD
TZOFFSETFROM:+0200
TZOFFSETTO:+0100
TZNAME:CET
DTSTART:20251026T010000
END:STANDARD
END:VTIMEZONE
BEGIN:VTIMEZONE
TZID:UTC
BEGIN:STANDARD
TZOFFSETFROM:+0000
TZOFFSETTO:+0000
TZNAME:UTC
DTSTART:20220101T000000
END:STANDARD
END:VTIMEZONE
BEGIN:VEVENT
DTSTART;TZID=Europe/Prague:20250425T130000
DTEND;TZID=Europe/Prague:20250425T143000
DTSTAMP:20260419T234956
CREATED:20250423T110938Z
LAST-MODIFIED:20250423T110938Z
UID:170477-1745586000-1745591400@tvorimevropu.showyourweb.cz
SUMMARY:Evropský den jazyků - zaměřeno na esperanto (vznik\, původ a současnost jazyka)
DESCRIPTION:Eurocentrum Pardubice zve všechny zájemce na odborný seminář pro studenty Univerzity Pardubice – Univerzity třetího věku. \nBeseda se uskuteční dne 25. dubna 2025 v době od 13:00 do 14:30 hodin v prostorách Dopravní fakulty Jana Pernera Univerzity Pardubice\, učebně B5. na konci příspěvku nebude chybět ani diskuse s účastníky. \nCílovou skupinou jsou primárně studenti Univerzity Pardubice a senioři. \nCílem akce je zvýšit povědomí o současných\, nejvíce diskutovaných evropských tématech\, kulturních rozmanitostech Evropy a činnosti sítě Eurocenter. \nPozvání na akci přijal nadšený esperantista a člen esperantského klubu v ČR\, Petr Chrdle. \nAkce je organizována u příležitosti konání Evropského dne jazyků v termínu 26. září.
URL:https://tvorimevropu.showyourweb.cz/event/evropsky-den-jazyku-zamereno-na-esperanto-vznik-puvod-a-soucasnost-jazyka-2/
CATEGORIES:Pardubice
END:VEVENT
BEGIN:VEVENT
DTSTART;TZID=UTC:20240930T083000
DTEND;TZID=UTC:20240930T130000
DTSTAMP:20260419T234956
CREATED:20240826T070624Z
LAST-MODIFIED:20240826T070624Z
UID:170238-1727685000-1727701200@tvorimevropu.showyourweb.cz
SUMMARY:Evropský den jazyků v Plzni
DESCRIPTION:Eurocentrum Plzeň a Studijní a vědecká knihovna Plzeňského kraje vás opět zve na Evropský den jazyků. Cílem akce je motivovat studenty k učení cizích jazyků\, informovat je o možnostech cestování v rámci Evropské unie\, procvičit si praktické dovednosti a představit kulturní rozmanitosti v Plzni. Pro letošní rok jsme připravili řadu stanovišť a aktivit. Vy sami si můžete zvolit místo a čas pro svou skupinu žáků\, aby se seznámili s jednotlivými institucemi a vyzkoušeli si své znalosti. Program je flexibilní. Z dvanácti stanovišť si vyberte ta\, která vás nejvíce zaujmou\, a rezervujte si čas\, kdy chcete přijít. Věříme\, že si akci užijete. Aktivity budou probíhat celé dopoledne v následujících časech: 8:30\, 9:15\, 10:00\, 10:45\, 11:30\, 12:15. Každá aktivita trvá 30 minut a je určena pro jednu kompaktní třídu. \nNa stánku Eurocentra si vyzkoušíte hru Riskuj! a budete poznávat různé evropské jazyky\, přiřazovat cizojazyčné idiomy a nebo si zkusíte objednat nápoj v cizím jazyce. \nOdkaz na přihlašování naleznete zde.
URL:https://tvorimevropu.showyourweb.cz/event/evropsky-den-jazyku-v-plzni-3/
CATEGORIES:Plzeň
ATTACH;FMTTYPE=image/png:https://tvorimevropu.showyourweb.cz/wp-content/uploads/2024/08/edj.png
END:VEVENT
BEGIN:VEVENT
DTSTART;VALUE=DATE:20240930
DTEND;VALUE=DATE:20241004
DTSTAMP:20260419T234956
CREATED:20240912T123205Z
LAST-MODIFIED:20240912T123205Z
UID:170267-1727654400-1727999999@tvorimevropu.showyourweb.cz
SUMMARY:Evropský den jazyků na ZŠ
DESCRIPTION:Eurocentrum Pardubice ve spolupráci se základními školami v Pardubickém kraji oslavuje Evropský den jazyků! Kolik jazyků umíš\, tolikrát jsi člověkem aneb hravá dopoledne ušitá na míru žákům ZŠ v Pardubickém kraji\, kteří si vyzkouší základní fráze ve vybraných evropských jazycích. \nKolik je v EU zemí a kolik oficiálních jazyků? Kde se mluví více jazyky? Jaký je rozdíl mezi jazykem a nářečím? Co jsou to jazykové rodiny a proč je důležité učit se cizím jazykům? \nPro žáky ZŠ v kraji jsou v měsíci září a říjnu připraveny zajímavosti\, kvízy\, rébusy\, hry a hádanky spojené s vybranými evropskými jazyky. Nebude chybět poznávání nejen jazyků\, ale i evropských zemí\, a to prostřednictvím zábavné hry Riskuj! \nCílem Evropského dne jazyků je motivovat žáky a veřejnost učit se cizí jazyky\, informovat o možnostech cestování v Evropské unii\, vyzkoušet si praktické znalosti a porozumět kulturní rozmanitosti v Evropě. \nNeváhejte a rezervujte si program pro svoji školu e-mailem: lucie.boukalova@vlada.gov.cz či telefonicky: (+420) 720 970 600. \nTěšíme se na setkání v novém školním roce!
URL:https://tvorimevropu.showyourweb.cz/event/evropsky-den-jazyku-na-zs-3/
CATEGORIES:Pardubice
END:VEVENT
BEGIN:VEVENT
DTSTART;VALUE=DATE:20240926
DTEND;VALUE=DATE:20240928
DTSTAMP:20260419T234956
CREATED:20240830T115056Z
LAST-MODIFIED:20240830T115056Z
UID:170245-1727308800-1727481599@tvorimevropu.showyourweb.cz
SUMMARY:Evropský den jazyků v Eurocentru ČB
DESCRIPTION:Zveme pedagogy a jejich žáky na akci Evropský den jazyků. \n \nPřijďte se svými žáky na workshop s tématem rozmanitosti evropských jazyků\, během kterého se dozvědí mnoho zajímavého a zažijí spoustu zábavy: \n\nzajímavosti o evropských jazycích;\nkvízy\, jazykolamy\, hry;\nsoutěže o drobné ceny.\n\nTermín: čtvrtek 26. září 2024 a pátek 27. září 2024\nMísto konání: Krajský úřad Jihočeského kraje\, budova D\, B. Němcové 1824/8\, České Budějovice \nNa workshopy v délce 45 minut je možné se registrovat v těchto časech: 8:00\, 9:00\, 10:00\, 11:00 a 12:00. \n\nVŠECHNY TERMÍNY JSOU JIŽ OBSAZENY.\n\nKapacita pro 1 skupinu je max. 25 žáků.\nAkce je bezplatná a je určena žákům 2. stupně základních škol a odpovídajících ročníků víceletých gymnázií.\nRegistrace probíhá na e-mailu eurocentrum.cb@vlada.gov.cz. Uveďte\, prosím\, počet žáků a preferovaný čas. \n\nPLAKÁT AKCE ke stažení (pdf): Evropský den jazyků_2024
URL:https://tvorimevropu.showyourweb.cz/event/evropsky-den-jazyku-v-eurocentru-cb-3/
CATEGORIES:České Budějovice
END:VEVENT
BEGIN:VEVENT
DTSTART;VALUE=DATE:20240925
DTEND;VALUE=DATE:20240926
DTSTAMP:20260419T234956
CREATED:20240917T084121Z
LAST-MODIFIED:20240917T084121Z
UID:170280-1727222400-1727308799@tvorimevropu.showyourweb.cz
SUMMARY:Evropský den jazyků 2024
DESCRIPTION:Přijďte si užít hravé a naučné dopoledne plné zajímavostí\, kvízů a soutěží s našimi partnery do centra Pardubic\, protože Eurocentrum Pardubice a Europe Direct Pardubice ve spolupráci s jazykovými centry oslavují Evropský den jazyků 2024! \n \nKolik jazyků umíš\, tolikrát jsi člověkem aneb hravá dopoledne ušitá na míru žákům ZŠ/SŠ v Pardubickém kraji\, kteří si vyzkouší základní fráze ve vybraných evropských jazycích\, a nejen to! \nPřipraveny budou soutěžní aktivity zaměřené na poznávání různých evropských jazyků. Představeny budou následující jazyky: angličtina\, francouzština\, němčina\, španělština\, ale také portugalština\, ukrajinština\, esperanto a znaková řeč! Nebude chybět ani zábavný FOTOkoutek a EUROkoutek pořadatelů – Eurocentra Pardubice a Europe Direct Pardubice s jazykovými aktivitami napříč Evropou. \nOsm škol z Pardubicka tak navštíví nejen jazyková centra Evropského spolkového domu na Pernštýnském náměstí v Pardubicích. \nCílem Evropského dne jazyků je motivovat žáky a studenty učit se cizí jazyk\, informovat o možnostech cestování v Evropské unii\, vyzkoušet si praktické znalosti a porozumět kulturní rozmanitosti v Evropě.  \nKdy: 25. září 2024 \nKde: Evropský spolkový dům\, Pernštýnské nám. 55\, 530 02 Pardubice I \nKapacita omezena! v případě zájmu prosíme o registraci zde: europedirect@ticpardubice.cz. \nTěšíme se na setkání! \n \n 
URL:https://tvorimevropu.showyourweb.cz/event/evropsky-den-jazyku-2024-2-3/
CATEGORIES:Pardubice
END:VEVENT
BEGIN:VEVENT
DTSTART;TZID=UTC:20230926T080000
DTEND;TZID=UTC:20230926T130000
DTSTAMP:20260419T234956
CREATED:20230913T112355Z
LAST-MODIFIED:20230913T112355Z
UID:169876-1695715200-1695733200@tvorimevropu.showyourweb.cz
SUMMARY:Evropský den jazyků
DESCRIPTION:Přijďte s námi oslavit Evropský den jazyků\, který se každoročně koná 26. září. \nPro žáky základních škol a nižších ročníků víceletých gymnázií i jejich pedagogy jsme připravili workshopy\, na kterých se dozví mnoho zajímavostí o evropských jazycích\, vyzkouší si různé kvízy i jazykolamy a zapojí se do her a soutěží o drobné ceny. \nAKTUÁLNÍ INFORMACE: kapacita je již plně obsazena\, na akci se tedy nelze registrovat. Děkujeme za pochopení. \n\nKDY: 26. a 27. září 2023 \nKDE: Krajský úřad Jihočeského kraje\, budova D\, B. Němcové 1824/8\, České Budějovice\n\nNa workshopy v délce 45 minut je možné se registrovat v těchto časech: 8:00\, 9:00\, 10:00\, 11:00 a 12:00. \nKapacita pro 1 skupinu je max. 25 žáků. \nAkce je bezplatná a je určena žákům 2. stupně základních škol a odpovídajících ročníků víceletých gymnázií. \nRegistrace probíhá na e-mailu eurocentrum.cb@euroskop.cz. Uveďte\, prosím\, počet žáků a preferovaný čas. \nPlakát ke stažení (pdf).
URL:https://tvorimevropu.showyourweb.cz/event/evropsky-den-jazyku-5-3/
CATEGORIES:České Budějovice
ATTACH;FMTTYPE=:
END:VEVENT
BEGIN:VEVENT
DTSTART;TZID=UTC:20220926T160000
DTEND;TZID=UTC:20220926T200000
DTSTAMP:20260419T234956
CREATED:20220902T142031Z
LAST-MODIFIED:20220902T142031Z
UID:169363-1664208000-1664222400@tvorimevropu.showyourweb.cz
SUMMARY:Speak Dating Brno 2022
DESCRIPTION:Chcete oprášit své znalosti jazyků? Chcete se seznámit s novými jazyky? Chcete si pokecat? Chcete poznat nové lidi?\nPŘIJĎTE S NÁMI OSLAVIT EVROPSKÝ DEN JAZYKŮ!\nEurocentrum Brno a Europe Direct Brno\, ve spolupráci s informační sítí Eurodesk\, Vás srdečně zvou na SPEAK DATING!\n Kdy? v pondělí 26.9. (16 – 20 hodin)\n Kde? Moravské náměstí – u Jošta.\n!!! HLEDÁME DOBROVOLNÍKY – speakery:\nOvládáš jakýkoli jazyk kromě češtiny? Chceš představit svůj jazyk? Máš chuť se seznámit s cizinci v Brně? Chceš si najít nové kamarády? Rád by sis pokecal? Troufáš si být na chvíli učitelem?\nPak právě Tebe hledáme!\nPokud se chceš podílet na naší akci jako aktivní speaker „z druhé strany stolečku“\, napiš nám na pavluskova.nikola@vlada.cz.\n na místě bude k dispozici také tematický kvíz a aktivity pro děti!\nVíce informací a aktualizace najdete také ve facebookové události.
URL:https://tvorimevropu.showyourweb.cz/event/speak-dating-brno-2022-3/
CATEGORIES:Brno
ATTACH;FMTTYPE=:
END:VEVENT
BEGIN:VEVENT
DTSTART;VALUE=DATE:20220922
DTEND;VALUE=DATE:20221001
DTSTAMP:20260419T234956
CREATED:20220922T101402Z
LAST-MODIFIED:20220922T101402Z
UID:169419-1663804800-1664582399@tvorimevropu.showyourweb.cz
SUMMARY:Soutěž: Evropský den jazyků
DESCRIPTION:VÝHERCI soutěže jsou: paní Barbora T. a pan Ondřej M. Gratulujeme! \n26. 9. 2022 slavíme Evropský den jazyků! Do oslav se můžete zapojit i Vy a to prostřednictvím soutěže.  \nVíte\, jak zní slovo „věda“ v dalších evropských jazycích? Zkuste vyřešit spojovačku\, pošlete nám správné odpovědi na e-mail eurocentrum.ul@euroskop.cz a vyhrajte skvělé ceny. \nSoutěžit můžete do 30. 9. 2022.  \nPravidla soutěže:  \n\nSoutěž trvá do 30. září 2022.\nOdpovědi posílejte na e-mail: eurocentrum.ul@euroskop.cz\nSlosování proběhne na začátku října 2022. Vylosováni budou dva výherci\, kteří budou kontaktováni e-mailem. Výhry budou odeslány poštou během října 2022.\nVýhry odesíláme pouze na území České republiky\, do zahraničí není možné výhry zaslat.
URL:https://tvorimevropu.showyourweb.cz/event/soutez-evropsky-den-jazyku-3/
CATEGORIES:Ústí nad Labem
ATTACH;FMTTYPE=:
END:VEVENT
END:VCALENDAR