BEGIN:VCALENDAR
VERSION:2.0
PRODID:-//Tvoříme Evropu - ECPv6.15.0.1//NONSGML v1.0//EN
CALSCALE:GREGORIAN
METHOD:PUBLISH
X-WR-CALNAME:Tvoříme Evropu
X-ORIGINAL-URL:https://tvorimevropu.showyourweb.cz
X-WR-CALDESC:Akce na Tvoříme Evropu
REFRESH-INTERVAL;VALUE=DURATION:PT1H
X-Robots-Tag:noindex
X-PUBLISHED-TTL:PT1H
BEGIN:VTIMEZONE
TZID:UTC
BEGIN:STANDARD
TZOFFSETFROM:+0000
TZOFFSETTO:+0000
TZNAME:UTC
DTSTART:20240101T000000
END:STANDARD
END:VTIMEZONE
BEGIN:VEVENT
DTSTART;TZID=UTC:20240620T090000
DTEND;TZID=UTC:20240621T160000
DTSTAMP:20260420T014732
CREATED:20240610T102926Z
LAST-MODIFIED:20240610T102926Z
UID:170195-1718874000-1718985600@tvorimevropu.showyourweb.cz
SUMMARY:Hrajme si i hlavou 2024
DESCRIPTION:Již 15. ročník akce Hrajme si i hlavou přináší pro všechny příznivce nejen přírodovědných disciplín mnoho zajímavostí přímo na ulici! Pořádá ji katedra fyziky Univerzity Hradec Králové ve spolupráci s Hvězdárnou a planetáriem Hradec Králové a je určena pro žáky a studenty základních a středních škol\, pro jejich rodiče a pro všechny\, kteří si rádi hrají\, přemýšlejí a bádají nad záhadami světa kolem nás. \nLetošní ročník akce Hrajme si i hlavou má podtitul N(V)esmírná přitažlivost! \nKdy: 20. 6. – 21. 6 . 2024\, 9:00 – 16:00 \nKde: kampus Univerzity Hradec Králové\, Hradecká 1227/4\, 500 03 Hradec Králové 3 \nNa akci vždy bylo a bude připraveno mnoho stánků\, naplněných tradičními ale i netradičními pokusy\, které se snažily zaujmout a přesvědčit i náhodně kolemjdoucí návštěvníky akce o tom\, že fyzika\, chemie\, matematika a další „nepopulární“ vědy nejsou zase tak hrozivé či nepochopitelné a určitě stojí za naši pozornost! Všechny pokusy byly k dispozici návštěvníkům k vyzkoušení\, pro zájemce byly připraveny i návody pro domácí bádání\, matematické i fyzikální hračky a skládačky byly také často odnášeny pro domácí zábavu. \nSledujte náš facebook\, kde budeme zveřejňovat fotografie z příprav! \nNa akci nebude chybět tradiční Eurokoutek se stánkem Eurocentra Pardubice a Hradec Králové s tematickými soutěžními aktivitami o drobné ceny\, přičemž současně dojde k propagaci činnosti sítě Eurocenter a 20 let členství ČR v EU. \nTěšíme se na Vás! \nPlakát ke stažení ZDE.
URL:https://tvorimevropu.showyourweb.cz/event/hrajme-si-i-hlavou-2024-3/
CATEGORIES:Pardubice
END:VEVENT
END:VCALENDAR