BEGIN:VCALENDAR
VERSION:2.0
PRODID:-//Tvoříme Evropu - ECPv6.15.0.1//NONSGML v1.0//EN
CALSCALE:GREGORIAN
METHOD:PUBLISH
X-WR-CALNAME:Tvoříme Evropu
X-ORIGINAL-URL:https://tvorimevropu.showyourweb.cz
X-WR-CALDESC:Akce na Tvoříme Evropu
REFRESH-INTERVAL;VALUE=DURATION:PT1H
X-Robots-Tag:noindex
X-PUBLISHED-TTL:PT1H
BEGIN:VTIMEZONE
TZID:UTC
BEGIN:STANDARD
TZOFFSETFROM:+0000
TZOFFSETTO:+0000
TZNAME:UTC
DTSTART:20240101T000000
END:STANDARD
END:VTIMEZONE
BEGIN:VEVENT
DTSTART;TZID=UTC:20240813T093000
DTEND;TZID=UTC:20240813T113000
DTSTAMP:20260420T033016
CREATED:20240730T121614Z
LAST-MODIFIED:20240730T121614Z
UID:170223-1723541400-1723548600@tvorimevropu.showyourweb.cz
SUMMARY:Letní tábor EURO DAY
DESCRIPTION:Letní tábory o Evropské unii a jednotné Evropě v její rozmanitosti. \nDěti sportu\, z.s. ve spolupráci s Eurocentry Pardubice a Hradec Králové pořádají další ročník letních táborů\, který s sebou opět přinese EURO DAY! \nCílem jednodenních výtvarných\, pohybových a vzdělávacích aktivit\, workshopů a soutěží bude seznámit žáky ZŠ z regionů všech věkových kategorií s rozmanitostmi\, odlišnými kulturami\, tradicemi a chutěmi Evropy a Evropanů. \nSoučástí budou aktivity a soutěže v EUtejneru\, který si připravilo Europe Direct Pardubice. Otestujte si s dětmi zábavnou formou znalosti o Evropě! Čekají vás skládačky\, přiřazovačky\, písničky a mnoho dalšího. \nKdy: 13. 8. 2024 (9:30 – 11:30) \nKde: Automatické mlýny Pardubice – piazzetta\, Mezi Mosty\, 530 03 Pardubice I \nTěšíme se na další letní setkání!
URL:https://tvorimevropu.showyourweb.cz/event/letni-tabor-euro-day-2-3/
CATEGORIES:Pardubice
END:VEVENT
BEGIN:VEVENT
DTSTART;TZID=UTC:20240710T130000
DTEND;TZID=UTC:20240710T150000
DTSTAMP:20260420T033016
CREATED:20240610T104047Z
LAST-MODIFIED:20240610T104047Z
UID:170196-1720616400-1720623600@tvorimevropu.showyourweb.cz
SUMMARY:Letní tábor Na skok do Evropy
DESCRIPTION:Letní tábory o Evropské unii a jednotné Evropě v její rozmanitosti. \nZŠ Štefcova Hradec Králové ve spolupráci s Eurocentry Pardubice a Hradec Králové pořádají další ročník letních táborů\, který s sebou opět přinese EURO DAY! \nCílem jednodenních výtvarných\, pohybových a vzdělávacích aktivit\, workshopů a soutěží bude seznámit žáky ZŠ z regionů všech věkových kategorií s rozmanitostmi\, odlišnými kulturami\, tradicemi a chutěmi Evropy a Evropanů. \nKdy: 10. 7. 2024 (13:00 – 15:00) \nKde: ZŠ Štefcova 1092\, 500 09 Hradec Králové 9 \nTěšíme se na další letní setkání! \n \n 
URL:https://tvorimevropu.showyourweb.cz/event/letni-tabor-na-skok-do-evropy-6-3/
CATEGORIES:Hradec Králové,Pardubice
END:VEVENT
BEGIN:VEVENT
DTSTART;TZID=UTC:20240701T000000
DTEND;TZID=UTC:20240920T235900
DTSTAMP:20260420T033016
CREATED:20240612T081218Z
LAST-MODIFIED:20240612T081218Z
UID:170198-1719792000-1726876740@tvorimevropu.showyourweb.cz
SUMMARY:Fotosoutěž Fotíme Evropu\, již 20 let!
DESCRIPTION:Regionální Eurocentra a Informační střediska Europe Direct Hradec Králové a Europe Direct Pardubice vyhlašují další ročník letní fotosoutěže s názvem „Fotíme Evropu\, již 20 let!“ \nZachyťte jedinečnost a rozmanitost Evropy v proměnách času\, protože již 20 let tvoříme Evropu\, fotíme Evropu! \nSoutěžit můžete ve dvou kategoriích: \n\nEvropa v detailech (zachycení obyčejných věcí novou perspektivou\, makrofotografie apod.)\nEvropa v kontrastech (staré vs. nové\, tradiční vs. netradiční\, proměny v čase\, …)\n\nFotosoutěž se koná v termínu od 1. července do 20. září 2024. Své soutěžní fotografie nám zasílejte na email: fotosoutez.eurocentrum@vlada.gov.cz\, nebo prostřednictvím formuláře níže. \nSoutěž je určena pro amatérské fotografy! \nV každé kategorii budou vybráni autoři třech nejlepších snímků\, kteří získají ceny v celkové hodnotě 6000 Kč! Vítěze soutěže vybere odborná porota. Speciální cena veřejnosti bude udělena autorovi fotografie s nejvíce udělenými „To se mi líbí“ na IG profilu soutěže. \nLetošní ročník fotosoutěže se koná u příležitosti výročí 20 let členství ČR v EU. \nVíce informací a pravidla soutěže naleznete na facebookové stránce soutěže a na webových stránkách organizátorů tvorimevropu.cz a europedirect.cz. \n  \nPlakát Fotíme Evropu\, již 20 let! \nPodmínky fotosoutěže 2024 \n  \n\n	Upozornění: u tohoto obsahu je vyžadován JavaScript.\n\n\n    \n\n\n        \n        \n        \n  \nV případě problému s nahráním Vaší fotografie\, nám ji prosím zašlete na mail: fotosoutez.eurocentra@vlada.gov.cz.
URL:https://tvorimevropu.showyourweb.cz/event/fotosoutez-fotime-evropu-jiz-20-let-3/
CATEGORIES:20 let v EU,Hradec Králové,Pardubice
END:VEVENT
END:VCALENDAR