BEGIN:VCALENDAR
VERSION:2.0
PRODID:-//Tvoříme Evropu - ECPv6.15.0.1//NONSGML v1.0//EN
CALSCALE:GREGORIAN
METHOD:PUBLISH
X-WR-CALNAME:Tvoříme Evropu
X-ORIGINAL-URL:https://tvorimevropu.showyourweb.cz
X-WR-CALDESC:Akce na Tvoříme Evropu
REFRESH-INTERVAL;VALUE=DURATION:PT1H
X-Robots-Tag:noindex
X-PUBLISHED-TTL:PT1H
BEGIN:VTIMEZONE
TZID:UTC
BEGIN:STANDARD
TZOFFSETFROM:+0000
TZOFFSETTO:+0000
TZNAME:UTC
DTSTART:20240101T000000
END:STANDARD
END:VTIMEZONE
BEGIN:VEVENT
DTSTART;TZID=UTC:20240927T160000
DTEND;TZID=UTC:20240927T220000
DTSTAMP:20260420T053219
CREATED:20240912T124609Z
LAST-MODIFIED:20240912T124609Z
UID:170268-1727452800-1727474400@tvorimevropu.showyourweb.cz
SUMMARY:Noc vědců 2024: Proměna
DESCRIPTION:Tajemná\, nedostižná a komplikovaná. i tak na vás může věda působit\, ale ne\, když je Noc vědců. Noc\, kdy vám věda a vědci ukážou svou pravou tvář. \nNoc vědců\, akce oživující v jeden večer stovky vědeckých budov\, do kterých se běžný smrtelník nedostane. Návštěvníci proplouvají laboratořemi\, přednáškovými místnostmi\, vybuchujícími experimenty a jdou do hloubky aktuálních témat. Děti\, dospělí\, senioři\, každý zapálený pro vědu je vítaný. Setkejte se s našimi vědci a oni už vás naučí vědu milovat. \nV České republice se Noc vědců koná od roku 2005 a je zastoupena českými univerzitami\, vědeckými ústavy\, hvězdárnami a dalšími institucemi. v současnosti probíhá akce pod národní koordinací Ostravské univerzity a VŠB – Technické univerzity v Ostravě. v roce 2020 se právě zmíněným univerzitám podařilo získat prestižní evropský projekt Marie Curie-Skłodowská\, díky kterému se česká Noc vědců dostává i na evropskou mapu! \nUniverzita Pardubice se i letos připojí k několika stovkám vědeckých institucí v ČR a v Evropě a otevře své brány všem zájemcům o vědu bez rozdílu věku. \nKdy: 27. 9. 2024\, 16.00 – 22.00  \nKde: Celý univerzitní program se letos koná v prostorách Technologického areálu Doubravice 41\, 532 10 Pardubice \nPro detailní program\, přenos i soutěž navštivte speciální web Noc vědců. \nVstup zdarma. \nNa akci se rovněž představí stánek Eurocentra Pardubice a Domu zahraniční spolupráce s tematickými soutěžemi a aktivitami pro děti i dospělé. \nTěšíme se na setkání! \n \n 
URL:https://tvorimevropu.showyourweb.cz/event/noc-vedcu-2024-promena-3/
CATEGORIES:Pardubice
END:VEVENT
END:VCALENDAR