BEGIN:VCALENDAR
VERSION:2.0
PRODID:-//Tvoříme Evropu - ECPv6.15.0.1//NONSGML v1.0//EN
CALSCALE:GREGORIAN
METHOD:PUBLISH
X-WR-CALNAME:Tvoříme Evropu
X-ORIGINAL-URL:https://tvorimevropu.showyourweb.cz
X-WR-CALDESC:Akce na Tvoříme Evropu
REFRESH-INTERVAL;VALUE=DURATION:PT1H
X-Robots-Tag:noindex
X-PUBLISHED-TTL:PT1H
BEGIN:VTIMEZONE
TZID:UTC
BEGIN:STANDARD
TZOFFSETFROM:+0000
TZOFFSETTO:+0000
TZNAME:UTC
DTSTART:20240101T000000
END:STANDARD
END:VTIMEZONE
BEGIN:VEVENT
DTSTART;VALUE=DATE:20240611
DTEND;VALUE=DATE:20240614
DTSTAMP:20260419T233337
CREATED:20240116T173840Z
LAST-MODIFIED:20240116T173840Z
UID:169958-1718064000-1718323199@tvorimevropu.showyourweb.cz
SUMMARY:Evropský týden udržitelné energie 2024 (EUSEW)
DESCRIPTION:Evropský týden udržitelné energie (EUSEW) je největší každoroční akce věnovaná obnovitelným zdrojům energie a efektivnímu využívání energie v EU. Zahrnuje řadu činností zaměřených na budování bezpečné energetické budoucnosti pro Evropu. \nLetošní 18. ročník politické konference se bude konat v hybridním formátu v Bruselu a online ve dnech 11.–13. června 2024. \nPokud přispíváte k vývoji nebo implementaci klimaticky neutrálních řešení nebo technologií pro komunitu\, podnik\, průmysl… pak je Evropský týden udržitelné energie právě pro vás. Každoroční akce je příležitostí setkat se se zúčastněnými stranami\, které podporují energetickou účinnost a obnovitelné zdroje energie\, seznámit se s úspěšnými opatřeními a politikami a inspirovat inovace ke splnění cílů EU v oblasti energetiky a klimatu. \nVíce o zapojení a konferenci EUSEW zde:  https://sustainable-energy-week.ec.europa.eu/news/calling-all-sustainable-energy-heroes-european-sustainable-energy-week-returns-2024-2023-12-11_en?prefLang=cs&etrans=cs \n \n 
URL:https://tvorimevropu.showyourweb.cz/event/evropsky-tyden-udrzitelne-energie-2024-eusew-3/
CATEGORIES:Ostrava
ATTACH;FMTTYPE=image/png:https://tvorimevropu.showyourweb.cz/wp-content/uploads/2024/01/eusew24-vector-banner-wide.png
END:VEVENT
END:VCALENDAR