BEGIN:VCALENDAR
VERSION:2.0
PRODID:-//Tvoříme Evropu - ECPv6.15.0.1//NONSGML v1.0//EN
CALSCALE:GREGORIAN
METHOD:PUBLISH
X-WR-CALNAME:Tvoříme Evropu
X-ORIGINAL-URL:https://tvorimevropu.showyourweb.cz
X-WR-CALDESC:Akce na Tvoříme Evropu
REFRESH-INTERVAL;VALUE=DURATION:PT1H
X-Robots-Tag:noindex
X-PUBLISHED-TTL:PT1H
BEGIN:VTIMEZONE
TZID:UTC
BEGIN:STANDARD
TZOFFSETFROM:+0000
TZOFFSETTO:+0000
TZNAME:UTC
DTSTART:20230101T000000
END:STANDARD
END:VTIMEZONE
BEGIN:VEVENT
DTSTART;TZID=UTC:20231019T090000
DTEND;TZID=UTC:20231019T161500
DTSTAMP:20260420T032948
CREATED:20230926T073410Z
LAST-MODIFIED:20230926T073410Z
UID:169887-1697706000-1697732100@tvorimevropu.showyourweb.cz
SUMMARY:Den otevřených dveří Regionálního dobrovolnictví
DESCRIPTION:Dne 19. 10. 2023 se na Krajském úřadě Královéhradeckého kraje uskuteční Den otevřených dveří regionálního dobrovolnictví! Eurocentrum Hradec Králové na akci představí možnosti zapojení do programu Evropského sboru solidarity\, solidární projekty a síť Eurodesk. Akce je zdarma!
URL:https://tvorimevropu.showyourweb.cz/event/den-otevrenych-dveri-regionalniho-dobrovolnictvi-3/
CATEGORIES:Hradec Králové
ATTACH;FMTTYPE=:
END:VEVENT
BEGIN:VEVENT
DTSTART;VALUE=DATE:20230609
DTEND;VALUE=DATE:20230701
DTSTAMP:20260420T032948
CREATED:20230609T115027Z
LAST-MODIFIED:20230609T115027Z
UID:169792-1686268800-1688169599@tvorimevropu.showyourweb.cz
SUMMARY:Poznej Evropu! (soutěžní úniková hra)
DESCRIPTION:Poznej Evropu\, otevři kufr a vyraz na zkušenou!\nTak zní motto soutěžní únikové hry\, kterou si pro všechny zájemce připravilo Eurocentrum Pardubice a EURODESK Česká republika. \nCílem hry je nalézt číselný kód k zamčenému kufru\, se kterým můžeš vyrazit za dobrodružstvím a na zkušenou do Evropy! Kromě zajímavostí o evropských zemích poznáš také evropské příležitosti pro mladé\, o kterých jsi možná dosud nevěděl(a). \nZajímáš se o cestování\, poznávání cizích kultur\, práci na společném tématu\, workshopy s prvky neformálního vzdělávání či mezinárodní dobrovolnictví? Pokud ano\, s naší únikovou hrou se dozvíš více! \nPokud budeš mít zájem\, můžeš soutěžit o hodnotné ceny na Tvoji cestu Evropou! \nSoutěž Poznej Evropu! probíhá do konce června. na tři výherce čekají lákavé odměny organizátorů. \nSoutěž pořádá Eurocentrum Pardubice a EURODESK Česká republika. \nOdkaz na hru nalezneš ZDE.
URL:https://tvorimevropu.showyourweb.cz/event/poznej-evropu-soutezni-unikova-hra-3/
CATEGORIES:Pardubice
ATTACH;FMTTYPE=:
END:VEVENT
END:VCALENDAR