BEGIN:VCALENDAR
VERSION:2.0
PRODID:-//Tvoříme Evropu - ECPv6.15.0.1//NONSGML v1.0//EN
CALSCALE:GREGORIAN
METHOD:PUBLISH
X-WR-CALNAME:Tvoříme Evropu
X-ORIGINAL-URL:https://tvorimevropu.showyourweb.cz
X-WR-CALDESC:Akce na Tvoříme Evropu
REFRESH-INTERVAL;VALUE=DURATION:PT1H
X-Robots-Tag:noindex
X-PUBLISHED-TTL:PT1H
BEGIN:VTIMEZONE
TZID:UTC
BEGIN:STANDARD
TZOFFSETFROM:+0000
TZOFFSETTO:+0000
TZNAME:UTC
DTSTART:20230101T000000
END:STANDARD
END:VTIMEZONE
BEGIN:VEVENT
DTSTART;TZID=UTC:20230322T180000
DTEND;TZID=UTC:20230322T193000
DTSTAMP:20260420T032806
CREATED:20230319T214126Z
LAST-MODIFIED:20230319T214126Z
UID:169642-1679508000-1679513400@tvorimevropu.showyourweb.cz
SUMMARY:Ohlédnutí za českým předsednictvím v Radě EU
DESCRIPTION:Srdečně vás zveme na přednášku Davida Březiny a Terezy Košňařové z Odboru pro předsednictví ČR v Radě EU\, Úřad vlády ČR.\n\n\nJaké bylo české předsednictví v Radě EU a jaké že byly nastavené priority? Předsednictví v Radě EU\, kterému ČR předsedala\, byla jedinečná příležitost\, jak prezentovat ČR navenek a spolu s tím i české zájmy.\nJaké jsou nyní priority ČR na evropské úrovni a jak funguje Eurocentrum v Moravskoslezském kraji? i o tom bude přednáška\, na kterou se můžete těšit 22. 3. od 18:00 v Klubu Art.
URL:https://tvorimevropu.showyourweb.cz/event/ohlednuti-za-ceskym-predsednictvim-v-rade-eu-3/
CATEGORIES:Ostrava
END:VEVENT
END:VCALENDAR