BEGIN:VCALENDAR
VERSION:2.0
PRODID:-//Tvoříme Evropu - ECPv6.15.0.1//NONSGML v1.0//EN
CALSCALE:GREGORIAN
METHOD:PUBLISH
X-WR-CALNAME:Tvoříme Evropu
X-ORIGINAL-URL:https://tvorimevropu.showyourweb.cz
X-WR-CALDESC:Akce na Tvoříme Evropu
REFRESH-INTERVAL;VALUE=DURATION:PT1H
X-Robots-Tag:noindex
X-PUBLISHED-TTL:PT1H
BEGIN:VTIMEZONE
TZID:Europe/Prague
BEGIN:DAYLIGHT
TZOFFSETFROM:+0100
TZOFFSETTO:+0200
TZNAME:CEST
DTSTART:20240331T010000
END:DAYLIGHT
BEGIN:STANDARD
TZOFFSETFROM:+0200
TZOFFSETTO:+0100
TZNAME:CET
DTSTART:20241027T010000
END:STANDARD
BEGIN:DAYLIGHT
TZOFFSETFROM:+0100
TZOFFSETTO:+0200
TZNAME:CEST
DTSTART:20250330T010000
END:DAYLIGHT
BEGIN:STANDARD
TZOFFSETFROM:+0200
TZOFFSETTO:+0100
TZNAME:CET
DTSTART:20251026T010000
END:STANDARD
END:VTIMEZONE
BEGIN:VTIMEZONE
TZID:UTC
BEGIN:STANDARD
TZOFFSETFROM:+0000
TZOFFSETTO:+0000
TZNAME:UTC
DTSTART:20240101T000000
END:STANDARD
END:VTIMEZONE
BEGIN:VEVENT
DTSTART;TZID=Europe/Prague:20250408T110000
DTEND;TZID=Europe/Prague:20250409T140000
DTSTAMP:20260420T033212
CREATED:20250407T124337Z
LAST-MODIFIED:20250407T124337Z
UID:170455-1744110000-1744207200@tvorimevropu.showyourweb.cz
SUMMARY:Veletrh Job Day
DESCRIPTION:Ve dnech 8. a 9. dubna 2025 proběhne veletrh pracovních příležitostí pro všechny studenty a absolventy Jihočeské univerzity v Českých Budějovicích\, a to v přízemí menzy JU. \nEurocentrum České Budějovice bude v úterý 8. dubna na svém stánku informovat o možnostech stáží a práce v institucích Evropské unie a také o dalších možnostech výjezdů přes programy EU.
URL:https://tvorimevropu.showyourweb.cz/event/veletrh-job-day-3/
CATEGORIES:České Budějovice
END:VEVENT
BEGIN:VEVENT
DTSTART;TZID=Europe/Prague:20250408T100000
DTEND;TZID=Europe/Prague:20250408T160000
DTSTAMP:20260420T033212
CREATED:20250407T125024Z
LAST-MODIFIED:20250407T125024Z
UID:170456-1744106400-1744128000@tvorimevropu.showyourweb.cz
SUMMARY:StuduJU\, cestuJU na Jihočeské univerzitě
DESCRIPTION:Dne 8. dubna 2025 od 10 do 16 hod. se bude v akademické knihovně Jihočeské univerzity konat akce StuduJU & CestuJU pod záštitou Útvaru pro zahraniční vztahy Jihočeské univerzity. \nVe 13 hodin můžete přijít na přednášku o možnostech výjezdů do zahraničí. Prezentovat budeme také možnosti stáží a práce v institucích EU a podělíme se o zážitky a praktické rady ze stáže v Evropské komisi.
URL:https://tvorimevropu.showyourweb.cz/event/studuju-cestuju-na-jihoceske-univerzite-3/
CATEGORIES:České Budějovice
END:VEVENT
BEGIN:VEVENT
DTSTART;TZID=Europe/Prague:20250402T100000
DTEND;TZID=Europe/Prague:20250402T113000
DTSTAMP:20260420T033212
CREATED:20250331T115909Z
LAST-MODIFIED:20250331T115909Z
UID:170449-1743588000-1743593400@tvorimevropu.showyourweb.cz
SUMMARY:Přednáška Polsko
DESCRIPTION:Zveme Vás na přednášku o Polsku – aktuální předsednické zemi EU. \nDozvíte se více nejen o prioritách polského předsednictví\, ale také o turistických zajímavostech této země. \nVstup zdarma. Registrace na akci probíhá přes Klub Aktiv\, z.s.
URL:https://tvorimevropu.showyourweb.cz/event/prednaska-polsko-3/
CATEGORIES:České Budějovice
END:VEVENT
BEGIN:VEVENT
DTSTART;TZID=Europe/Prague:20250324T133000
DTEND;TZID=Europe/Prague:20250324T144500
DTSTAMP:20260420T033212
CREATED:20250331T115212Z
LAST-MODIFIED:20250331T115212Z
UID:170448-1742823000-1742827500@tvorimevropu.showyourweb.cz
SUMMARY:Aktuální bezpečnostní situace v Evropě
DESCRIPTION:Zveme Vás na přednášku o bezpečnostní situaci v Evropě.  \nVstup zdarma. Registrace na akci probíhá přes Klub Aktiv\, z.s.
URL:https://tvorimevropu.showyourweb.cz/event/aktualni-bezpecnostni-situace-v-evrope-3/
CATEGORIES:České Budějovice
END:VEVENT
BEGIN:VEVENT
DTSTART;TZID=Europe/Prague:20241210T100000
DTEND;TZID=Europe/Prague:20241210T120000
DTSTAMP:20260420T033212
CREATED:20241118T101245Z
LAST-MODIFIED:20241118T101245Z
UID:170366-1733824800-1733832000@tvorimevropu.showyourweb.cz
SUMMARY:Evropská unie po volbách
DESCRIPTION:Jak dopadly volby do Evropského parlamentu? Mění se tím směřování Evropské unie? a jak probíhá schvalování komise? Nejen na tyto otázky odpovíme přednášce\, která bude věnovat proměně institucí unie po letošních volbách parlamentu. \nAkce je určena primárně seniorům z Klubu Aktiv\, z. s. \nS ohledem na kapacitu sálu je nutná předchozí rezervace. v případě zájmu o akci kontaktujte Klub Aktiv\, z. s. (klubaktiv@gmail.com). \n \n 
URL:https://tvorimevropu.showyourweb.cz/event/evropska-unie-po-volbach-3/
CATEGORIES:České Budějovice
END:VEVENT
BEGIN:VEVENT
DTSTART;TZID=Europe/Prague:20241127T130000
DTEND;TZID=Europe/Prague:20241127T150000
DTSTAMP:20260420T033212
CREATED:20241118T100321Z
LAST-MODIFIED:20241118T100321Z
UID:170365-1732712400-1732719600@tvorimevropu.showyourweb.cz
SUMMARY:Vánoční zvyky v zemích EU
DESCRIPTION:Víte\, jaké vánoční tradice se dodržují u našich evropských sousedů? Kde nosí dárky Befana\, kde vítají vánočního posla a kde si lidé posílají oplatku v dopisech? Přijďte se vánočně naladit\, zjistit více o evropských tradicích a načerpat inspiraci nejen pro vánoční pečení! \nAkce je určena primárně seniorům z Klubu Aktiv\, z. s. \nS ohledem na kapacitu sálu je nutná předchozí rezervace. v případě zájmu o akci kontaktujte Klub Aktiv\, z. s. (klubaktiv@gmail.com). \n \n 
URL:https://tvorimevropu.showyourweb.cz/event/vanocni-zvyky-v-zemich-eu-3/
CATEGORIES:České Budějovice
END:VEVENT
BEGIN:VEVENT
DTSTART;TZID=Europe/Prague:20241122T083000
DTEND;TZID=Europe/Prague:20241122T160000
DTSTAMP:20260420T033212
CREATED:20241018T085459Z
LAST-MODIFIED:20241018T085459Z
UID:170321-1732264200-1732291200@tvorimevropu.showyourweb.cz
SUMMARY:Rozhoduj o Evropě v Českých Budějovicích
DESCRIPTION:Chceš se dozvědět více (nejen) o evropské politice? Chceš si vyzkoušet\, jaké to je zastupovat stát na půdě Rady EU nebo přímo občany v Evropském parlamentu? Chceš\, aby byl Tvůj hlas v Evropě slyšet? To vše Ti nabízí nový ročník Rozhoduj o Evropě – Staň se na den tvůrcem evropské politiky!  \nVzdělávací projekt „Rozhoduj o Evropě – Staň se na den tvůrcem evropské politiky“ je unikátní kombinací jednodenních interaktivních seminářů v regionech a simulace zasedání institucí Evropské unie. Projekt je zaměřen na podporu dialogu mladých lidí v České republice a na Slovensku o aktuálních evropských tématech a na jejich setkání a diskuse s politiky\, odborníky a dalšími osobnostmi veřejného života. Projekt určený středoškolákům ze všech typů škol z celé České republiky a Slovenska zároveň mladým lidem přibližuje rozhodovací proces na úrovni Evropské unie. \nRegionální kolo se uskuteční v Českých Budějovicích v pátek 22. 11. 2024 v prostorách Jihočeského vědeckotechnického parku (Lipová 1789\, České Budějovice). \nVíce informací a možnost registrace naleznete na webových stránkách Rozhoduj o Evropě.
URL:https://tvorimevropu.showyourweb.cz/event/rozhoduj-o-evrope-v-ceskych-budejovicich-3/
CATEGORIES:České Budějovice
END:VEVENT
BEGIN:VEVENT
DTSTART;TZID=Europe/Prague:20241115T100000
DTEND;TZID=Europe/Prague:20241115T123000
DTSTAMP:20260420T033212
CREATED:20241023T092453Z
LAST-MODIFIED:20241023T092453Z
UID:170339-1731664800-1731673800@tvorimevropu.showyourweb.cz
SUMMARY:Seminář Podpora projektů 2021-2027
DESCRIPTION:Zveme Vás na seminář Podpora projektů 2021-2027\, který představí možnosti financování projektů z komunitárních programů CERV\, Erasmus+\, Kreativní Evropa a z Mezinárodního visegradského fondu. \nSeminář se uskuteční v pátek 15. listopadu od 10:00 do 12:30 v sále zastupitelstva Krajského úřadu Jihočeského kraje (U Zimního stadionu 1952/2\, České Budějovice). \nVstup na seminář je zdarma. \nS ohledem na kapacitu sálu je nutná registrace\, a to do 11. 11. 2024 na e-mailu eurocentrum.cb@vlada.gov.cz. \nPROGRAM ke stažení (pdf): EC ČB_program 15.11.2024 \n \n  \nPREZENTACE ke stažení (pdf): \n\nCERV\nErasmus+\nMezinárodní visegradský fond\nKreativní Evropa\nErasmus pro podnikatele\nEurocentrum ČB
URL:https://tvorimevropu.showyourweb.cz/event/podpora-projektu-15-11-2024-3/
CATEGORIES:České Budějovice
END:VEVENT
BEGIN:VEVENT
DTSTART;VALUE=DATE:20241111
DTEND;VALUE=DATE:20241219
DTSTAMP:20260420T033212
CREATED:20241111T081220Z
LAST-MODIFIED:20241111T081220Z
UID:170359-1731283200-1734566399@tvorimevropu.showyourweb.cz
SUMMARY:Výtvarná soutěž Vánoční ozdoba z Evropy
DESCRIPTION:Eva a Honzík se už nemohou dočkat Vánoc. Mají kamarády v řadě zemí Evropské unie – a tak se rozhodli\, že si letos vyzdobí stromeček netradičně. Pomozte jim a pošlete nám obrázek vánoční ozdoby\, kde znázorníte některý z vánočních zvyků v zemích Evropské unie (kromě České republiky). \nAutoři nejkrásnějších ozdob vyhrají zajímavé ceny! \nPodmínky soutěže (podrobně viz dokument níže): \n\nkaždý soutěžící může zaslat jeden obrázek (velikost max. A3);\nnezapomeňte uvést: jméno autora\, věk/třídu\, kontakt na školu a na pedagoga (e-mailovou adresu / telefon pro kontaktování při případné výhře);\n\nSoutěž probíhá ve 2 kategoriích: \n\n1.–5. třída ZŠ;\n6.–9. třída ZŠ a odpovídajících ročníků víceletých gymnázií.\n\nSvá výtvarná díla zašlete do 18. 12. 2024 na adresu: poštovní schránka Eurocentra České Budějovice\, Krajský úřad Jihočeského kraje (budova B)\, B. Němcové 49/3\, 370 01 České Budějovice. na obálku připište kontaktní telefon Eurocentra: +420 720 970 597. \nSoutěž vyhlašují informační kanceláře Eurocentrum České Budějovice a EUROPE DIRECT České Budějovice. Upozorňujeme\, že soutěžní díla se po skončení soutěže nevrací a vyhlašovatelé soutěže si vyhrazují právo použít je pro své účely. \nPodrobné podmínky naleznete zde: Pravidla a podmínky soutěže Vánoční ozdoba z Evropy \n \n 
URL:https://tvorimevropu.showyourweb.cz/event/vytvarna-soutez-vanocni-ozdoba-z-evropy-3/
CATEGORIES:České Budějovice
END:VEVENT
BEGIN:VEVENT
DTSTART;TZID=Europe/Prague:20241107T090000
DTEND;TZID=Europe/Prague:20241109T150000
DTSTAMP:20260420T033212
CREATED:20241106T081338Z
LAST-MODIFIED:20241106T081338Z
UID:170358-1730970000-1731164400@tvorimevropu.showyourweb.cz
SUMMARY:Veletrh Vzdělání a řemeslo
DESCRIPTION:Ve dnech 7.-9. listopadu 2024 se na Výstavišti v Českých Budějovicích uskuteční tradiční veletrh Vzdělání a řemeslo. \n \nJe to největší třídenní přehlídka středních škol a učilišť v jižních Čechách i s expozicemi vysokých škol a zaměstnavatelů. a vstup je jako v minulých letech ZDARMA. \nNa našem stánku se dozvíte informace o možnostech zahraničních výjezdů (studium\, práce\, výměny mládeže\, dobrovolnictví\, stáže v institucích EU apod.) a můžete se zapojit také do soutěží. Pedagogům představíme naši nabídku bezplatných přednášek a workshopů s evropskou tematikou. \nVíce informací o veletrhu naleznete zde.
URL:https://tvorimevropu.showyourweb.cz/event/veletrh-vzdelani-a-remeslo-2-3/
CATEGORIES:České Budějovice
END:VEVENT
BEGIN:VEVENT
DTSTART;TZID=Europe/Prague:20241017T100000
DTEND;TZID=Europe/Prague:20241017T160000
DTSTAMP:20260420T033212
CREATED:20241017T060135Z
LAST-MODIFIED:20241017T060135Z
UID:170320-1729159200-1729180800@tvorimevropu.showyourweb.cz
SUMMARY:Erasmus Days na Jihočeské univerzitě
DESCRIPTION:Zveme Vás na akci StuduJU a cestuJU v rámci Erasmus Days na Jihočeské univerzitě. \nBěhem celého dne budeme na našem stánku (spolu s EUROPE DIRECT České Budějovice) informovat o možnostech výjezdů finančně podpořených Evropskou unií. Od 13 hod. si nenechte ujít naši přednášku Studuj\, cestuj\, stážuj po Evropě – dozvíte se\, jaké jsou možnosti výjezdů\, a poslechnete si praktické rady\, jak na stáž do institucí EU. \n \n 
URL:https://tvorimevropu.showyourweb.cz/event/erasmus-days-na-jihoceske-univerzite-3/
CATEGORIES:České Budějovice
END:VEVENT
BEGIN:VEVENT
DTSTART;TZID=UTC:20241009T170000
DTEND;TZID=UTC:20241009T190000
DTSTAMP:20260420T033212
CREATED:20240918T103912Z
LAST-MODIFIED:20240918T103912Z
UID:170284-1728493200-1728500400@tvorimevropu.showyourweb.cz
SUMMARY:Debata 20 let ČR v EU
DESCRIPTION:Dovolujeme si Vás pozvat na debatu 20 let ČR v EU: jižní Čechy a evropské příležitosti.  \nTato debata se uskuteční v rámci letošních oslav výročí 20 let členství ČR v EU a je součástí mezinárodní vědecké konference „Udržitelný rozvoj XV: 20 let členství v EU: Úspěchy\, výzvy a perspektivy“\, kterou pořádá Vysoká škola evropských a regionálních studií v Českých Budějovicích. \n\nKDY: 9. října 2024 od 17 hodin\nKDE: Český rozhlas České Budějovice\, u Tří lvů 1\, České Budějovice\n\nHosty debaty budou: \n\nMonika Ladmanová\, vedoucí zastoupení Evropské komise v České republice\nDagmar Škodová Parmová\, primátorka města České Budějovice\nAnna Hořejší\, kreativní ředitelka organizace České Budějovice Evropské hlavní město kultury 2028\n\nDebatu bude moderovat Ondřej Houska\, redaktor deníku Hospodářské noviny. \nPřijďte diskutovat o tom\, co nám členství ČR v EU přineslo a co ČR přinesla Evropě! \nVstup na akci je zdarma. Z důvodu omezené kapacity sálu je nutná registrace na akci zde.
URL:https://tvorimevropu.showyourweb.cz/event/debata-20-let-cr-v-eu-2-3/
CATEGORIES:20 let v EU,České Budějovice
END:VEVENT
BEGIN:VEVENT
DTSTART;TZID=UTC:20240927T170000
DTEND;TZID=UTC:20240927T220000
DTSTAMP:20260420T033212
CREATED:20240923T123737Z
LAST-MODIFIED:20240923T123737Z
UID:170295-1727456400-1727474400@tvorimevropu.showyourweb.cz
SUMMARY:Noc vědců s Eurocentrem ČB
DESCRIPTION:V pátek 27. září se koná každoroční oblíbená akce Noc vědců\, která je určena široké veřejnosti. Letošním tématem je proměna – od evoluce v přírodě po revoluci v technologiích. Svou proměnou a vývojem prochází vše kolem nás. Pojďme společně proměnit jednu noc v roce na jedinečnou oslavu vědy! \nPřijďte za námi na Pedagogickou fakultu Jihočeské univerzity v Českých Budějovicích. na našem stanovišti se dozvíte\, jak EU proměnila Českou republiku a jak jsme EU obohatili my. Přijďte zjistit víc například o projektech podpořených z fondů EU a zasoutěžit si o zajímavé ceny.
URL:https://tvorimevropu.showyourweb.cz/event/noc-vedcu-s-eurocentrem-cb-3/
CATEGORIES:České Budějovice
END:VEVENT
BEGIN:VEVENT
DTSTART;VALUE=DATE:20240926
DTEND;VALUE=DATE:20240928
DTSTAMP:20260420T033212
CREATED:20240830T115056Z
LAST-MODIFIED:20240830T115056Z
UID:170245-1727308800-1727481599@tvorimevropu.showyourweb.cz
SUMMARY:Evropský den jazyků v Eurocentru ČB
DESCRIPTION:Zveme pedagogy a jejich žáky na akci Evropský den jazyků. \n \nPřijďte se svými žáky na workshop s tématem rozmanitosti evropských jazyků\, během kterého se dozvědí mnoho zajímavého a zažijí spoustu zábavy: \n\nzajímavosti o evropských jazycích;\nkvízy\, jazykolamy\, hry;\nsoutěže o drobné ceny.\n\nTermín: čtvrtek 26. září 2024 a pátek 27. září 2024\nMísto konání: Krajský úřad Jihočeského kraje\, budova D\, B. Němcové 1824/8\, České Budějovice \nNa workshopy v délce 45 minut je možné se registrovat v těchto časech: 8:00\, 9:00\, 10:00\, 11:00 a 12:00. \n\nVŠECHNY TERMÍNY JSOU JIŽ OBSAZENY.\n\nKapacita pro 1 skupinu je max. 25 žáků.\nAkce je bezplatná a je určena žákům 2. stupně základních škol a odpovídajících ročníků víceletých gymnázií.\nRegistrace probíhá na e-mailu eurocentrum.cb@vlada.gov.cz. Uveďte\, prosím\, počet žáků a preferovaný čas. \n\nPLAKÁT AKCE ke stažení (pdf): Evropský den jazyků_2024
URL:https://tvorimevropu.showyourweb.cz/event/evropsky-den-jazyku-v-eurocentru-cb-3/
CATEGORIES:České Budějovice
END:VEVENT
BEGIN:VEVENT
DTSTART;VALUE=DATE:20240902
DTEND;VALUE=DATE:20240903
DTSTAMP:20260420T033212
CREATED:20240830T121318Z
LAST-MODIFIED:20240830T121318Z
UID:170246-1725235200-1725321599@tvorimevropu.showyourweb.cz
SUMMARY:Bezplatné přednášky pro základní a střední školy
DESCRIPTION:Eurocentrum České Budějovice nabízí v průběhu celého školního roku bezplatné přednášky o Evropě a Evropské unii pro žáky základních a studenty středních škol Jihočeského kraje. Součástí všech přednášek jsou různé testy a kvízy. Přednášky lze uskutečnit i pro skupiny osob mimo studenty škol\, např. pro zájmové kroužky\, příměstské tábory apod. \nNabízená témata pro školní rok 2024/2025:\nZÁKLADNÍ ŠKOLY: \n\nVýlet Evropou\nCestování po Evropské unii\nEU letem světem\nVánoce v zemích EU\nVelikonoce v zemích EU\n\nAnotaci naleznete zde (pdf): Anotace přednášek_ZŠ_2024_2025 \nSTŘEDNÍ ŠKOLY: \n\nEvropská unie v kostce\nČeská republika a Evropská unie\nMýty a fakta o EU\nEvropská unie a mladí lidé\nWorkshop Vyjeď do Evropy\nHistorické mezníky vývoje EU\nJak funguje EU?\nSeznamte se: Evropské fondy\nNavrhni projekt\n\nAnotaci naleznete zde (pdf): Anotace přednášek SŠ 2024_2025 \nV případě vašeho zájmu nás prosím neváhejte kontaktovat. Rádi za vámi přijedeme přímo do Vaší školy.
URL:https://tvorimevropu.showyourweb.cz/event/bezplatne-prednasky-pro-zakladni-a-stredni-skoly-3/
CATEGORIES:České Budějovice
END:VEVENT
BEGIN:VEVENT
DTSTART;VALUE=DATE:20240822
DTEND;VALUE=DATE:20240828
DTSTAMP:20260420T033212
CREATED:20240618T124625Z
LAST-MODIFIED:20240618T124625Z
UID:170200-1724284800-1724803199@tvorimevropu.showyourweb.cz
SUMMARY:Země Živitelka
DESCRIPTION:Již 50. ročník agrosalonu Země živitelka se letos uskuteční ve dnech 22.-27. srpna. Jedná se o největší a nejvýznamnější akci svého druhu\, která je určena odborné i laické veřejnosti. \n \nZemě živitelka prezentuje nejširší nabídku zemědělských oborů na jednom místě (novinky z oborů zemědělské techniky\, myslivosti\, včelařství\, rybářství\, potravinářství nebo chovu hospodářských zvířat\, komplexní prezentaci zemědělství od historie po současné trendy\, i novinky v oblasti výzkumu a vzdělávání). Součástí je tradičně také dětský zemědělský svět – určený především malým návštěvníkům. \nMy se na Vás těšíme v areálu Výstaviště České Budějovice na stánku Eurocentra České Budějovice.
URL:https://tvorimevropu.showyourweb.cz/event/zeme-zivitelka-2-3/
CATEGORIES:České Budějovice
END:VEVENT
BEGIN:VEVENT
DTSTART;VALUE=DATE:20240806
DTEND;VALUE=DATE:20240928
DTSTAMP:20260420T033212
CREATED:20240712T082006Z
LAST-MODIFIED:20240712T082006Z
UID:170212-1722902400-1727481599@tvorimevropu.showyourweb.cz
SUMMARY:Výstava Moji evropští sousedé
DESCRIPTION:Zveme Vás na výstavu výtvarných děl zaslaných do soutěže Moji evropští sousedé. \nVybraná díla si můžete prohlédnout v Jihočeské vědecké knihovně v ČB – v pobočce na Lidické\, a to od 6. srpna do 27. září 2024 v otevírací době knihovny. Vstup je zdarma. \nDo soutěže\, kterou u příležitosti oslav 20 let ČR v Evropské unii pořádaly informační kanceláře Eurocentrum České Budějovice a EUROPE DIRECT České Budějovice\, byly poslány stovky obrázků a kreseb. Přijďte si prohlédnout výběr ze zaslaných děl. \nVýsledky soutěže naleznete v tomto článku.
URL:https://tvorimevropu.showyourweb.cz/event/vystava-moji-evropsti-sousede-3/
CATEGORIES:20 let v EU,České Budějovice
END:VEVENT
BEGIN:VEVENT
DTSTART;VALUE=DATE:20240620
DTEND;VALUE=DATE:20240901
DTSTAMP:20260420T033212
CREATED:20240620T111528Z
LAST-MODIFIED:20240620T111528Z
UID:170203-1718841600-1725148799@tvorimevropu.showyourweb.cz
SUMMARY:Kvíz Letní putování Evropou
DESCRIPTION:Začíná léto a s ním přichází čas prázdnin a dovolených. Znáte významné turistické cíle a památky v Evropě i v Čechách? a víte\, jaká pravidla platí pro cestování v rámci Evropské unie? Zapojte se do našeho letního kvízu a vyhrajte zajímavé ceny\, které se Vám hodí nejen na cesty. \nDo kvízu je možné se zapojit do 31. 8. 2024. \nPravidla soutěže: \n\nVyplňte všech 10 kvízových otázek a získejte minimálně 6000 bodů. Pokud dosáhnete tohoto skóre\, budete automaticky zařazeni do slosování o zajímavé ceny.\nKvíz naleznete ZDE nebo můžete zadat soutěžní pin 009375552 na kahoot.it.\nZ celkového počtu účastníků\, kteří splní podmínky\, vylosujeme 3 šťastné výherce\, kteří získají atraktivní ceny. Po ukončení soutěže budeme výherce kontaktovat na uvedeném e-mailu. v případě\, že daný výherce neodpoví do 7 dní\, nárok na výhru propadá a budeme kontaktovat náhradníka.\nVyplňte na konci kvízu své jméno a e-mailovou adresu. Tyto údaje je nutné vyplnit\, abychom Vás mohli kontaktovat v případě výhry. Pokud nebudou tyto údaje vyplněné\, nebudete zařazeni do slosování.\nVýhry odesíláme pouze na území České republiky\, do zahraničí není možné výhry zaslat.\n\n \nPřejeme Vám hodně štěstí v soutěži a krásné léto plné skvělých zážitků!
URL:https://tvorimevropu.showyourweb.cz/event/kviz-letni-putovani-evropou-3/
CATEGORIES:České Budějovice
END:VEVENT
BEGIN:VEVENT
DTSTART;TZID=UTC:20240606T090000
DTEND;TZID=UTC:20240606T180000
DTSTAMP:20260420T033212
CREATED:20240604T122628Z
LAST-MODIFIED:20240604T122628Z
UID:170180-1717664400-1717696800@tvorimevropu.showyourweb.cz
SUMMARY:Dobrodružství s technikou
DESCRIPTION:Dobrodružství s technikou je zážitkový interaktivní den pro děti\, rodiče\, učitele a další fandy techniky\, vědy a řemesel. Přijďte na náš stánek dozvědět se více o zajímavých evropských vědcích i jejich vynálezech\, vyzkoušet si pokusy se statickou elektřinou a zasoutěžit si o zajímavé ceny. \nNajdete nás v pavilonu T1 na společném stánku s EUROPE DIRECT České Budějovice. \nDíky výstavě Dobrodružství s technikou si můžete v jeden den na jednom místě vyzkoušet na vlastní kůži řadu pokusů\, technických vychytávek\, ale i běžných věcí\, se kterými se setkáte v práci\, ve škole či v běžném životě. Víte například\, že v řadě jihočeských firem se vyrábí součástky\, které denně používáte ve svých mobilních zařízeních\, počítačích či v autě? \nPřijďte si užít den plný zábavy\, ale i poznání. Vybrat si budete moci z více jak 200 stanovišť\, které pro vás připravily firmy\, školy a organizace z Jihočeského kraje.
URL:https://tvorimevropu.showyourweb.cz/event/dobrodruzstvi-s-technikou-3/
CATEGORIES:České Budějovice
ATTACH;FMTTYPE=image/png:https://tvorimevropu.showyourweb.cz/wp-content/uploads/2024/06/Vystaviste-WEB-banner_1.png
END:VEVENT
END:VCALENDAR