BEGIN:VCALENDAR
VERSION:2.0
PRODID:-//Tvoříme Evropu - ECPv6.15.0.1//NONSGML v1.0//EN
CALSCALE:GREGORIAN
METHOD:PUBLISH
X-WR-CALNAME:Tvoříme Evropu
X-ORIGINAL-URL:https://tvorimevropu.showyourweb.cz
X-WR-CALDESC:Akce na Tvoříme Evropu
REFRESH-INTERVAL;VALUE=DURATION:PT1H
X-Robots-Tag:noindex
X-PUBLISHED-TTL:PT1H
BEGIN:VTIMEZONE
TZID:UTC
BEGIN:STANDARD
TZOFFSETFROM:+0000
TZOFFSETTO:+0000
TZNAME:UTC
DTSTART:20220101T000000
END:STANDARD
END:VTIMEZONE
BEGIN:VEVENT
DTSTART;TZID=UTC:20240301T100000
DTEND;TZID=UTC:20240301T100000
DTSTAMP:20260420T031814
CREATED:20240223T103614Z
LAST-MODIFIED:20240223T103614Z
UID:170009-1709287200-1709287200@tvorimevropu.showyourweb.cz
SUMMARY:Euro nebo koruna?
DESCRIPTION:Zveme vás na debatu s Martinem Dvořákem\, ministrem pro evropské záležitosti. \nKDY: 1. března 2024 od 10:00 \nKDE: Vysoká škola evropských a regionálních studií\, Žižkova tř. 1632/5b\, České Budějovice\, sál 1 \nVstup zdarma. \nZ důvodu omezené kapacity sálu je nutné se na akci registrovat zde.
URL:https://tvorimevropu.showyourweb.cz/event/euro-nebo-koruna-3/
CATEGORIES:České Budějovice
END:VEVENT
BEGIN:VEVENT
DTSTART;VALUE=DATE:20230509
DTEND;VALUE=DATE:20230517
DTSTAMP:20260420T031814
CREATED:20230509T073457Z
LAST-MODIFIED:20230509T073457Z
UID:169782-1683590400-1684281599@tvorimevropu.showyourweb.cz
SUMMARY:Soutěž - Den Evropy 2023
DESCRIPTION:Výhercem soutěže je pan Tomáš K. Gratulujeme! \n9. května slavíme Den Evropy! Oslavte ho s námi soutěží a vyhrajte zajímavé ceny. Stačí odpovědět na soutěžní otázku: Jak zní motto Evropské unie? \n\nOdpovědi zasílejte na e-mail eurocentrum.ul@euroskop.cz \nSoutěž trvá do 16. května 2023.\nSlosování proběhne v druhé polovině května 2023. Vylosován bude jeden výherce\, který bude kontaktován e-mailem. Výhra bude odeslána poštou do konce května 2023. Výhry lze odesílat pouze na území České republiky.\n\n 
URL:https://tvorimevropu.showyourweb.cz/event/soutez-den-evropy-2023-3/
CATEGORIES:Ústí nad Labem
END:VEVENT
BEGIN:VEVENT
DTSTART;TZID=UTC:20220317T080000
DTEND;TZID=UTC:20220331T230000
DTSTAMP:20260420T031814
CREATED:20220317T141535Z
LAST-MODIFIED:20220317T141535Z
UID:169194-1647504000-1648767600@tvorimevropu.showyourweb.cz
SUMMARY:Kvíz - Mezinárodní den žen
DESCRIPTION:Minulý týden jsme si\, jako každý rok\, připomněli Mezinárodní den žen. \nDozvěděli jste se letos něco nového? Ověřte si své znalosti v našem kvízu a 3 z Vás mohou vyhrát zajímavou knihu. Kvíz probíhá na platformě Kahoot! a pořádá ji Eurocentrum Plzeň a Eurocentrum České Budějovice. \nPřejeme hodně štěstí! \nKvíz najdete zde: https://bit.ly/3tjm5i4 \nSoutěž se koná v termínu od 17.03. do 31.03.2022 včetně. \nSoutěžící pro přesnou identifikaci v případě výhry uvede u poslední otázky své jméno a e-mail. Soutěžící může kvíz vyplnit jen jednou. Slosování v případě více účastníků se stejným skóre\, oznámení výherců a zaslání cen proběhne koncem dubna 2022. Cena bude výherci zaslána poštou na jeho doručovací adresu\, kterou uvede pořadateli soutěže. Pokud výherce nezareaguje na informaci o výhře do 7 dnů ode dne zveřejnění výsledků\, tak ztrácí nárok na výhru. na výhru není právní nárok. Soutěžící souhlasí s tím\, že jsou pořadatelé oprávněni v případě jeho výhry zveřejnit jeho osobní údaje (jméno\, iniciály příjmení).
URL:https://tvorimevropu.showyourweb.cz/event/kviz-mezinarodni-den-zen-3/
CATEGORIES:České Budějovice,Plzeň
ATTACH;FMTTYPE=:
END:VEVENT
END:VCALENDAR