BEGIN:VCALENDAR
VERSION:2.0
PRODID:-//Tvoříme Evropu - ECPv6.15.0.1//NONSGML v1.0//EN
CALSCALE:GREGORIAN
METHOD:PUBLISH
X-ORIGINAL-URL:https://tvorimevropu.showyourweb.cz
X-WR-CALDESC:Akce na Tvoříme Evropu
REFRESH-INTERVAL;VALUE=DURATION:PT1H
X-Robots-Tag:noindex
X-PUBLISHED-TTL:PT1H
BEGIN:VTIMEZONE
TZID:Europe/Prague
BEGIN:DAYLIGHT
TZOFFSETFROM:+0100
TZOFFSETTO:+0200
TZNAME:CEST
DTSTART:20240331T010000
END:DAYLIGHT
BEGIN:STANDARD
TZOFFSETFROM:+0200
TZOFFSETTO:+0100
TZNAME:CET
DTSTART:20241027T010000
END:STANDARD
BEGIN:DAYLIGHT
TZOFFSETFROM:+0100
TZOFFSETTO:+0200
TZNAME:CEST
DTSTART:20250330T010000
END:DAYLIGHT
BEGIN:STANDARD
TZOFFSETFROM:+0200
TZOFFSETTO:+0100
TZNAME:CET
DTSTART:20251026T010000
END:STANDARD
END:VTIMEZONE
BEGIN:VTIMEZONE
TZID:UTC
BEGIN:STANDARD
TZOFFSETFROM:+0000
TZOFFSETTO:+0000
TZNAME:UTC
DTSTART:20240101T000000
END:STANDARD
END:VTIMEZONE
BEGIN:VEVENT
DTSTART;TZID=Europe/Prague:20250831T090000
DTEND;TZID=Europe/Prague:20250831T180000
DTSTAMP:20260419T235114
CREATED:20250801T111206Z
LAST-MODIFIED:20250801T111206Z
UID:169861-1756630800-1756663200@tvorimevropu.showyourweb.cz
SUMMARY:Regionální akce: Rozloučení s létem - Pardubice
DESCRIPTION:Typ akce:\nAkce pro veřejnost\n\n\nTermín konání:\n31. 8. 2025 9:00 – 18:00\n\n\n\nAdresa místa konání:\nU Stadionu\, 530 01 Pardubice (louka mezi Tyršovými sady a fotbalovým stadiónem)\n\n\n\n  \nPřijďte v neděli 31. srpna na Den s Integrovaným záchranným systémem v Pardubicích a zažijte den plný napětí\, zábavy a užitečných informací! Celou akci pořádáme zdarma a těšit se mohou malí i velcí návštěvníci. \nNa místě se vám představí všechny hlavní složky IZS – Hasičský záchranný sbor Pardubického kraje\, Policie ČR\, Městská policie Pardubice a Zdravotnická záchranná služba Pardubického kraje. Uvidíte ukázky první pomoci\, zásah při dopravní nehodě\, hašení hořícího oleje na pánvi nebo součinnost všech složek při krizové situaci. Chybět nebude ani ukázka sebeobrany a možná dorazí i vrtulník! \nZvláštní atrakcí bude vystoupení koní Městské policie včetně drezúry\, autogramiáda hokejistů\, koncert kapely P.O.R.T. a vystoupení tanečních skupin. Děti si užijí skákací hrad\, zábavné divadélko i možnost setkat se se záchranáři zblízka. \n🎮 Doprovodný program Eurocentra Pardubice nabídne interaktivní zónu zaměřenou na EU a evropské fondy – zapojte se do slepé mapy\, najděte\, kde EU pomáhá\, zahrajte si deskovou hru „Hledej hvězdy“\, nebo si vyzkoušejte 360° videokoutek a virtuální realitu. na památku si můžete vyrobit vlastní odznáček. \n🍔 na místě bude k dispozici občerstvení\, program bude probíhat po celý den a vstup je zcela bezplatný. \nPřijďte si užít den plný zážitků\, poznat práci záchranných složek a inspirovat se tím\, kde fondy EU pomáhají! \nNa akci je bezplatný vstup. Těšíme se na vás!
URL:https://tvorimevropu.showyourweb.cz/event/regionalni-akce-rozlouceni-s-letem-pardubice/
LOCATION:1689-f04c9a15_8ca9_4882_8b5b_6dd9bd44258a
CATEGORIES:Pardubice
END:VEVENT
BEGIN:VEVENT
DTSTART;TZID=Europe/Prague:20250829T100000
DTEND;TZID=Europe/Prague:20250829T160000
DTSTAMP:20260419T235114
CREATED:20250801T112025Z
LAST-MODIFIED:20250801T112025Z
UID:169863-1756461600-1756483200@tvorimevropu.showyourweb.cz
SUMMARY:Den na projektu: Den na hasičské stanici Žamberk
DESCRIPTION:Typ akce:\nAkce pro veřejnost\n\n\nTermín konání:\n29. 8. 2025\, 10:00 – 16:00\n\n\n\nAdresa místa konání:\nHZS Pardubického kraje\, Polní 1622\, 564 01\, Žamberk\n\n\n\n  \nPřijďte s námi nahlédnout do světa profesionálních hasičů! Zveme vás na Den s hasiči\, který se uskuteční na nové hasičské stanici v Žamberku. Celý den bude nabitý atraktivním programem\, ukázkami hasičských zásahů a zábavou pro malé i velké. \nCo vás čeká:\nBěhem dne se můžete těšit na prohlídky nové hasičské stanice\, která byla postavena i díky podpoře fondů EU – veřejnosti budou zpřístupněny její prostory. Hasiči si pro návštěvníky připraví atraktivní ukázky své práce: lezecké představení\, kynologickou ukázku se záchranářským psem\, hašení hořícího oleje\, vyprošťování osob z havarovaného vozidla i zásah u požáru automobilu. K vidění bude také speciální hasičská technika\, kterou si budete moci prohlédnout zblízka. \nJak pomohly fondy:\nTaké díky finanční podpoře z Operačního programu Životní prostředí vznikla v letech 2020 až 2022 v Žamberku zcela nová\, energeticky efektivní požární stanice. Podpora z fondů EU byla v celkové výši 16 722 283\,68 Kč\, což činí 32 % z celkové částky 52 257 137\,00 Kč. \nV rámci projektu bylo konkrétně zařízeno: \n\nVýstavba nové požární stanice v pasivním energetickém standardu\nŘešení nevyhovujícího umístění a prostorových podmínek původní stanice\nZlepšení zázemí pro výkon služby příslušníků HZS Pardubického kraje\nModerní a vhodné prostory pro uskladnění a údržbu zásahové techniky\nZvýšení efektivity a rychlosti zásahů v regionu\n\nZábavné aktivity pro děti i dospělé s Eurocentrem Pardubice:\nSoučástí doprovodného programu bude i interaktivní zóna s aktivitami zaměřenými na EU a evropské fondy. Vyzkoušet si můžete slepou mapu a hledat místa\, kde fondy EU pomáhají\, nebo si zahrát deskovou hru „Hledej hvězdy“. Těšit se můžete také na 360° videokoutek a virtuální realitu\, které vás vtáhnou přímo do proměněných míst. Kreativní návštěvníci si navíc budou moci vyrobit vlastní odznáček a odnést si tak originální suvenýr. \nPro děti bude připravena oblíbená pěnová show\, kde si užijí spoustu zábavy v hasičské pěně. Nejmenší návštěvníci se mohou vyřádit na skákacím hradu a chybět nebude ani malování na obličej\, které vždy potěší malé i větší dobrodruhy. \nNa akci bude také připraven stánek Centra pro regionální rozvoj se zábavnými aktivitami\, během nichž zjistíte\, jak se evropské fondy promítají do každodenního života ve vašem regionu. K dispozici bude přítomen i Český červený kříž a BESIP. \n🎁 Pro účastníky budou připraveny drobné odměny a dárky. \nNa místě bude k dispozici občerstvení. \nVstup na akci je zdarma a bez předchozí rezervace. Těšíme se na vás!
URL:https://tvorimevropu.showyourweb.cz/event/den-na-projektu-den-na-hasicske-stanici-zamberk/
LOCATION:735-berlinska_deklarace
CATEGORIES:Pardubice
END:VEVENT
BEGIN:VEVENT
DTSTART;TZID=Europe/Prague:20241203T090000
DTEND;TZID=Europe/Prague:20241203T120000
DTSTAMP:20260419T235114
CREATED:20241202T220423Z
LAST-MODIFIED:20241202T220423Z
UID:170379-1733216400-1733227200@tvorimevropu.showyourweb.cz
SUMMARY:Veletrh podpory podnikání a investic
DESCRIPTION:Agentura pro podporu podnikání a investic CzechInvest spolu s dalšími regionálními partnery pořádá každoročně veletrh investičních příležitostí v Karlových Varech. Nejen podnikatelé\, ale i zástupci neziskových organizací\, obcí a měst mohou na jednom místě konzultovat své podnikatelské záměry s přítomnými pracovníky těchto organizací na různá témata: \nKarlovarský kraj: Krajské dotační tituly a vouchery pro podnikatele \nCzechInvest: Služby a programy agentury pro podporu podnikání a investic \nAgentura pro podnikání a inovace: Operační program Technologie a aplikace pro konkurenceschopnost \nÚřad práce ČR: Nástroje aktivní politiky zaměstnanosti \nMAS Krušné hory: Rozvoj území Krušné hory – západ \nMinisterstvo životního prostředí: Operační program Spravedlivá transformace \nKarlovarská agentura rozvoje podnikání: Podpora podnikání\, inovací a financování \nKrajská hospodářská komora Karlovarského kraje: Možnosti podpory pro podnikatele \nInovační centrum INION: Podpora začínajícím podnikatelům \nTechnologická agentura České republiky ČR: Aplikovaný výzkum\, vývoj a inovace \nCzechTrade Česká agentura na podporu obchodu: Služby a programy agentury pro podporu exportu \nNárodní rozvojová banka: Finanční nástroje pro podnikatele \nEurocentrum Karlovy Vary: Informace a poradenství o službách. \n  \nÚčast na veletrhu je bezplatná Těšíme se na vaši návštěvu.
URL:https://tvorimevropu.showyourweb.cz/event/veletrh-podpory-podnikani-a-investic-3/
CATEGORIES:Karlovy Vary
END:VEVENT
BEGIN:VEVENT
DTSTART;TZID=UTC:20241021T083000
DTEND;TZID=UTC:20241021T153000
DTSTAMP:20260419T235114
CREATED:20240924T122638Z
LAST-MODIFIED:20240924T122638Z
UID:170296-1729499400-1729524600@tvorimevropu.showyourweb.cz
SUMMARY:Seminář Jak na financování projektů mezinárodní spolupráce? - Pardubice
DESCRIPTION:Chcete zjistit\, jak financovat Vaše projekty s mezinárodním přesahem? Přijďte získat informace o financování projektů s mezinárodním přesahem a seznámit se s aktuálními výzvami! \nJaké jsou aktuálně otevřené výzvy v programech nadnárodní a přeshraniční spolupráce?\nJaké financování nabízí tzv. komunitární programy EU v oblasti kultury\, vzdělávání\, vědy a výzkumu nebo partnerství měst?\na jaké jsou další možnosti podpory skrze tzv. donátorské programy? \nPřijměte pozvání na náš seminář Jak na financování projektů mezinárodní spolupráce\, který se koná 21. 10. od 8:30 hodin v Sále Jana Kašpara Krajského úřadu Pardubického kraje\, Komenského nám. 120\, 530 02 Pardubice. \nSeminář je zdarma. Z důvodů omezené kapacity prosíme o registraci prostřednictvím formuláře ZDE. \nTěšíme se na setkání! \nPozvánka na seminář_Pardubice a Program_Pardubice ke stažení. \nKontaktní osoby:\nMgr. Lucie Boukalová (tel.: 720 970 600\, lucie.boukalova@vlada.gov.cz)\nIng. Michaela Hrdličková (tel.: 466 026 308\, michaela.hrdlickova@pardubickykraj.cz) \n  \nPREZENTACE ZE SEMINÁŘE KE STAŽENÍ: \nProgram přeshraniční spolupráce Interreg Česko -Polsko\, Miroslav Smejkal \nProgram přeshraniční spolupráce Interreg Česko –Polsko – Fond malých projektů\, Jaroslav Štefek \nProgramy nadnárodní spolupráce (Interreg Central Europe\, Interreg Danube) a meziregionální spolupráce (Interreg Europe\, ESPON)\, Adéla Kiššová \nPříklady dobré praxe (Interreg Europe) – RRA PK\, Klára Štefančová \nProgram meziregionální spolupráce URBACT IV a Evropská městská iniciativa\, Markéta Horská\, Vít Bořil \nHorizont Evropa\, Jana Čejková \nLIFE\, Lucie Blažejová \nCERV\, Martin Štefek \nKreativní Evropa\, Viktor Debnár \nErasmus+ a Evropský sbor solidarity\, Michal Urban \nMezinárodní visegrádský fond\, Česko-německý fond budoucnosti\, Program švýcarsko-české spolupráce\, Fondy EHP a Norské fondy\, Roman Klíma \n 
URL:https://tvorimevropu.showyourweb.cz/event/seminar-jak-na-financovani-projektu-mezinarodni-spoluprace-pardubice-3/
CATEGORIES:Pardubice
END:VEVENT
BEGIN:VEVENT
DTSTART;TZID=UTC:20240919T083000
DTEND;TZID=UTC:20240919T150000
DTSTAMP:20260419T235114
CREATED:20240709T201726Z
LAST-MODIFIED:20240709T201726Z
UID:170209-1726734600-1726758000@tvorimevropu.showyourweb.cz
SUMMARY:Seminář Jak na financování projektů mezinárodní spolupráce?
DESCRIPTION:Chcete zjistit\, jak financovat Vaše projekty s mezinárodním přesahem? Jaké jsou aktuálně otevřené výzvy v programech nadnárodní a přeshraniční spolupráce? Jaké financování nabízí tzv. komunitární programy EU v oblasti kultury\, vzdělávání\, vědy a výzkumu nebo partnerství měst? a jaké jsou další možnosti podpory skrze tzv. donátorské programy? \nPřijměte pozvání na náš seminář\, který se koná 19. 9. od 8:30 hodin v Sále Zastupitelstva Krajského úřadu Královéhradeckého kraje \nProgram semináře \nPrezentace ze semináře ke stažení: \nProgram přeshraniční spolupráce Interreg Česko -Polsko\, Roman Klíma \nProgramy nadnárodní spolupráce (Interreg Central Europe\, Interreg Danube) a meziregionální spolupráce (Interreg Europe\, ESPON)\, Pavel Lukeš \nProgram meziregionální spolupráce URBACT IV a Evropská městská iniciativa\, Markéta Horská\, Vít Bořil \nPříklady dobré praxe (URBACT IV) – Broumovsko\, Pavla Jenková \nCERV\, Martin Štefek \nKreativní Evropa\, Viktor Debnár \nErasmus+\, Alžběta Trtková \nHorizont Evropa\, Jana Čejková \nLIFE\, Lucie Blažejová \nMezinárodní visegrádský fond\, Kateřina Šrámková \nČesko-německý fond budoucnosti\, Program švýcarsko-české spolupráce\, Fondy EHP a Norské fondy\, Roman Klíma \n  \n 
URL:https://tvorimevropu.showyourweb.cz/event/seminar-jak-na-financovani-projektu-mezinarodni-spoluprace-3/
CATEGORIES:Hradec Králové
END:VEVENT
END:VCALENDAR