BEGIN:VCALENDAR
VERSION:2.0
PRODID:-//Tvoříme Evropu - ECPv6.15.0.1//NONSGML v1.0//EN
CALSCALE:GREGORIAN
METHOD:PUBLISH
X-ORIGINAL-URL:https://tvorimevropu.showyourweb.cz
X-WR-CALDESC:Akce na Tvoříme Evropu
REFRESH-INTERVAL;VALUE=DURATION:PT1H
X-Robots-Tag:noindex
X-PUBLISHED-TTL:PT1H
BEGIN:VTIMEZONE
TZID:Europe/Prague
BEGIN:DAYLIGHT
TZOFFSETFROM:+0100
TZOFFSETTO:+0200
TZNAME:CEST
DTSTART:20240331T010000
END:DAYLIGHT
BEGIN:STANDARD
TZOFFSETFROM:+0200
TZOFFSETTO:+0100
TZNAME:CET
DTSTART:20241027T010000
END:STANDARD
END:VTIMEZONE
BEGIN:VTIMEZONE
TZID:UTC
BEGIN:STANDARD
TZOFFSETFROM:+0000
TZOFFSETTO:+0000
TZNAME:UTC
DTSTART:20220101T000000
END:STANDARD
END:VTIMEZONE
BEGIN:VEVENT
DTSTART;TZID=Europe/Prague:20241017T100000
DTEND;TZID=Europe/Prague:20241017T160000
DTSTAMP:20260420T053354
CREATED:20241017T060135Z
LAST-MODIFIED:20241017T060135Z
UID:170320-1729159200-1729180800@tvorimevropu.showyourweb.cz
SUMMARY:Erasmus Days na Jihočeské univerzitě
DESCRIPTION:Zveme Vás na akci StuduJU a cestuJU v rámci Erasmus Days na Jihočeské univerzitě. \nBěhem celého dne budeme na našem stánku (spolu s EUROPE DIRECT České Budějovice) informovat o možnostech výjezdů finančně podpořených Evropskou unií. Od 13 hod. si nenechte ujít naši přednášku Studuj\, cestuj\, stážuj po Evropě – dozvíte se\, jaké jsou možnosti výjezdů\, a poslechnete si praktické rady\, jak na stáž do institucí EU. \n \n 
URL:https://tvorimevropu.showyourweb.cz/event/erasmus-days-na-jihoceske-univerzite-3/
CATEGORIES:České Budějovice
END:VEVENT
BEGIN:VEVENT
DTSTART;TZID=UTC:20221013T080000
DTEND;TZID=UTC:20221130T170000
DTSTAMP:20260420T053354
CREATED:20221012T191303Z
LAST-MODIFIED:20221012T191303Z
UID:169446-1665648000-1669827600@tvorimevropu.showyourweb.cz
SUMMARY:Fotosoutěž #NaErasmus 2022
DESCRIPTION:Jsou tu letošní Erasmus Days a s nimi i tradiční FOTOSOUTĚŽ pro studenty (i nestudenty) v Jihomoravském kraji!? \nEurocentrum Brno vyhlašuje v rámci Erasmus Days 2022 fotografickou soutěž #NaErasmus! Úkolem soutěžících je zaslat fotografii\, která nejlépe vystihuje jeho/její Erasmus (+)\, označit ji hashtagem #NaErasmus (PŘÍMO na FOTCE) a krátce popsat o jaký Erasmus se jednalo (ať už to byl studijní Erasmus\, pracovní stáž přes Erasmus či Erasmus výjezd v rámci střední školy) či co fotografie představuje. \nFotografie je možné zasílat buď na e-mailovou adresu Eurocentra: eurocentrum.brno@euroskop.cz nebo do zpráv na facebookové stránce. \nSoutěž běží od 13. října 2022 do 30. listopadu 2022. \nZe všech zaslaných fotografií budou odbornou porotou vybráni 2 výherci\, kteří obdrží tematické ceny. Porota může případně udělit další cenu za originalitu. Společně se zaslanou fotografií nám prosím uveďte celé jméno soutěžícího a také e-mailovou adresu\, na které Vás můžeme kontaktovat v případě výhry. \nPartnerem soutěže je Evropská informační síť pro mládež EURODESK. \nKompletní pravidla lze najít zde: NA_erasmus_2022_pravidla_souteze\, další informace jsou dostupné také na facebookové stránce Eurocentra Brno. \n 
URL:https://tvorimevropu.showyourweb.cz/event/fotosoutez-naerasmus-2022-3/
LOCATION:34426-120-f202102220490901
CATEGORIES:Brno
ATTACH;FMTTYPE=:
END:VEVENT
END:VCALENDAR