BEGIN:VCALENDAR
VERSION:2.0
PRODID:-//Tvoříme Evropu - ECPv6.15.0.1//NONSGML v1.0//EN
CALSCALE:GREGORIAN
METHOD:PUBLISH
X-WR-CALNAME:Tvoříme Evropu
X-ORIGINAL-URL:https://tvorimevropu.showyourweb.cz
X-WR-CALDESC:Akce na Tvoříme Evropu
REFRESH-INTERVAL;VALUE=DURATION:PT1H
X-Robots-Tag:noindex
X-PUBLISHED-TTL:PT1H
BEGIN:VTIMEZONE
TZID:UTC
BEGIN:STANDARD
TZOFFSETFROM:+0000
TZOFFSETTO:+0000
TZNAME:UTC
DTSTART:20230101T000000
END:STANDARD
END:VTIMEZONE
BEGIN:VEVENT
DTSTART;TZID=UTC:20240305T110000
DTEND;TZID=UTC:20240305T123000
DTSTAMP:20260419T233230
CREATED:20240308T083506Z
LAST-MODIFIED:20240308T083506Z
UID:170029-1709636400-1709641800@tvorimevropu.showyourweb.cz
SUMMARY:Výstavba silnic a dálnic na území ČR a EU
DESCRIPTION:Eurocentrum Pardubice zve všechny zájemce na odborný seminář pro studenty Univerzity Pardubice i širokou veřejnost. \nBeseda se uskuteční dne 5. března 2024 v době od 11:00 do 12:30 hodin v prostorách Dopravní fakulty Jana Pernera Univerzity Pardubice\, učebně B5. Přednáška nese název Výstavba silnic a dálnic na území ČR a EU. na konci příspěvku nebude chybět ani diskuse s účastníky. \nCílovou skupinou jsou primárně studenti Univerzity Pardubice a ostatní zájemci z řad odborné a široké veřejnosti. \nPozvání na akci přijala Ing. Dagmar Juříková\, Ředitelství silnic a dálnic ČR. \nCílem akce je zvýšit povědomí o současných\, nejvíce diskutovaných evropských tématech\, a zajistit tak dostatečné znalosti uchazečů o zaměstnání v institucích EU. \nAkce také tematicky odpovídá prioritám Národního konventu o EU. Národní konvent o Evropské unii je diskuzní platforma\, která představuje stálé místo pro debatu o evropských otázkách v ČR a koordinaci pozice ČR v EU. Činnost Národního konventu probíhá formou konferencí\, kulatých stolů a veřejných debat (seminářů) v Praze a v regionech České republiky.
URL:https://tvorimevropu.showyourweb.cz/event/vystavba-silnic-a-dalnic-na-uzemi-cr-a-eu-3/
CATEGORIES:Pardubice
END:VEVENT
BEGIN:VEVENT
DTSTART;TZID=UTC:20231122T100000
DTEND;TZID=UTC:20231122T113000
DTSTAMP:20260419T233230
CREATED:20231030T114014Z
LAST-MODIFIED:20231030T114014Z
UID:169924-1700647200-1700652600@tvorimevropu.showyourweb.cz
SUMMARY:Beseda: Jak na kariéru v institucích EU?
DESCRIPTION:Chtěli byste pracovat v evropských institucích\, ale nevíte jak na to? Co práce pro EU obnáší a jak se připravit na výběrová řízení? Jak se dostat na stáž do EU a získat cenné zkušenosti nejen do životopisu? Přijďte na besedu s Ing. Martinem Pávem\, dne 22. 11. od 10h do učebny B5\, Filozofické fakulty Univerzity Hradec Králové! \n\nAkce je přístupná pro širokou veřejnost! \nNáplň přednášky: \n\ninformace o stážích a kariéře v institucích EU\,\nvýběrová řízení do EU\,\nzkušenosti\, tipy.\n\n \nO Martinu Pávovi: \nMartin Páv vystudoval inženýra na Université Libre de Bruxelles. v roce 1991 nastoupil do Evropské komise\, kde měl na starosti reformy veřejných financí a bankovního sektoru v Československu v rámci programu Phare. \nMezi jeho náplň práce také patřilo poskytování školení v ústředí Komise v Bruselu a v delegacích EU ve třetích zemích. Poté čtyři roky pracoval v oblasti strategických hodnocení spolupráce EU s partnerskými zeměmi v rámci generálního ředitelství pro mezinárodní spolupráci a rozvoj. v současné době působí jako nezávislý konzultant pro společnosti účastnící se výběrových řízení a realizace projektů na podporu partnerských zemí a financovaných z fondů Evropské komise.
URL:https://tvorimevropu.showyourweb.cz/event/beseda-jak-na-karieru-v-institucich-eu-3/
CATEGORIES:Hradec Králové
ATTACH;FMTTYPE=:
END:VEVENT
BEGIN:VEVENT
DTSTART;TZID=UTC:20230510T173000
DTEND;TZID=UTC:20230510T190000
DTSTAMP:20260419T233230
CREATED:20230419T121507Z
LAST-MODIFIED:20230419T121507Z
UID:169702-1683739800-1683745200@tvorimevropu.showyourweb.cz
SUMMARY:Jak na motivační dopis: kariéra (nejen) v EU
DESCRIPTION:Rád by ses přihlásil na stáž či o práci v institucích EU\, ale nevíš přesně\, jak napsat motivační dopis? a co by mělo být součástí třeba takového životopisu? Právě tyto dokumenty jsou totiž velmi důležitou součástí každé přihlášky a je třeba jim věnovat náležitou pozornost. \nCo do motivačního dopisu patří a čeho se naopak vyvarovat? Připoj se k semináři\, který se zaměří právě na toto téma. Své poznatky ti představí kolegové z Karierního centra Masarykovy univerzity\, ale také ti nejpovolanější\, kteří v Bruselu dlouhodobě působí a s výběrem kandidátů mají zkušenost. \nTěšit se můžete na: \n? Zástupce Karierního centra Masarykovy univerzity a EU Careers \n? Markétu Frankovou (vedoucí českých a slovenských překladatelů\, Evropská výbor regionů) \n? Kateřinu Fortun (Generální ředitelství Evropské komise pro oblast klimatu) \n? Jonáše Květa (současného stážistu programu Schuman v Evropském parlamentu) \nZájemce o účast na online semináři prosíme o registraci skrze přihlašovací formulář níže. Všem přihlášeným bude nejpozději den předem zaslán link pro připojení přes MS TEAMS. \n\n\n\n\n	Upozornění: u tohoto obsahu je vyžadován JavaScript.\nNebyla nalezena žádná pole.\n\n    \n\n\n        \n        \n        \n\n\n\n 
URL:https://tvorimevropu.showyourweb.cz/event/jak-na-motivacni-dopis-kariera-nejen-v-eu-4/
CATEGORIES:Brno
ATTACH;FMTTYPE=image/jpeg:https://tvorimevropu.showyourweb.cz/wp-content/uploads/2022/01/28330-setkani_ministru_cr_a_japonska_007_3.jpg
END:VEVENT
END:VCALENDAR