BEGIN:VCALENDAR
VERSION:2.0
PRODID:-//Tvoříme Evropu - ECPv6.15.0.1//NONSGML v1.0//EN
CALSCALE:GREGORIAN
METHOD:PUBLISH
X-ORIGINAL-URL:https://tvorimevropu.showyourweb.cz
X-WR-CALDESC:Akce na Tvoříme Evropu
REFRESH-INTERVAL;VALUE=DURATION:PT1H
X-Robots-Tag:noindex
X-PUBLISHED-TTL:PT1H
BEGIN:VTIMEZONE
TZID:Europe/Prague
BEGIN:DAYLIGHT
TZOFFSETFROM:+0100
TZOFFSETTO:+0200
TZNAME:CEST
DTSTART:20240331T010000
END:DAYLIGHT
BEGIN:STANDARD
TZOFFSETFROM:+0200
TZOFFSETTO:+0100
TZNAME:CET
DTSTART:20241027T010000
END:STANDARD
BEGIN:DAYLIGHT
TZOFFSETFROM:+0100
TZOFFSETTO:+0200
TZNAME:CEST
DTSTART:20250330T010000
END:DAYLIGHT
BEGIN:STANDARD
TZOFFSETFROM:+0200
TZOFFSETTO:+0100
TZNAME:CET
DTSTART:20251026T010000
END:STANDARD
END:VTIMEZONE
BEGIN:VTIMEZONE
TZID:UTC
BEGIN:STANDARD
TZOFFSETFROM:+0000
TZOFFSETTO:+0000
TZNAME:UTC
DTSTART:20230101T000000
END:STANDARD
END:VTIMEZONE
BEGIN:VEVENT
DTSTART;TZID=Europe/Prague:20250430T100000
DTEND;TZID=Europe/Prague:20250430T160000
DTSTAMP:20260419T214043
CREATED:20250416T084546Z
LAST-MODIFIED:20250416T084546Z
UID:170466-1746007200-1746028800@tvorimevropu.showyourweb.cz
SUMMARY:Kariérní den PřF UK
DESCRIPTION:Zveme Vás na kariérní veletrh na Přírodovědecké fakultě UK. Zjistěte více o možnostech kariéry v institucích EU. \nNajdete nás na PřF UK na adrese Albertov 6\, Praha 2. \nTěšíme se na viděnou
URL:https://tvorimevropu.showyourweb.cz/event/karierni-den-prf-uk-2/
CATEGORIES:Praha
END:VEVENT
BEGIN:VEVENT
DTSTART;TZID=Europe/Prague:20250429T095000
DTEND;TZID=Europe/Prague:20250429T122000
DTSTAMP:20260419T214043
CREATED:20250407T210319Z
LAST-MODIFIED:20250407T210319Z
UID:170458-1745920200-1745929200@tvorimevropu.showyourweb.cz
SUMMARY:Cesta do institucí EU - praktický workshop
DESCRIPTION:Chcete zazářit v institucích EU? Přijďte si vyzkoušet výběrové řízení nanečisto! Seminář s expertem na proces výběrových řízení EPSO Marcusem Delacorem proběhne 29. dubna 2025 od 9:50 na Fakultě informatiky a managementu UHK\, v místnosti J30. Vstup zdarma! Pracovním jazykem semináře bude angličtina. \nZájemce prosíme o registraci zde.
URL:https://tvorimevropu.showyourweb.cz/event/cesta-do-instituci-eu-prakticky-workshop-2-3/
CATEGORIES:Hradec Králové
END:VEVENT
BEGIN:VEVENT
DTSTART;TZID=Europe/Prague:20250423T160000
DTEND;TZID=Europe/Prague:20250423T173000
DTSTAMP:20260419T214043
CREATED:20250416T082735Z
LAST-MODIFIED:20250416T082735Z
UID:170465-1745424000-1745429400@tvorimevropu.showyourweb.cz
SUMMARY:Bezpečné potraviny v EU: Co všechno musíme hlídat\, než se dostanou na talíř?
DESCRIPTION:Bezpečné potraviny v EU: Co všechno musíme hlídat\, než se dostanou na talíř? \nIvana Poustková\, Generální ředitelství pro zdraví a bezpečnost potravin\, Evropská komise \nEvropská unie disponuje jedním z nejpřísnějších systémů zajištění bezpečnosti potravin na světě. Kontrolují se nejen potraviny české nebo EU produkce\, ale také produkce z tzv. třetích zemí. Kontrole podléhají chemické kontaminace\, jako jsou jsou rezidua pesticidů\, rezidua veterinárních léčiv či látky migrující z obalových materiálů do potravin\, a mikrobiologická kontaminace. Důležitou roli hraje také správné označování potravin\, včetně výživových hodnot. \nIvana Poustková\, odbornice na bezpečnost potravin v Evropské komisi\, představí klíčové mechanismy kontrolního systému EU. Jakým způsobem probíhají úřední kontroly v oblasti bezpečnosti potravin? Jaké povinnosti musí plnit členské státy v rámci víceletých kontrolních plánů? a jaké podmínky musí splnit potraviny živočišného původu dovážené do EU ze třetích zemí? \nPřednáška nabídne detailní pohled na fungování evropského systému dohledu nad bezpečností potravin a jeho význam pro ochranu spotřebitelů. ale také ukáže cestu za kariérou v institucích EU. \n  \nKde: Přednáška se bude konat na VŠCHT v Budově B na adrese Technická 3\, 160 00 Praha 6. \nKdy: 23.4. 2025\, od 16:00 \nAkci pořádá Eurocentrum Praha ve spolupráci s VŠCHT Praha. \n 
URL:https://tvorimevropu.showyourweb.cz/event/bezpecne-potraviny-v-eu-co-vsechno-musime-hlidat-nez-se-dostanou-na-talir-2/
CATEGORIES:Praha
END:VEVENT
BEGIN:VEVENT
DTSTART;TZID=Europe/Prague:20250312T090000
DTEND;TZID=Europe/Prague:20250312T150000
DTSTAMP:20260419T214043
CREATED:20250307T101419Z
LAST-MODIFIED:20250307T101419Z
UID:170431-1741770000-1741791600@tvorimevropu.showyourweb.cz
SUMMARY:Veletrh KONTAKT 2025
DESCRIPTION:Kontakt 2025 je veletrh pracovních příležitostí pro studenty a absolventy Univerzity Pardubice. Je založen na osobním kontaktu mezi studenty a zástupci firem a odehrává se přímo v prostorách Univerzity Pardubice. \nNa jednom místě mají návštěvníci KONTAKTu možnost absolvovat individuální setkání se zástupci firem působících v různých oblastech hospodářství. Studenti se mohou v osobních konzultacích s personálními manažery firem zeptat na podrobné pracovní podmínky i samotný průběh přijímacího řízení\, nabídnout personalistům svůj životopis. KONTAKT 2025 nabízí studentům\naktuální pracovní pozice\, stáže a brigády\, konzultace životopisů\, pohovory nanečisto i různé soutěže. \nStudenti a široká veřejnost mohou na tomto veletrhu získat podrobné informace o možnostech uplatnění na trhu práce a o možnostech studia\, práce\, stáží a dobrovolnictví nejen v zemích EU a kariéry v EU\, a to prostřednictvím stánku Eurocentra Pardubice a EURES Úřadu práce ČR. Pro zájemce budou rovněž k dispozici konzultace a představeny služby Eurocentra Pardubice a sítě EURES. Součástí bude přednáška o možnostech kariéry v EU. \nAkci pořádá Fakulta chemicko-technologická a Fakulta ekonomicko-správní Univerzity Pardubice. \nKdy: 12.3.2025\, 9:00 – 15:00 \nKde: Aula Univerzity Pardubice a FCHT\, Studentská 519\, 530 09 Pardubice II \nTěšíme se na setkání!
URL:https://tvorimevropu.showyourweb.cz/event/veletrh-kontakt-2025-2-3/
CATEGORIES:Pardubice
END:VEVENT
BEGIN:VEVENT
DTSTART;TZID=Europe/Prague:20241128T090000
DTEND;TZID=Europe/Prague:20241128T160000
DTSTAMP:20260419T214043
CREATED:20241122T155557Z
LAST-MODIFIED:20241122T155557Z
UID:170372-1732784400-1732809600@tvorimevropu.showyourweb.cz
SUMMARY:Veletrh pracovních příležitostí v Karlových Varech
DESCRIPTION:Poslední z řady pracovních veletrhů v roce 2024. \nKrajská hospodářská komora Karlovarského kraje srdečně zve všechny studenty\, absolventy i širokou veřejnost na Veletrh pracovních příležitostí\, který se bude konat v rámci podpory zaměstnanosti a rozvoje regionu. \nPřijďte se seznámit s možnostmi kariérního růstu\, potkat zástupce předních firem a institucí v regionu a zjistit\, jaké pracovní příležitosti a praxe jsou aktuálně k dispozici. na veletrhu budete mít příležitost osobně se setkat s potenciálními zaměstnavateli\, konzultovat své kariérní možnosti a získat cenné rady přímo od odborníků na přednáškách. Nově zde budou i zástupci vysokých škol. \nNa akci navíc nebude chybět informační stánek Eurocentra a Europe Direct Karlovy Vary\, kde se dozvíte více o možnostech práce a stáží v institucích Evropské unie\, o EUROPASSu\, budete si moct udělat test svých digitálních dovedností. Získejte přehled o pracovních příležitostech a programech EU a akcích eurocentra. \nVe čtvrtek 28. 11. 2024 Karlovy Vary v hotelu Thermal. \nVždy od 9 do 16 hodin. Vstup na veletrhy je zdarma. Těšíme se na setkání s Vámi a věříme\, že Vám veletrh pomůže najít nové příležitosti a inspiraci pro vaši profesní budoucnost!
URL:https://tvorimevropu.showyourweb.cz/event/veletrh-pracovnich-prilezitosti-v-karlovych-varech-2-3/
CATEGORIES:Karlovy Vary
END:VEVENT
BEGIN:VEVENT
DTSTART;TZID=Europe/Prague:20241127T150000
DTEND;TZID=Europe/Prague:20241127T170000
DTSTAMP:20260419T214043
CREATED:20241114T170032Z
LAST-MODIFIED:20241114T170032Z
UID:170364-1732719600-1732726800@tvorimevropu.showyourweb.cz
SUMMARY:Práce a stáže v EU institucích
DESCRIPTION:Eurocentrum Pardubice zve na interaktivní workshop pro studenty různých oborů napříč fakultami Univerzity Pardubice! \nCílem akce je poukázat na možnosti práce a stáží v EU institucích a motivovat studenty k nastartování zajímavé profesní kariéry v multikulturním prostředí\, které rovněž nabízí mnoho lákavých benefitů jako zajímavé finanční ohodnocení\, sladění profesního a rodinného života či tým kolegů a kolegyň z celé Evropy! \nV rámci těchto akcí\, pořádaných ve spolupráci s Eurocentry a se Zastoupením Evropské komise v ČR\, mohou účastníci získat cenné informace\, rady od odborníků a kontakty\, na které se obrátit. \nNezmeškejte šanci objevit\, jak se zapojit do evropských projektů a vyjet do hlavních orgánů EU nebo do agentur rozmístěných po Evropě! \nKdy: 27. 11. 2024\, 15:00 – 16:45 \nKde: Univerzita Pardubice\, Studentská 95\, 532 10 Pardubice\, učebna DB B3 \nRegistrace zde: https://damzv.gov.cz/kariera-v-eu/prace-a-staze-v-evropskych-institucich-workshop/. \nTěšíme se na setkání! \nAkci pořádá Eurocentrum Pardubice ve spolupráci s Diplomatickou akademií Ministerstva zahraničních věcí ČR\, Zastoupením Evropské komise v ČR a Univerzitou Pardubice.
URL:https://tvorimevropu.showyourweb.cz/event/prace-a-staze-v-eu-institucich-3/
CATEGORIES:Pardubice
END:VEVENT
BEGIN:VEVENT
DTSTART;TZID=Europe/Prague:20241107T100000
DTEND;TZID=Europe/Prague:20241107T140000
DTSTAMP:20260419T214043
CREATED:20241018T111217Z
LAST-MODIFIED:20241018T111217Z
UID:170325-1730973600-1730988000@tvorimevropu.showyourweb.cz
SUMMARY:University International Day UHK 2024
DESCRIPTION:Máte zájem získat studijní nebo pracovní zkušenosti v zahraničí ale nevíte jak na to? Přesně pro vás je tu další ročník University International Day UHK\, kde se kromě informací o možnostech výjezdů včetně jejich financování dozvíte i další užitečné rady co (ne)dělat při cestách\, a taky budete moct ochutnat něco málo z mezinárodní kuchyně. \n\nNa akci si můžete vyzkoušet konverzaci v různých světových jazycích (mini-mobility fair)\, soutěžit o užitečné ceny\, pobavit se se spolužáky\, kteří už mají zkušenosti ze zahraničí\, a ochutnat zmíněnou cizí kuchyni. Hlavní cíl je ale obecně si užít skvělou mezinárodní atmosféru na UHK! \nKromě fakultních stánků vám užitečné informace zprostředkovávají také Eurocentrum HK\, ESN HK a EuropeDirect Hradec Králové. \nUniversity International Day UHK 2024 se koná 7. 11. od 10:00 do 14:00 na budově A. \n\n \n  \n\n\n\nčas a místo\nprogram\n\n\n10:30–11:30\, A5\npřednáška \nIng. Ngoc Anh Ngo \nDiplomatická akademie Ministerstva zahraničních věcí\n\n\n12:00–12:30\, A5\ndebata s mezinárodními ambasadory UHK\n\n\nCelou akci (10:00–14:00)\, foyer A\nInfostánky fakult \nPovídání se spolužáky\, co už někam vyrazili \nMini-mobility fair \nOchutnávky exotických jídel\n\n\n\n\n\n\nHlavním hostem UID bude Ing. Ngoc Anh Ngo z Diplomatické akademie Ministerstva zahraničních věcí\, která je zároveň doktorandkou ekonomie na VŠB-TUO. Má zkušenost se studiem v zahraničí (Dánsko\, Velká Británie)\, absolvovala pracovní stáže na Stálém zastoupení ČR při EU. Zahraniční zkušenost je pro ni nedocenitelná nejen na profesní úrovni\, ale i v osobním životě.
URL:https://tvorimevropu.showyourweb.cz/event/university-international-day-uhk-2024-3/
CATEGORIES:Hradec Králové
END:VEVENT
BEGIN:VEVENT
DTSTART;TZID=UTC:20240517T130000
DTEND;TZID=UTC:20240517T143000
DTSTAMP:20260419T214043
CREATED:20240517T161636Z
LAST-MODIFIED:20240517T161636Z
UID:170163-1715950800-1715956200@tvorimevropu.showyourweb.cz
SUMMARY:O životě a práci v Belgii
DESCRIPTION:Eurocentrum Pardubice zve všechny zájemce na besedu u příležitosti belgického předsednictví v Radě EU! \nKdy: 17.5.2024\, 13:00 – 14:30 \nKde: Univerzita Pardubice\, Dopravní fakulta Jana Pernera\, Studentská 95\, 532 10 Pardubice \nPozvání na akci přijal Ing. Martin Páv\, nezávislý poradce pro Evropský úřad pro výběr personálu\, Brusel. \nNebude chybět ani ochutnávka tradičních belgických pralinek. \nTěšíme se na Vás!
URL:https://tvorimevropu.showyourweb.cz/event/o-zivote-a-praci-v-belgii-3/
CATEGORIES:Pardubice
END:VEVENT
BEGIN:VEVENT
DTSTART;TZID=UTC:20240517T110000
DTEND;TZID=UTC:20240517T123000
DTSTAMP:20260419T214043
CREATED:20240517T160936Z
LAST-MODIFIED:20240517T160936Z
UID:170162-1715943600-1715949000@tvorimevropu.showyourweb.cz
SUMMARY:Jak na kariéru v EU institucích?
DESCRIPTION:Eurocentrum Pardubice zve všechny zájemce na besedu o možnostech kariéry v EU institucích! \nLáká Vás práce v institucích EU? Chcete se stát stážistou v Evropském parlamentu nebo Evropské komisi? Co obnáší práce pro EU a jak probíhá výběrové řízení EPSO? \nO tom všem a mnohem a více se dozvíte na našem semináři v Pardubicích! Beseda je zdarma. \nKdy: 17.5.2024\, 11:00 – 12:30 \nKde: Univerzita Pardubice\, Dopravní fakulta Jana Pernera\, Studentská 95\, 532 10 Pardubice \nPozvání na akci přijal Ing. Martin Páv\, nezávislý poradce pro Evropský úřad pro výběr personálu\, Brusel. \nTěšíme se na Vás!
URL:https://tvorimevropu.showyourweb.cz/event/jak-na-karieru-v-eu-institucich-3/
CATEGORIES:Pardubice
END:VEVENT
BEGIN:VEVENT
DTSTART;TZID=UTC:20240514T090000
DTEND;TZID=UTC:20240514T113000
DTSTAMP:20260419T214043
CREATED:20240426T103348Z
LAST-MODIFIED:20240426T103348Z
UID:170140-1715677200-1715686200@tvorimevropu.showyourweb.cz
SUMMARY:Jak na kariéru v institucích EU?
DESCRIPTION:Láká Vás práce v institucích EU? Chcete se stát stážistou v Evropském parlamentu nebo Evropské komisi? Co obnáší práce pro EU a jak probíhá výběrové řízení EPSO?  \nO tom všem a mnohem a více se dozvíte na semináři 14. 5. v Hradci Králové! Beseda je zdarma! Zájemce prosíme o registraci na eurocentrum.hk@vlada.gov.cz. \n  \n \n 
URL:https://tvorimevropu.showyourweb.cz/event/jak-na-karieru-v-institucich-eu-2-3/
CATEGORIES:Hradec Králové
END:VEVENT
BEGIN:VEVENT
DTSTART;TZID=UTC:20240424T100000
DTEND;TZID=UTC:20240424T160000
DTSTAMP:20260419T214043
CREATED:20240423T152744Z
LAST-MODIFIED:20240423T152744Z
UID:170129-1713952800-1713974400@tvorimevropu.showyourweb.cz
SUMMARY:Za kariérOU 2024
DESCRIPTION:Přijďte se podívat na kariérní festival Ostravské univerzity. Bohatý program plný přednášek s různorodým zaměřením zaujme každého zájemce o aktuální témata.\nPro zájemce o kariérní příležitosti (a nejen to) v EU jsme si připravili přednášku na téma kariéry v EU\, včetně EPSO testů. \nTěšit se můžete i na přednášky neziskových organizací\, či zástupců škol. \nVstup zdarma pro studenty\, absolventy i širokou veřejnost. \nOdkaz na akci zde.
URL:https://tvorimevropu.showyourweb.cz/event/za-karierou-2024-3/
CATEGORIES:Ostrava
ATTACH;FMTTYPE=image/png:https://tvorimevropu.showyourweb.cz/wp-content/uploads/2024/04/6131.png
END:VEVENT
BEGIN:VEVENT
DTSTART;TZID=UTC:20240410T100000
DTEND;TZID=UTC:20240410T120000
DTSTAMP:20260419T214043
CREATED:20240403T081610Z
LAST-MODIFIED:20240403T081610Z
UID:170102-1712743200-1712750400@tvorimevropu.showyourweb.cz
SUMMARY:Konzultační den k Veletrhu iKariéra 2024_Práce v Institucích EU
DESCRIPTION:Zajímá vás práce v Institucích EU? Jak na EPSO testy a kde najít potřebné informace? \nNejen pro zájemce z veletrhu iKariéra vám rádi pomůžeme k získání vašeho „dream job“ v Institutích EU. \n24.4. 2024 vás čeká také online seminář Jak na motivační dopis z dílny EC Brno. \nProsím\, registrujte se do 9.4.2024 na emailu ranocha.livia@vlada.cz \n 
URL:https://tvorimevropu.showyourweb.cz/event/konzultacni-den-k-veletrhu-ikariera-2024_prace-v-institucich-eu-3/
CATEGORIES:Zlín
ATTACH;FMTTYPE=image/jpeg:https://tvorimevropu.showyourweb.cz/wp-content/uploads/2024/03/hunters-race-MYbhN8KaaEc-unsplash-scaled-1.jpg
END:VEVENT
BEGIN:VEVENT
DTSTART;TZID=UTC:20240305T110000
DTEND;TZID=UTC:20240305T123000
DTSTAMP:20260419T214043
CREATED:20240308T083506Z
LAST-MODIFIED:20240308T083506Z
UID:170029-1709636400-1709641800@tvorimevropu.showyourweb.cz
SUMMARY:Výstavba silnic a dálnic na území ČR a EU
DESCRIPTION:Eurocentrum Pardubice zve všechny zájemce na odborný seminář pro studenty Univerzity Pardubice i širokou veřejnost. \nBeseda se uskuteční dne 5. března 2024 v době od 11:00 do 12:30 hodin v prostorách Dopravní fakulty Jana Pernera Univerzity Pardubice\, učebně B5. Přednáška nese název Výstavba silnic a dálnic na území ČR a EU. na konci příspěvku nebude chybět ani diskuse s účastníky. \nCílovou skupinou jsou primárně studenti Univerzity Pardubice a ostatní zájemci z řad odborné a široké veřejnosti. \nPozvání na akci přijala Ing. Dagmar Juříková\, Ředitelství silnic a dálnic ČR. \nCílem akce je zvýšit povědomí o současných\, nejvíce diskutovaných evropských tématech\, a zajistit tak dostatečné znalosti uchazečů o zaměstnání v institucích EU. \nAkce také tematicky odpovídá prioritám Národního konventu o EU. Národní konvent o Evropské unii je diskuzní platforma\, která představuje stálé místo pro debatu o evropských otázkách v ČR a koordinaci pozice ČR v EU. Činnost Národního konventu probíhá formou konferencí\, kulatých stolů a veřejných debat (seminářů) v Praze a v regionech České republiky.
URL:https://tvorimevropu.showyourweb.cz/event/vystavba-silnic-a-dalnic-na-uzemi-cr-a-eu-3/
CATEGORIES:Pardubice
END:VEVENT
BEGIN:VEVENT
DTSTART;TZID=UTC:20231122T100000
DTEND;TZID=UTC:20231122T113000
DTSTAMP:20260419T214043
CREATED:20231030T114014Z
LAST-MODIFIED:20231030T114014Z
UID:169924-1700647200-1700652600@tvorimevropu.showyourweb.cz
SUMMARY:Beseda: Jak na kariéru v institucích EU?
DESCRIPTION:Chtěli byste pracovat v evropských institucích\, ale nevíte jak na to? Co práce pro EU obnáší a jak se připravit na výběrová řízení? Jak se dostat na stáž do EU a získat cenné zkušenosti nejen do životopisu? Přijďte na besedu s Ing. Martinem Pávem\, dne 22. 11. od 10h do učebny B5\, Filozofické fakulty Univerzity Hradec Králové! \n\nAkce je přístupná pro širokou veřejnost! \nNáplň přednášky: \n\ninformace o stážích a kariéře v institucích EU\,\nvýběrová řízení do EU\,\nzkušenosti\, tipy.\n\n \nO Martinu Pávovi: \nMartin Páv vystudoval inženýra na Université Libre de Bruxelles. v roce 1991 nastoupil do Evropské komise\, kde měl na starosti reformy veřejných financí a bankovního sektoru v Československu v rámci programu Phare. \nMezi jeho náplň práce také patřilo poskytování školení v ústředí Komise v Bruselu a v delegacích EU ve třetích zemích. Poté čtyři roky pracoval v oblasti strategických hodnocení spolupráce EU s partnerskými zeměmi v rámci generálního ředitelství pro mezinárodní spolupráci a rozvoj. v současné době působí jako nezávislý konzultant pro společnosti účastnící se výběrových řízení a realizace projektů na podporu partnerských zemí a financovaných z fondů Evropské komise.
URL:https://tvorimevropu.showyourweb.cz/event/beseda-jak-na-karieru-v-institucich-eu-3/
CATEGORIES:Hradec Králové
ATTACH;FMTTYPE=:
END:VEVENT
BEGIN:VEVENT
DTSTART;TZID=UTC:20230510T173000
DTEND;TZID=UTC:20230510T190000
DTSTAMP:20260419T214043
CREATED:20230419T121507Z
LAST-MODIFIED:20230419T121507Z
UID:169702-1683739800-1683745200@tvorimevropu.showyourweb.cz
SUMMARY:Jak na motivační dopis: kariéra (nejen) v EU
DESCRIPTION:Rád by ses přihlásil na stáž či o práci v institucích EU\, ale nevíš přesně\, jak napsat motivační dopis? a co by mělo být součástí třeba takového životopisu? Právě tyto dokumenty jsou totiž velmi důležitou součástí každé přihlášky a je třeba jim věnovat náležitou pozornost. \nCo do motivačního dopisu patří a čeho se naopak vyvarovat? Připoj se k semináři\, který se zaměří právě na toto téma. Své poznatky ti představí kolegové z Karierního centra Masarykovy univerzity\, ale také ti nejpovolanější\, kteří v Bruselu dlouhodobě působí a s výběrem kandidátů mají zkušenost. \nTěšit se můžete na: \n? Zástupce Karierního centra Masarykovy univerzity a EU Careers \n? Markétu Frankovou (vedoucí českých a slovenských překladatelů\, Evropská výbor regionů) \n? Kateřinu Fortun (Generální ředitelství Evropské komise pro oblast klimatu) \n? Jonáše Květa (současného stážistu programu Schuman v Evropském parlamentu) \nZájemce o účast na online semináři prosíme o registraci skrze přihlašovací formulář níže. Všem přihlášeným bude nejpozději den předem zaslán link pro připojení přes MS TEAMS. \n\n\n\n\n	Upozornění: u tohoto obsahu je vyžadován JavaScript.\nNebyla nalezena žádná pole.\n\n    \n\n\n        \n        \n        \n\n\n\n 
URL:https://tvorimevropu.showyourweb.cz/event/jak-na-motivacni-dopis-kariera-nejen-v-eu-4/
CATEGORIES:Brno
ATTACH;FMTTYPE=image/jpeg:https://tvorimevropu.showyourweb.cz/wp-content/uploads/2022/01/28330-setkani_ministru_cr_a_japonska_007_3.jpg
END:VEVENT
END:VCALENDAR