BEGIN:VCALENDAR
VERSION:2.0
PRODID:-//Tvoříme Evropu - ECPv6.15.0.1//NONSGML v1.0//EN
CALSCALE:GREGORIAN
METHOD:PUBLISH
X-ORIGINAL-URL:https://tvorimevropu.showyourweb.cz
X-WR-CALDESC:Akce na Tvoříme Evropu
REFRESH-INTERVAL;VALUE=DURATION:PT1H
X-Robots-Tag:noindex
X-PUBLISHED-TTL:PT1H
BEGIN:VTIMEZONE
TZID:Europe/Prague
BEGIN:DAYLIGHT
TZOFFSETFROM:+0100
TZOFFSETTO:+0200
TZNAME:CEST
DTSTART:20240331T010000
END:DAYLIGHT
BEGIN:STANDARD
TZOFFSETFROM:+0200
TZOFFSETTO:+0100
TZNAME:CET
DTSTART:20241027T010000
END:STANDARD
END:VTIMEZONE
BEGIN:VTIMEZONE
TZID:UTC
BEGIN:STANDARD
TZOFFSETFROM:+0000
TZOFFSETTO:+0000
TZNAME:UTC
DTSTART:20230101T000000
END:STANDARD
END:VTIMEZONE
BEGIN:VEVENT
DTSTART;TZID=Europe/Prague:20241203T090000
DTEND;TZID=Europe/Prague:20241203T120000
DTSTAMP:20260419T234926
CREATED:20241202T220423Z
LAST-MODIFIED:20241202T220423Z
UID:170379-1733216400-1733227200@tvorimevropu.showyourweb.cz
SUMMARY:Veletrh podpory podnikání a investic
DESCRIPTION:Agentura pro podporu podnikání a investic CzechInvest spolu s dalšími regionálními partnery pořádá každoročně veletrh investičních příležitostí v Karlových Varech. Nejen podnikatelé\, ale i zástupci neziskových organizací\, obcí a měst mohou na jednom místě konzultovat své podnikatelské záměry s přítomnými pracovníky těchto organizací na různá témata: \nKarlovarský kraj: Krajské dotační tituly a vouchery pro podnikatele \nCzechInvest: Služby a programy agentury pro podporu podnikání a investic \nAgentura pro podnikání a inovace: Operační program Technologie a aplikace pro konkurenceschopnost \nÚřad práce ČR: Nástroje aktivní politiky zaměstnanosti \nMAS Krušné hory: Rozvoj území Krušné hory – západ \nMinisterstvo životního prostředí: Operační program Spravedlivá transformace \nKarlovarská agentura rozvoje podnikání: Podpora podnikání\, inovací a financování \nKrajská hospodářská komora Karlovarského kraje: Možnosti podpory pro podnikatele \nInovační centrum INION: Podpora začínajícím podnikatelům \nTechnologická agentura České republiky ČR: Aplikovaný výzkum\, vývoj a inovace \nCzechTrade Česká agentura na podporu obchodu: Služby a programy agentury pro podporu exportu \nNárodní rozvojová banka: Finanční nástroje pro podnikatele \nEurocentrum Karlovy Vary: Informace a poradenství o službách. \n  \nÚčast na veletrhu je bezplatná Těšíme se na vaši návštěvu.
URL:https://tvorimevropu.showyourweb.cz/event/veletrh-podpory-podnikani-a-investic-3/
CATEGORIES:Karlovy Vary
END:VEVENT
BEGIN:VEVENT
DTSTART;TZID=UTC:20230330T090000
DTEND;TZID=UTC:20230330T150000
DTSTAMP:20260419T234926
CREATED:20230301T114305Z
LAST-MODIFIED:20230301T114305Z
UID:169619-1680166800-1680188400@tvorimevropu.showyourweb.cz
SUMMARY:Udržitelné a energeticky úsporné podnikání a podpory EU pro malé a střední firmy
DESCRIPTION:Evropská komise\, Technologické centrum Praha a síť Enterprise Europe Network ČR (EEN ČR) vnímají potřeby malých a středních firem\, které čelí narušení dodavatelských řetězců\, rostoucím cenám vstupů\, energií a dopravy. \nTyto instituce tedy společně tedy pořádají v Krajské knihovně Karlovy Vary seminář zaměřený na financování udržitelného podnikání\, energetiku\, úsporné technologie a inovace\, které mohou malým a středním firmám snížit náklady.  \nKromě informací o vybraných výzvách Národního plánu obnovy\, Modernizačního fondu\, OP TAK (Operační program Technologie a aplikace pro konkurenceschopnost) a finančních nástrojích pro zelenou transformaci firem uslyšíte na akci také úspěšné příklady realizovaných projektů přímo od majitelů firem. \nPodrobný program a odkaz pro registraci naleznete přímo na webu EEN zde  \nÚčast je bezplatná. \n  \n 
URL:https://tvorimevropu.showyourweb.cz/event/udrzitelne-a-energeticky-usporne-podnikani-a-podpory-eu-pro-male-a-stredni-firmy-3/
CATEGORIES:Karlovy Vary
ATTACH;FMTTYPE=:
END:VEVENT
END:VCALENDAR