BEGIN:VCALENDAR
VERSION:2.0
PRODID:-//Tvoříme Evropu - ECPv6.15.0.1//NONSGML v1.0//EN
CALSCALE:GREGORIAN
METHOD:PUBLISH
X-ORIGINAL-URL:https://tvorimevropu.showyourweb.cz
X-WR-CALDESC:Akce na Tvoříme Evropu
REFRESH-INTERVAL;VALUE=DURATION:PT1H
X-Robots-Tag:noindex
X-PUBLISHED-TTL:PT1H
BEGIN:VTIMEZONE
TZID:UTC
BEGIN:STANDARD
TZOFFSETFROM:+0000
TZOFFSETTO:+0000
TZNAME:UTC
DTSTART:20220101T000000
END:STANDARD
END:VTIMEZONE
BEGIN:VEVENT
DTSTART;TZID=UTC:20221103T090000
DTEND;TZID=UTC:20221103T160000
DTSTAMP:20260420T033214
CREATED:20221016T114234Z
LAST-MODIFIED:20221016T114234Z
UID:169450-1667466000-1667491200@tvorimevropu.showyourweb.cz
SUMMARY:Veletrhy pracovních příležitostí v Karlovarském kraji
DESCRIPTION:  \nNemáte práci nebo uvažujete o změně zaměstnání? Chcete se seznámit s nabídkou pracovních příležitostí v regionu?  Pak vezměte život do svých rukou\, novou práci máte na dosah. \nZajímají Vás možnosti práce v evropských institucích a možnost si snadno sestavit kvalitní životopis s Europassem? \nZveme Vás na Veletrhy pracovních příležitostí v Karlovarském kraji 2022\, které pořádá Krajská hospodářská komora Karlovarského kraje ve spolupráci s Karlovarským krajem a Úřadem práce ČR. \n18. 10. 2022 v Chebu v Kulturní centrum Svoboda\n20. 10. 2022 v Sokolově v MDK Sokolov\n03. 11. 2022 v Karlových Varech ve SPA HOTEL THERMAL \nVeletrhy jsou otevřeny vždy od 9:00 do 16:00. se stánkem Eurocentra a EUROPE DIRECT Karlovy Vary budeme v Chebu a Karlových Varech od 9:00 do 14:00.\nVíce informací naleznete na webu www.khkkk.cz
URL:https://tvorimevropu.showyourweb.cz/event/27909-3/
CATEGORIES:Karlovy Vary
END:VEVENT
BEGIN:VEVENT
DTSTART;TZID=UTC:20220309T090000
DTEND;TZID=UTC:20220309T150000
DTSTAMP:20260420T033214
CREATED:20220315T141121Z
LAST-MODIFIED:20220315T141121Z
UID:169190-1646816400-1646838000@tvorimevropu.showyourweb.cz
SUMMARY:Veletrh KONTAKT 2022
DESCRIPTION:KONTAKT 2022 je veletrh pracovních příležitostí pro studenty a absolventy Univerzity Pardubice. Je založen na osobním kontaktu mezi studenty a zástupci firem a odehrává se přímo v prostorách Univerzity Pardubice. KONTAKT 2022 nabízí studentům aktuální pracovní pozice\, stáže a brigády\, konzultace životopisů\, pohovory nanečisto i různé soutěže. \nStudenti budou mít k dispozici prezentační místa jednotlivých zaměstnavatelů\, příležitost navázat kontakt\, zjistit informace\, představit se zaměstnavatelům i získat stáž\, brigádu nebo placenou praxi. \nZaměstnavatelé představí svoji firmu na půdě Univerzity Pardubice či získají stážistu\, který se již během studia může stát tou správnou posilou pracovního týmu. Oslovte své potenciální budoucí zaměstnance a dejte jim vědět\, jak to u Vás chodí! \nNa veletrhu nebude chybět tradiční stánek Eurocentra Pardubice\, Domu zahraniční spolupráce a sítě EURES s informacemi o EU a mobilitách – možnostech studia\, stáží\, práce a dobrovolnictví nejen v zemích EU! Doprovodnou aktivitou budou soutěže o drobné cestovatelské ceny Domu zahraniční spolupráce.
URL:https://tvorimevropu.showyourweb.cz/event/veletrh-kontakt-2022-3/
CATEGORIES:Pardubice
ATTACH;FMTTYPE=:
END:VEVENT
END:VCALENDAR