BEGIN:VCALENDAR
VERSION:2.0
PRODID:-//Tvoříme Evropu - ECPv6.15.0.1//NONSGML v1.0//EN
CALSCALE:GREGORIAN
METHOD:PUBLISH
X-WR-CALNAME:Tvoříme Evropu
X-ORIGINAL-URL:https://tvorimevropu.showyourweb.cz
X-WR-CALDESC:Akce na Tvoříme Evropu
REFRESH-INTERVAL;VALUE=DURATION:PT1H
X-Robots-Tag:noindex
X-PUBLISHED-TTL:PT1H
BEGIN:VTIMEZONE
TZID:Europe/Prague
BEGIN:DAYLIGHT
TZOFFSETFROM:+0100
TZOFFSETTO:+0200
TZNAME:CEST
DTSTART:20250330T010000
END:DAYLIGHT
BEGIN:STANDARD
TZOFFSETFROM:+0200
TZOFFSETTO:+0100
TZNAME:CET
DTSTART:20251026T010000
END:STANDARD
END:VTIMEZONE
BEGIN:VEVENT
DTSTART;TZID=Europe/Prague:20250514T090000
DTEND;TZID=Europe/Prague:20250514T170000
DTSTAMP:20260420T033346
CREATED:20250429T122852Z
LAST-MODIFIED:20250429T122852Z
UID:170490-1747213200-1747242000@tvorimevropu.showyourweb.cz
SUMMARY:Den dobrovolnictví Pardubického kraje - Choceň
DESCRIPTION:Zveme vás na Den dobrovolnictví Pardubického kraje do Chocně! Čeká Vás den plný inspirativních aktivit zaměřených na pomoc druhým!\nCílem akce je přiblížit dobrovolnictví studentům i široké veřejnosti – ukázat\, jak může být pomoc druhým smysluplná a obohacující. Akci doprovází i pestrý kulturní program na pódiu.\n\nPřijďte se podívat\, inspirovat a třeba i zapojit!\n\nTěšit se můžete na:\n– prezentaci dobrovolnických center Pardubického kraje\,– výstava fotografií o dobrovolnictví\,– program DofE\,– dobrovolnictví v zahraničí (Eurocentrum Pardubice – Eurodesk CZ)\,– dobrovolnictví na farmách\,– místní dobročinné projekty (Vozík na cestách\, Marůdci a další)\n\nKulturní program:\n10:00 koncert Mlima Jua\, muzikoterapeutický soubor\n14:30 pěvecké vystoupení ZUŠ Choceň\n16:00 mažoretky\, DDM Choceň\n\n\nMožnost občerstvení.\nBaby zóna pro maminky s malými dětmi.\n\n\nAkce je podporována Ministerstvem vnitra ČR v rámci Programu podpory fungování Regionálních dobrovolnických center.\nZáštitu nad akcí převzal Pavel Šotola\, náměstek hejtmana Pardubického kraje zodpovědný za sociální péči a neziskový sektor.\nAkci organizuje Kamínek-centrum pro rodinu z.s. ve spolupráci s Pardubickým krajem a městem Choceň.
URL:https://tvorimevropu.showyourweb.cz/event/den-dobrovolnictvi-pardubickeho-kraje-chocen-2/
CATEGORIES:Pardubice
END:VEVENT
END:VCALENDAR