BEGIN:VCALENDAR
VERSION:2.0
PRODID:-//Tvoříme Evropu - ECPv6.15.0.1//NONSGML v1.0//EN
CALSCALE:GREGORIAN
METHOD:PUBLISH
X-ORIGINAL-URL:https://tvorimevropu.showyourweb.cz
X-WR-CALDESC:Akce na Tvoříme Evropu
REFRESH-INTERVAL;VALUE=DURATION:PT1H
X-Robots-Tag:noindex
X-PUBLISHED-TTL:PT1H
BEGIN:VTIMEZONE
TZID:UTC
BEGIN:STANDARD
TZOFFSETFROM:+0000
TZOFFSETTO:+0000
TZNAME:UTC
DTSTART:20230101T000000
END:STANDARD
END:VTIMEZONE
BEGIN:VEVENT
DTSTART;TZID=UTC:20230419T130000
DTEND;TZID=UTC:20230419T150000
DTSTAMP:20260420T051203
CREATED:20230330T111803Z
LAST-MODIFIED:20230330T111803Z
UID:169673-1681909200-1681916400@tvorimevropu.showyourweb.cz
SUMMARY:Dny kariéry FSE UJEP
DESCRIPTION:19. dubna 2023 proběhne v prostorách Fakulty sociálně ekonomické UJEP veletrh firem\, na kterém bude mít své zastoupení také Eurocentrum Ústí nad Labem. Přijďte se podívat k nám na stánek a dozvíte se zajímavé informace o možnostech studia v zahraničí\, dobrovolnictví a dalších programech\, které Vám Evropská unie nabízí. \nKdy? – 19. 4. 2023 13:00 – 15:00 hod.  \nKde? – Fakulta sociálně ekonomická\, VŠ klub 4. patro\, Moskevská 54\, Ústí nad Labem  \nVíce informací se dozvíte ZDE.
URL:https://tvorimevropu.showyourweb.cz/event/dny-kariery-fse-ujep-3/
CATEGORIES:Ústí nad Labem
ATTACH;FMTTYPE=image/jpeg:https://tvorimevropu.showyourweb.cz/wp-content/uploads/2022/01/28881-computer_problems.jpeg
END:VEVENT
END:VCALENDAR