BEGIN:VCALENDAR
VERSION:2.0
PRODID:-//Tvoříme Evropu - ECPv6.15.0.1//NONSGML v1.0//EN
CALSCALE:GREGORIAN
METHOD:PUBLISH
X-ORIGINAL-URL:https://tvorimevropu.showyourweb.cz
X-WR-CALDESC:Akce na Tvoříme Evropu
REFRESH-INTERVAL;VALUE=DURATION:PT1H
X-Robots-Tag:noindex
X-PUBLISHED-TTL:PT1H
BEGIN:VTIMEZONE
TZID:Europe/Prague
BEGIN:DAYLIGHT
TZOFFSETFROM:+0100
TZOFFSETTO:+0200
TZNAME:CEST
DTSTART:20250330T010000
END:DAYLIGHT
BEGIN:STANDARD
TZOFFSETFROM:+0200
TZOFFSETTO:+0100
TZNAME:CET
DTSTART:20251026T010000
END:STANDARD
END:VTIMEZONE
BEGIN:VEVENT
DTSTART;TZID=Europe/Prague:20250701T080000
DTEND;TZID=Europe/Prague:20250731T170000
DTSTAMP:20260419T220618
CREATED:20250702T072006Z
LAST-MODIFIED:20250702T072006Z
UID:170517-1751356800-1753981200@tvorimevropu.showyourweb.cz
SUMMARY:Poznejte Dánsko (online kvíz)
DESCRIPTION:Ve druhé polovině roku 2025 předsedá Radě EU Dánsko. Znáte dobře tuto zemi? Ověřte si své znalosti v našem soutěžním kvízu: https://1url.cz/OJqhk. \nSoutěž probíhá od 1. 7. do 31. 7. 2025.
URL:https://tvorimevropu.showyourweb.cz/event/poznejte-dansko-online-kviz-2/
CATEGORIES:Jihlava
END:VEVENT
END:VCALENDAR