BEGIN:VCALENDAR
VERSION:2.0
PRODID:-//Tvoříme Evropu - ECPv6.15.0.1//NONSGML v1.0//EN
CALSCALE:GREGORIAN
METHOD:PUBLISH
X-ORIGINAL-URL:https://tvorimevropu.showyourweb.cz
X-WR-CALDESC:Akce na Tvoříme Evropu
REFRESH-INTERVAL;VALUE=DURATION:PT1H
X-Robots-Tag:noindex
X-PUBLISHED-TTL:PT1H
BEGIN:VTIMEZONE
TZID:Europe/Prague
BEGIN:DAYLIGHT
TZOFFSETFROM:+0100
TZOFFSETTO:+0200
TZNAME:CEST
DTSTART:20250330T010000
END:DAYLIGHT
BEGIN:STANDARD
TZOFFSETFROM:+0200
TZOFFSETTO:+0100
TZNAME:CET
DTSTART:20251026T010000
END:STANDARD
END:VTIMEZONE
BEGIN:VEVENT
DTSTART;VALUE=DATE:20250517
DTEND;VALUE=DATE:20250518
DTSTAMP:20260419T214051
CREATED:20250514T135654Z
LAST-MODIFIED:20250514T135654Z
UID:170503-1747440000-1747526399@tvorimevropu.showyourweb.cz
SUMMARY:Cesta Evropou: po stopách zakladatelů
DESCRIPTION:Zveme všechny malé Evropanky a Evropany do Oddělení pro děti a mládež v Městské knihovně v Praze (Ústřední knihovna) na putování Evropou. Putování je dostupné po celý den v sobotu 17. května 2025 v dětském oddělení. \nNa cestě vás bude čekat 5 stanovišť\, která prověří znalosti o evropské kultuře a ukážou\, zda v sobě ukrýváte dobrodružného ducha. \nNa každém stanovišti čeká jeden úkol. Každý z vyřešených úkolů prozradí jméno jednoho nebo dvou zakládajících států Evropské unie. Odhalíte všech šest? \nTěšíme se na Vás. \nAkci pořádá Eurocentrum Praha ve spolupráci s Městskou knihovnou v Praze (Oddělení pro děti a mládež).
URL:https://tvorimevropu.showyourweb.cz/event/cesta-evropou-po-stopach-zakladatelu-2/
CATEGORIES:Praha
ATTACH;FMTTYPE=image/jpeg:https://tvorimevropu.showyourweb.cz/wp-content/uploads/2025/05/Post-MLP-1.jpg
END:VEVENT
END:VCALENDAR