BEGIN:VCALENDAR
VERSION:2.0
PRODID:-//Tvoříme Evropu - ECPv6.15.0.1//NONSGML v1.0//EN
CALSCALE:GREGORIAN
METHOD:PUBLISH
X-ORIGINAL-URL:https://tvorimevropu.showyourweb.cz
X-WR-CALDESC:Akce na Tvoříme Evropu
REFRESH-INTERVAL;VALUE=DURATION:PT1H
X-Robots-Tag:noindex
X-PUBLISHED-TTL:PT1H
BEGIN:VTIMEZONE
TZID:UTC
BEGIN:STANDARD
TZOFFSETFROM:+0000
TZOFFSETTO:+0000
TZNAME:UTC
DTSTART:20220101T000000
END:STANDARD
END:VTIMEZONE
BEGIN:VEVENT
DTSTART;TZID=UTC:20220511T093000
DTEND;TZID=UTC:20220511T143000
DTSTAMP:20260420T013600
CREATED:20220505T112329Z
LAST-MODIFIED:20220505T112329Z
UID:169276-1652261400-1652279400@tvorimevropu.showyourweb.cz
SUMMARY:Den Evropy v Liberci
DESCRIPTION:Eurocentrum EUROPE DIRECT Liberec Vás zve společně s Technickou univerzitou v Liberci na akci Den Evropy.\nNa co se můžete těšit? \nOd 9:30 do 11:30 bude na TUL (Budova G\, 3. patro) probíhat Speak dating. \nMáte šanci si popovídat s rodilými mluvčími cizích jazyků –  naučit se nadávat v cizím jazyce nebo si jen procvičit jazyk\, který ovládáte. Chybět nebude ani soutěž – více info na místě. \nOd 12:30 se bude konat Flag Parade\, již tradiční pochod Libercem s vlajkami na oslavu rozmanitosti. Pochod začně na Univerzitním náměstí. Neváhejte se přidat! \nAkce bude přínosná i pro všechny zájemce o ERASMUS\, koordinátorky programu budou na akci přítomné a ochotné odpovědět na všechno\, co Vás o výjezdu do zahraničí zajímá. \nOdkaz na fb událost pro aktualní informace naleznete zde.  \nTěšíme se na Vás!
URL:https://tvorimevropu.showyourweb.cz/event/den-evropy-v-liberci-3/
CATEGORIES:Liberec
ATTACH;FMTTYPE=:
END:VEVENT
BEGIN:VEVENT
DTSTART;TZID=UTC:20220509T000000
DTEND;TZID=UTC:20220531T000000
DTSTAMP:20260420T013600
CREATED:20220512T123128Z
LAST-MODIFIED:20220512T123128Z
UID:169281-1652054400-1653955200@tvorimevropu.showyourweb.cz
SUMMARY:SOUTĚŽNÍ: Jednotní v rozmanitosti
DESCRIPTION:Cestujete rádi? Vyznáte se v Evropě? Rádi byste se dozvěděli něco nového? Soutěžte s námi o deskovou hru „Znáte Evropu?“!\nEurocentrum EUROPE DIRECT Liberec si pro Vás při příležitosti oslav Dne Evropy připravilo soutěžní kvíz v aplikaci Kahoot! \nSoutěž je určená pro žáky druhého stupně základních škol a středoškoláky a probíhá od 09. 05. do 31. 05. 2022. \nStačí správně zodpovědět několik otázek. Čím rychleji odpovíte správně\, tím více bodů získáte. K výhře potřebujete minimálně 6500 bodů\, vyplnit na konci kvízu Vaše kontaktní údaje a mít štěstí při slosování. Po skončení soutěže vylosujeme tři výherce za základní školy a tři za střední školy\, kteří získají deskovou slovní hru “Znáte Evropu? ” \nVýhra bude zaslána výhercům přímo na školu. Výsledky budou zveřejněny nejdéle 6. června. \n  \nOdkaz na soutěž:\nNa soutěž se dostanete skrz odkaz zde\, nebo po zadání PINu soutěže: 08783535 na kahoot.it \nPo rozkliknutí odkazu/zadání PINu už si jen zvolte přezdívku a můžete hrát. \n  \nPřejeme hodně štěstí!
URL:https://tvorimevropu.showyourweb.cz/event/soutezni-jednotni-v-rozmanitosti-3/
LOCATION:34426-120-f202102220490901
CATEGORIES:Liberec
ATTACH;FMTTYPE=:
END:VEVENT
END:VCALENDAR