BEGIN:VCALENDAR
VERSION:2.0
PRODID:-//Tvoříme Evropu - ECPv6.15.0.1//NONSGML v1.0//EN
CALSCALE:GREGORIAN
METHOD:PUBLISH
X-WR-CALNAME:Tvoříme Evropu
X-ORIGINAL-URL:https://tvorimevropu.showyourweb.cz
X-WR-CALDESC:Akce na Tvoříme Evropu
REFRESH-INTERVAL;VALUE=DURATION:PT1H
X-Robots-Tag:noindex
X-PUBLISHED-TTL:PT1H
BEGIN:VTIMEZONE
TZID:UTC
BEGIN:STANDARD
TZOFFSETFROM:+0000
TZOFFSETTO:+0000
TZNAME:UTC
DTSTART:20220101T000000
END:STANDARD
END:VTIMEZONE
BEGIN:VEVENT
DTSTART;TZID=UTC:20230913T090000
DTEND;TZID=UTC:20230913T120000
DTSTAMP:20260420T032655
CREATED:20230830T115737Z
LAST-MODIFIED:20230830T115737Z
UID:169833-1694595600-1694606400@tvorimevropu.showyourweb.cz
SUMMARY:SOTEU 2023
DESCRIPTION:Předsedkyně Evropské komise Ursula von der Leyen každý rok předkládá svou vizi EU a projednává ji před Evropským parlamentem. Projev  stavu Unie – neboli SOTEU – je okno\, které nabízí pohled do naší nedávné minulosti\, současnosti a blízké budoucnosti. Letos to bude ve středu 13 září od 9 hodin! \nDozvíte se o našich úspěších\, o tom\, jak se vypořádáváme s naléhavými výzvami a o našem plánu do budoucna. Loňský projev mimo jiné vyzdvihl neochvějnou podporu EU Ukrajině\, její úspěšné zvládání energetické krize a její závazek k právnímu státu. v novém roce čekají na pozornost EU naléhavé problémy\, jako je změna klimatu a ekonomické problémy. Projev obvykle zahrnuje návrhy nových evropských zákonů nebo politik. \nPo projevu bude předsedkyně EK odpovídat na otázky europoslanců.  Projev i debatu můžete on line sledovat na facebooku zde nebo na webu EK zde .
URL:https://tvorimevropu.showyourweb.cz/event/soteu-2023-3/
CATEGORIES:Karlovy Vary
ATTACH;FMTTYPE=:
END:VEVENT
BEGIN:VEVENT
DTSTART;TZID=UTC:20230627T090000
DTEND;TZID=UTC:20230628T140000
DTSTAMP:20260420T032655
CREATED:20230531T101136Z
LAST-MODIFIED:20230531T101136Z
UID:169785-1687856400-1687960800@tvorimevropu.showyourweb.cz
SUMMARY:Výroční setkání Iniciativy EU pro uhelné regiony v transformaci
DESCRIPTION:Již 4. výroční společenský dialog Iniciativy EU pro uhelné regiony v transformaci se bude konat ve dnech 27.–28. června 2023 v Karlových Varech. Akci pořádá Evropská komise a Karlovarský kraj s podporou Evropského výboru regionů. Místem konání prvního dne konference bude čerstvě zrekonstruovaný objekt Císařských Lázní. \nPro zúčastněné strany ze všech uhelných\, rašelinových\, lignitových a ropných břidlicových regionů EU to bude příležitost sejít se\, zhodnotit vývoj dosažený od zahájení iniciativy v roce 2018 a prodiskutovat společné výzvy\, kterým čelí v dnešní rychle se měnící situaci v oblasti energetiky. Diskuse bude probíhat s těmi\, kteří navrhují a realizují transformaci v uhelných regionech\, v hlavních městech EU a v Bruselu. Program zahrnuje strategické diskuse na vysoké úrovni o tom\, s čím budou uhelné regiony EU konfrontovány na své cestě ke klimatické neutralitě a jak lze klimatické neutrality dosáhnout spravedlivým a inkluzivním způsobem. Druhý den konference budou návštěvy regionálních projektů a lokalit souvisejících s transformací.\nBěhem akce povede diskuse řada řečníků na vysoké úrovni\, např:\nKadri Simson\, komisařka EU pro energetiku\nElisa Ferreira\, komisařka EU pro soudržnost a reformy \nPetr Kulhánek\, hejtman Karlovarského kraje\nPrvní den bude zahájen doprovodnou akcí zaměřenou na výměnný program EU (27. června od 9:30–10:30)\, po níž bude následovat oficiální zahájení konference. Odpoledne program bude rozdělen do třech paralelních dílčí sekcí\, kde se budou diskutovat témata související s přechodem regionů. \nTermín pro přihlášení k osobní účasti je 1. června 2023. Uzávěrka pro registraci virtuální účasti je 26. června 2023 (živě se bude vysílat pouze úvodní zasedání této události). Upozorňujeme\, že počet účastníků této akce je omezený. Registrace je bezplatná.\nPodrobnosti a možnost registrace zde.
URL:https://tvorimevropu.showyourweb.cz/event/vyrocni-setkani-iniciativy-eu-pro-uhelne-regiony-v-transformaci-3/
CATEGORIES:Karlovy Vary
ATTACH;FMTTYPE=:
END:VEVENT
BEGIN:VEVENT
DTSTART;TZID=UTC:20230517T103000
DTEND;TZID=UTC:20230517T123000
DTSTAMP:20260420T032655
CREATED:20230516T104703Z
LAST-MODIFIED:20230516T104703Z
UID:169761-1684319400-1684326600@tvorimevropu.showyourweb.cz
SUMMARY:Brusel za oponou
DESCRIPTION:Přednáška Brusel za oponou je primárně určena pro studenty Gymnázia a Jazykové školy s právem státní jazykové zkoušky Zlín. \nV případě\, že budete mít zájem mít tuto i na vaší škole\, neváhejte se nám ozvat! \n 
URL:https://tvorimevropu.showyourweb.cz/event/brusel-za-oponou-3/
CATEGORIES:Zlín
ATTACH;FMTTYPE=:
END:VEVENT
BEGIN:VEVENT
DTSTART;TZID=UTC:20230427T090000
DTEND;TZID=UTC:20230427T153000
DTSTAMP:20260420T032655
CREATED:20230414T142913Z
LAST-MODIFIED:20230414T142913Z
UID:169695-1682586000-1682609400@tvorimevropu.showyourweb.cz
SUMMARY:Evropské setkání mladých z Německa a Česka
DESCRIPTION:Chceš si vyzkoušet\, jak jedná Evropský parlament? \nByl/a jsi vloni v saském Markneukirchenu na studentské debatě? Znáš soutěž Rozhoduj o Evropě? \nPokud NE\, můžeš se přihlásit na Evropské setkání mladých z Německa a Česka a všechno se dozvíš! \nPokud ANO\, víš o co jde. Tak se můžeš se přihlásit na pokračovací Evropské setkání mladých z Německa a Česka! \nAkce pro studentky/ty středních škol Karlovarského kraje. \nKdy? ve čtvrtek 27. dubna 2023\, 9:30 – 15:30 \nKde? v zastupitelském sále Krajského úřadu Karlovarského kraje\, Závodní ul. \nS kým? Přijedou studenti ze Saska \nCo se bude dít? \n– simulace jednání Evropského parlamentu k Evropskému aktu o svobodě sdělovacích prostředků \n– debata s hosty na téma – přeshraniční trh práce\, jaký je? (pan Lohr ze saského úřadu práce) \n– příležitosti v EU pro mladé\, jaká může být jejich přeshraniční spolupráce? (Markéta Kavalíková a Dan Grigar z Domu zahraniční spolupráce). \nÚčast je zdarma – akce je tlumočena – celodenní občerstvení zajištěno – aktivní studenti budou odměněni – registrace !!!!! zde: pskýttps://forms.gle/bMKNH52eHnzaWDteA \nAkci organizují EUROPE DIRECT Karlovy Vary\, EUROPE DIRECT Vogtland a EUTIS. \nFotka od Gerd Altmann z Pixabay
URL:https://tvorimevropu.showyourweb.cz/event/evropske-setkani-mladych-z-nemecka-a-ceska-3/
CATEGORIES:Karlovy Vary
ATTACH;FMTTYPE=:
END:VEVENT
BEGIN:VEVENT
DTSTART;TZID=UTC:20230323T160000
DTEND;TZID=UTC:20230323T173000
DTSTAMP:20260420T032655
CREATED:20230316T155129Z
LAST-MODIFIED:20230316T155129Z
UID:169638-1679587200-1679592600@tvorimevropu.showyourweb.cz
SUMMARY:Region budoucnosti: jak se změní Ústecko a jak může těmto změnám pomoci Evropa?
DESCRIPTION:Mění se celá Evropa a Ústecko je jedním z regionů\, které se musí změnit nejvíce. Peněz z evropských fondů je na potřebné změny dostatek. Otázkou ale je\, jak najít pro Ústecko budoucnost\, která celý region posune výrazně vpřed. Přijďte o tom diskutovat se zajímavými hosty. \nKdy? – čtvrtek 23. března 2023 16-17:30 hodin. \nKde? – Inovační centrum Ústeckého kraje (ICUK)\, Velká Hradební 2800/54\, 400 01\, Ústí nad Labem \nHosté debaty:\nLuděk Niedermayer\, europoslanec a bývalý viceguvernér ČNB\nJaroslav Koutský\, rektor Univerzity Jana Evangelisty Purkyně\nPavel Hajšman\, vedoucí odboru regionálního rozvoje\, Ústecký kraj \n\nvstup volný\nnápoje a občerstvení\nkapacita omezena – prosíme o REGISTRACI ZDE
URL:https://tvorimevropu.showyourweb.cz/event/region-budoucnosti-jak-se-zmeni-ustecko-a-jak-muze-temto-zmenam-pomoci-evropa-3/
CATEGORIES:Ústí nad Labem
ATTACH;FMTTYPE=:
END:VEVENT
BEGIN:VEVENT
DTSTART;TZID=UTC:20230208T110000
DTEND;TZID=UTC:20230208T130000
DTSTAMP:20260420T032655
CREATED:20230201T152700Z
LAST-MODIFIED:20230201T152700Z
UID:169570-1675854000-1675861200@tvorimevropu.showyourweb.cz
SUMMARY:Francouzština v profesní praxi
DESCRIPTION:Parlez-vous français?   \nPokud ano\, vaše šance na dobré uplatnění jsou značné! Přijďte se o tom přesvědčit 8. února 2023 v 11h na FF JU na akci „Francouzština v profesní praxi“. \nO uvedené pozitivní zprávě i o dalších záležitostech z frankofonního byznysu budete moci podebatovat s významnými osobnostmi z tohoto prostředí: M. Mackem z CCFT\, R. Dušilem z Pierre Fabre\, M. Šípem z AK Constelius\, J. Rezlerovou z Manpower a V. Kormošovou z Forvie. \n  \nVšichni zájemci o tuto problematiku jsou srdečně zváni!
URL:https://tvorimevropu.showyourweb.cz/event/francouzstina-v-profesni-praxi-3/
CATEGORIES:České Budějovice
ATTACH;FMTTYPE=:
END:VEVENT
BEGIN:VEVENT
DTSTART;TZID=UTC:20230112T160000
DTEND;TZID=UTC:20230112T180000
DTSTAMP:20260420T032655
CREATED:20221216T142052Z
LAST-MODIFIED:20221216T142052Z
UID:169510-1673539200-1673546400@tvorimevropu.showyourweb.cz
SUMMARY:Dezinformace a mediální obezřetnost
DESCRIPTION:Zveme vás na lednový seminář s debatou na téma Dezinformace a mediální obezřetnost do inovačního centra INION\, Drahomířino nábřeží 16 (v objektu městské knihovny Drahovice). \nVystupovat budou: \n» zkušený lektor Zdeněk Svoboda (certifikovaný organizací Elpida)\, zahájí úvodem do mediální gramotnosti a vysvětlí\, jak myslet kriticky a být mediálně obezřetný \n» dlouholetá redaktorka regionálního zpravodajství ČT Daniela Tunklová \n» moderátor Tomáš Bouška\, politolog a bývalý tiskový mluvčí ministerstva školství. \n  \nAkci pořádáme ve spolupráci s Novinářským inkubátorem (https://novinarskyinkubator.cz/). Seminář je zdarma a je určen nejen pro seniory\, ale pro všechny\, kteří se chtějí trochu lépe vyznat ve světě médií a informací. \nPro zajištění místa je možná registrace na emailu: eurocentrum.kv@euroskop.cz nebo telefonu 725 810 364. \n 
URL:https://tvorimevropu.showyourweb.cz/event/dezinformace-a-medialni-obezretnost-3/
CATEGORIES:Karlovy Vary
END:VEVENT
BEGIN:VEVENT
DTSTART;TZID=UTC:20221215T150000
DTEND;TZID=UTC:20221215T170000
DTSTAMP:20260420T032655
CREATED:20221214T122440Z
LAST-MODIFIED:20221214T122440Z
UID:169508-1671116400-1671123600@tvorimevropu.showyourweb.cz
SUMMARY:Setkání ke vzniku agentury 4K
DESCRIPTION:Zastupitelstvo Karlovarského kraje schválilo vznik Agentury pro kulturní a kreativní průmysly Karlovarského kraje. Pro nastavení jejího fungování Karlovarský kraj pořádá již druhý společný workshop kreativců a firem z Karlovarského kraje\, na kterém bude zjišťovat potřeby místní podnikatelské a kreativní scény. Hlavním účelem setkání bude zjištění potřeb kreativců a firem a toho\, jak jim nově vzniklá agentura 4K může pomoci v rozvoji. Během setkání bude představena Agentura 4K\, proces jejího vzniku a její možné přínosy pro Karlovarský kraj. \nAkce se koná v Městské knihovně Ostrov\, Zámecký park 224. \nSetkání je součástí přípravy tohoto strategického projektu\, který má vzniknout v rámci procesu Spravedlivé transformace. \nV rámci sběru dat od kreativců a firem ke vzniku 4K je už v tuto chvíli možné vyplnit online dotazník  \nhttps://redpond.cz/?fbclid=IwAR0b9mfMCYYf1jPyl1WkpKtLebBjdMssm9zEJO0ALuyyUc1FH67cu4BGINg
URL:https://tvorimevropu.showyourweb.cz/event/setkani-ke-vzniku-agentury-4k-3/
CATEGORIES:Karlovy Vary
END:VEVENT
BEGIN:VEVENT
DTSTART;TZID=UTC:20220518T180000
DTEND;TZID=UTC:20220518T193000
DTSTAMP:20260420T032655
CREATED:20220516T165959Z
LAST-MODIFIED:20220516T165959Z
UID:169283-1652896800-1652902200@tvorimevropu.showyourweb.cz
SUMMARY:Věda\, výzkum\, inovace: budoucnost v EU
DESCRIPTION:Věda\, výzkum a inovace jsou klíčovými tématy pro Jihomoravský kraj. Zásadními jsou v tomto směru vysoké školy a výzkumná centra\, jejichž velký podíl sídlí právě v oblasti jižní Moravy\, což vytváří skvělé podmínky pro inovace a podnikání a přispívá k dynamickému růstu počtu firem\, jež svůj vlastní výzkum a vývoj realizují. Tato skutečnost řadí Jihomoravský kraj do popředí z hlediska vývoje počtu firem realizující vlastní výzkum a vývoj v rámci celé České republiky.\n.\nv posledních letech se tato oblast dostává do popředí i v agendách Evropské unie\, což mj. značí například navýšení podílů financí do oblasti výzkumu\, vývoje a inovací ve velkém finančním rámci na období 2021-2027.\n.\nDokáže se Česká republika vymanit z negativní konotace „montovny Evropy“ a proměnit tak svůj potenciál a převzít pozici leadera v této oblasti? Jaké jsou výzvy v této oblasti\, kterým čelí výzkumníci Jihomoravského kraje/ČR? Je česká vědecko-výzkumná scéna připravena na absenci financování ze strukturálních fondů? Jaká je v tomto ohledu naše pozice ve srovnání s ostatními členy EU? Jaké budou priority v této oblasti během předsednictví České republiky v radě EU? Právě o tom a o dalších otázkách spojených s výzkumem\, vývojem a inovacemi budou naši hosté diskutovat. Pozvání přijali: \n\nNikola Kostlánová (vědecká tajmenice\, CEITEC MUNI)\nPavlína Pancová Šimková (Lesnická a dřevařská fakulta\, MENDELU)\nPatrik Reichl (ředitel Regionální rozvojové agentury jižní Moravy)\n\nDebatu moderuje Kateřina Zichová (Euractiv.cz) \n.\nDebatu bude možné sledovat na našich facebookových stránkách. Své dotazy můžete pokládat do komentářů k živému vysílání nebo využít již nyní aplikace Slido.com s hashtagem #CZPRESBrno2 \n.
URL:https://tvorimevropu.showyourweb.cz/event/veda-vyzkum-inovace-budoucnost-v-eu-3/
LOCATION:34426-120-f202102220490901
CATEGORIES:Brno
ATTACH;FMTTYPE=:
END:VEVENT
BEGIN:VEVENT
DTSTART;TZID=UTC:20220510T170000
DTEND;TZID=UTC:20220510T180000
DTSTAMP:20260420T032655
CREATED:20220504T103306Z
LAST-MODIFIED:20220504T103306Z
UID:169269-1652202000-1652205600@tvorimevropu.showyourweb.cz
SUMMARY:Online debata: Přechod z využívání fosilních paliv na moderní energetiku a transformace krajiny
DESCRIPTION:Eurocentrum Ústí nad Labem Vás zve na online debatu se zaměřením na přechod z fosilních paliv na moderní energetiku a následnou transformaci krajiny v Ústeckém kraji. \nDatum a čas: 10. 5. 2022 od 17. hodin \nMísto: Online na FB\, stačí kliknout ZDE.  \nDiskutována budou témata budoucnost české energetiky\, rozvoj obnovitelných zdrojů v Ústeckém kraji a celé ČR\, dopady transformace uhelných regionů na ústeckou společnost a ekonomiku nebo budoucí obnova krajiny po těžbě uhlí. \n\nPozvání na debatu přijali: \n\nPavel Farkač – manažer transformačních a rozvojových projektů\, skupina Sev.en\nMikuláš Černík – výzkumník\, Re-set\, platforma pro sociálně-ekologickou transformaci\nRut Bízková – konzultantka v oblasti výzkumu\, životního prostředí a energetiky; členka Rady pro výzkum\, vývoj a inovace\n\nCelou debatou nás provede moderátorka Aneta Zachová\, šéfredaktorka EURACTIV.cz. \n\nSvé dotazy můžete pokládat do komentářů k živému vysílání nebo využít již nyní aplikace sli.do s hashtagem #CZPRES11 nebo ZDE.  \nDebata je součástí cyklu regionálních tematických debat v rámci příprav českého předsednictví v Radě EU.
URL:https://tvorimevropu.showyourweb.cz/event/online-debata-prechod-z-vyuzivani-fosilnich-paliv-na-moderni-energetiku-a-transformace-krajiny-3/
LOCATION:34426-120-f202102220490901
CATEGORIES:Ústí nad Labem
ATTACH;FMTTYPE=:
END:VEVENT
BEGIN:VEVENT
DTSTART;TZID=UTC:20220428T170000
DTEND;TZID=UTC:20220428T180000
DTSTAMP:20260420T032655
CREATED:20220422T111925Z
LAST-MODIFIED:20220422T111925Z
UID:169221-1651165200-1651168800@tvorimevropu.showyourweb.cz
SUMMARY:Průmysl 4.0 a digitální budoucnost Česka
DESCRIPTION:Srdečně Vás zveme na debatu s názvem: Průmysl 4.0 a digitální budoucnost Česka: výzvy a příležitosti digitální a zelené transformace. \nDigitální transformace a Zelená dohoda pro Evropu nabízí pro regiony České republiky ekonomické a transformační příležitosti stejně jako investice do inovací\, digitálních technologií a do udržitelného rozvoje pro dnešní i budoucí generace. Evropská digitální dekáda má za cíl nejenom využít naplno potenciál digitálních řešení pro občany a firmy\, ale má napomoci také snížit ekologický dopad na životní prostředí. Energetická krize a růst cen energií však mohou mít dopad na budoucnost digitalizace a zavádění energeticky náročných technologií. Jak může Moravskoslezský kraj co nejlépe uplatnit příležitosti digitální a zelené transformace a jaké může nabídnout příklady dobré praxe? \nPozvání na debatu přijali: \n\nKateřina Kalužová\, manažerka pro digitální ekonomiku\, Svaz průmyslu a dopravy ČR\nMartin Jurek\, koordinátor strategického projektu MSK digital\, Moravskoslezské inovační centrum\nMartin Duda\, vedoucí oddělení rozvoje\, IT4Innovations Národní superpočítačové centrum\nModeruje: Jan Míča\, vedoucí Oddělení evropské digitální agendy pro Úřad vlády ČR.\n\nSvé dotazy můžete pokládat do komentářů k živému vysílání na Facebooku nebo využít již nyní aplikace sli.do. \nDebata je součástí cyklu regionálních tematických debat v rámci příprav českého předsednictví v Radě EU.
URL:https://tvorimevropu.showyourweb.cz/event/prumysl-4-0-a-digitalni-budoucnost-ceska-3/
LOCATION:34426-120-f202102220490901
CATEGORIES:Ostrava
END:VEVENT
BEGIN:VEVENT
DTSTART;TZID=UTC:20220426T170000
DTEND;TZID=UTC:20220426T190000
DTSTAMP:20260420T032655
CREATED:20220425T092427Z
LAST-MODIFIED:20220425T092427Z
UID:169251-1650992400-1650999600@tvorimevropu.showyourweb.cz
SUMMARY:České zdravotnictví na špici Evropy: Evropská spolupráce a výzvy budoucnosti
DESCRIPTION:Odkaz na událost zde. \nZdravotnictví se za poslední rok stalo jednou z nejsledovanějších politik Evropské unie. Jakou roli hraje v oblasti zdravotnictví Evropská unie a jak se tato role proměnila během posledních let? Jaký má evropská spolupráce dopad na Českou republiku a co naopak může Česko nabídnout Evropě a světu? Jaká agenda v oblasti zdravotnictví bude Česko čekat v době jejího předsednictví?\nDiskutovat s Vámi budou:\n– Tomáš Doležal\, Institut pro zdravotní ekonomiku iHETA\n– Vít Havelka\, Institut pro evropskou politiku EUROPEUM\n– zástupce Ministerstva zdravotnictví/Úřadu vlády ČR (tba) \nDebatu bude moderovat Ludmila Johnová\, vedoucí Oddělení pro Eurocentra Úřadu vlády ČR.\nDebata bude probíhat online na Facebooku. \nSvé dotazy můžete pokládat do komentářů k živému vysílání nebo prostřednictvím Slido.com s hashtagem #CZPRES7. \nDebata je součástí cyklu regionálních tematických debat v rámci příprav českého předsednictví v Radě EU .
URL:https://tvorimevropu.showyourweb.cz/event/ceske-zdravotnictvi-na-spici-evropy-evropska-spoluprace-a-vyzvy-budoucnosti-3/
CATEGORIES:České Budějovice
ATTACH;FMTTYPE=:
END:VEVENT
END:VCALENDAR