BEGIN:VCALENDAR
VERSION:2.0
PRODID:-//Tvoříme Evropu - ECPv6.15.0.1//NONSGML v1.0//EN
CALSCALE:GREGORIAN
METHOD:PUBLISH
X-WR-CALNAME:Tvoříme Evropu
X-ORIGINAL-URL:https://tvorimevropu.showyourweb.cz
X-WR-CALDESC:Akce na Tvoříme Evropu
REFRESH-INTERVAL;VALUE=DURATION:PT1H
X-Robots-Tag:noindex
X-PUBLISHED-TTL:PT1H
BEGIN:VTIMEZONE
TZID:UTC
BEGIN:STANDARD
TZOFFSETFROM:+0000
TZOFFSETTO:+0000
TZNAME:UTC
DTSTART:20220101T000000
END:STANDARD
END:VTIMEZONE
BEGIN:VEVENT
DTSTART;TZID=UTC:20230518T100000
DTEND;TZID=UTC:20230608T120000
DTSTAMP:20260420T033029
CREATED:20230427T065154Z
LAST-MODIFIED:20230427T065154Z
UID:169736-1684404000-1686225600@tvorimevropu.showyourweb.cz
SUMMARY:ZRUŠENO: Česká republika v EU: Ozvěny předsednictví - přednáška s ministrem pro Evropské záležitosti Mikulášem Bekem
DESCRIPTION:
URL:https://tvorimevropu.showyourweb.cz/event/ceska-republika-v-eu-ozveny-predsednictvi-prednaska-s-ministrem-pro-evropske-zalezitosti-mikulasem-bekem-3/
CATEGORIES:České Budějovice
END:VEVENT
BEGIN:VEVENT
DTSTART;TZID=UTC:20230216T173000
DTEND;TZID=UTC:20230216T190000
DTSTAMP:20260420T033029
CREATED:20230215T123155Z
LAST-MODIFIED:20230215T123155Z
UID:169604-1676568600-1676574000@tvorimevropu.showyourweb.cz
SUMMARY:České předsednictví v Radě EU: jaké bylo a co dál?
DESCRIPTION:České předsednictví v Radě EU bylo s koncem roku 2022 úspěšně ukončeno a předáno Švédsku\, které v roli předsednického státu na Českou republiku navazuje. \nJaké bylo české předsednictví? Jaký vliv na jeho úspěch měla kulturní diplomacie? a jak se do průběhu zapojily regiony? Sledujte diskuzi s těmi nejpovolanějšími! \nPozvání do diskuze přijaly:\n? Alice Krutilová (ředitelka Odboru pro předsednictví v Radě EU)\n? Jitka Pánek Jurková (ředitelka Českého centra v Bruselu v době #CZPRES)\n? Vendula Nováčková (vedoucí kanceláře Zastoupení Jihomoravského kraje při EU) \nDebatu moderuje Nikola Pavlůsková (Eurocentrum Brno). \nBližší informace najdete také ve facebookové události ZDE. \n? ONLINE přenos můžete sledovat ŽIVĚ na naší facebookové stránce.
URL:https://tvorimevropu.showyourweb.cz/event/ceske-predsednictvi-v-rade-eu-jake-bylo-a-co-dal-3/
LOCATION:34426-120-f202102220490901
CATEGORIES:Brno
ATTACH;FMTTYPE=image/png:https://tvorimevropu.showyourweb.cz/wp-content/uploads/2022/01/20751-nuts_ii.png
END:VEVENT
BEGIN:VEVENT
DTSTART;TZID=UTC:20230202T080000
DTEND;TZID=UTC:20230228T170000
DTSTAMP:20260420T033029
CREATED:20230203T101724Z
LAST-MODIFIED:20230203T101724Z
UID:169579-1675324800-1677603600@tvorimevropu.showyourweb.cz
SUMMARY:soutěž Krádež v muzeu
DESCRIPTION:Ale ne\, z výstavy „České předsednictví v Radě EU“ někdo ukradl několik exponátů! \n\n\n\nPomůžeš nám je znovu vypátrat? Odpověz na několik kvízových otázek a zachraň výstavu! \n\n\n\nPokud opovíš na všechny otázky\, na konci najdeš tajné heslo: Pošli nám ho na e-mail Eurocentrum.cb@euroskop.cz nebo ve zprávě zde na fb a vyhraj drobné upomínkové předměty k českému předsednictví v Radě EU. \n\n\n\nKvíz najdeš pod následujícím odkazem: https://1url.cz/orSVj\n\n\nSoutěž probíhá od 2. 2. do 28. 2. 2023.
URL:https://tvorimevropu.showyourweb.cz/event/soutez-kradez-v-muzeu-3/
LOCATION:34426-120-f202102220490901
CATEGORIES:České Budějovice
ATTACH;FMTTYPE=:
END:VEVENT
BEGIN:VEVENT
DTSTART;VALUE=DATE:20221202
DTEND;VALUE=DATE:20221203
DTSTAMP:20260420T033029
CREATED:20221125T145125Z
LAST-MODIFIED:20221125T145125Z
UID:169506-1669939200-1670025599@tvorimevropu.showyourweb.cz
SUMMARY:České Vánoce
DESCRIPTION:Pojďte s námi prožít Vánoce trochu jinak. v Karlových Varech v kině Drahomíra (Vítězná 627/50)\, v pátek 2. prosince od 15:30 hod. Čekají na vás vánoční tradice z jiných evropských zemí\, přednáška o rodině Čapků nebo pořad Poezie a jazz – český speciál. Připraveny pro vás budou též české vánoční zvyky\, výroba netradičních ozdob a nebo si budete moci napsat přání Ježíškovi. \nAkce se koná při příležitosti předsednictví České republiky v Radě EU. \nVíce zde https://fb.me/e/2Y0cyFZfo \n 
URL:https://tvorimevropu.showyourweb.cz/event/ceske-vanoce-3/
CATEGORIES:Karlovy Vary
END:VEVENT
BEGIN:VEVENT
DTSTART;TZID=UTC:20221117T170000
DTEND;TZID=UTC:20221117T190000
DTSTAMP:20260420T033029
CREATED:20221114T102912Z
LAST-MODIFIED:20221114T102912Z
UID:169502-1668704400-1668711600@tvorimevropu.showyourweb.cz
SUMMARY:Vernisáž a výstava fotografií soutěže Já\, Evropan!
DESCRIPTION:Naše letní fotosoutěž Já\, Evropan! pro mladé od 12 do 30 let skončila. Všechny zaslané příspěvky hodnotí odborníci a brzy budeme znát výsledky. Fotosoutěž pořádalo Eurocentrum Karlovy Vary\, Eurocentrum Plzeň\, EUROPE DIRECT Klatovy a EUROPE DIRECT Karlovy Vary. Účastnice nebo účastníci na 1. – 3. místě obdrží poukázky v hodnotě 3.000\,- Kč\, 2.000\,- Kč a 1.000\,- Kč. Ostatní ale také nepřijdou zkrátka a dostanou od nás něco pěkného.\nVyhlášení vítězných příspěvků bude o svátečním odpoledni v Karlových Varech u galerie Supermarket WC. \nProgram společné akce: \n\nCelý den: VÝSTAVA PLAKÁTŮ z řad studentů i veřejnosti na téma PRAVDA a LÁSKA\, kreativní dílna přímo na stěně podchodu\n17.30: JÁ EVROPAN / vernisáž výstavy fotografií\n18.00: FILMOVÁ PROJEKCE „tematické střípky“\n\nPřijďte s námi oslavit 17. listopad Den boje za svobodu a demokracii! \nNejlepších 11 fotografií si budete moct prohlédnout po vernisáži ještě další 3 týdny ve známém podchodu u galerie Supermarket WC poblíž Dolního nádraží v Karlových Varech. \nVíce zde https://fb.me/e/20Odydnst nebo zde https://fb.me/e/3Ore2CKAC \n 
URL:https://tvorimevropu.showyourweb.cz/event/vernisaz-a-vystava-fotografii-souteze-ja-evropan-3/
CATEGORIES:Karlovy Vary
END:VEVENT
BEGIN:VEVENT
DTSTART;TZID=UTC:20221025T093000
DTEND;TZID=UTC:20221025T190000
DTSTAMP:20260420T033029
CREATED:20221009T112246Z
LAST-MODIFIED:20221009T112246Z
UID:169442-1666690200-1666724400@tvorimevropu.showyourweb.cz
SUMMARY:FESTIVAL KNIH aneb s knížkou není nuda
DESCRIPTION:Dopolední program od 9\,30 je vyhrazen pro přihlášené školy. \nOdpoledne je vstup volný pro veřejnost:\nA-KLUB\n14\,00 -15\,45 – výtvarná dílna s Romanou „Komiksoví bambuláci“\n16\,00 – Time to move aktivity\, Erasmus+\n16\,15 – cestovatelská přednáška o Armenii\, diskuse „Jak si užít Armenii“\nDĚTSKÉ ODDĚLENÍ\n14\,00 – 17\,30 – virtuální realita – letecký simulátor\, ukázka herních počítačů\, Cosplay – fotokoutek\nHALA KNIHOVNY\n14\,00 – 17\,30 – 3D tisk – prezentace\, přednáška\, kvíz o ceny a další aktivity                                                14\,00 – 16\,00 – předsednictví ČR v Radě EU – informace\, kvíz o ceny\nSÁL\n17\,15 – spisovatel Štěpán Javůrek – autogramiáda\, povídání o knížkách \nAkci pořádá Krajská knihovna Karlovy Vary ve spolupráci s Eurocentrem a EUROPE DIRECT Karlovy Vary.
URL:https://tvorimevropu.showyourweb.cz/event/festival-knih-aneb-s-knizkou-neni-nuda-3/
CATEGORIES:Karlovy Vary
END:VEVENT
BEGIN:VEVENT
DTSTART;TZID=UTC:20221010T130000
DTEND;TZID=UTC:20221010T210000
DTSTAMP:20260420T033029
CREATED:20220919T150313Z
LAST-MODIFIED:20220919T150313Z
UID:169411-1665406800-1665435600@tvorimevropu.showyourweb.cz
SUMMARY:Předsedáme Evropě
DESCRIPTION:Předsedáme Evropě – teď i v našem kraji!\nČeská republika v tomto pololetí předsedá Radě Evropské unie a i vy můžete být u toho!\nPřijďte si s námi užít odpoledne plné zábavných aktivit či kulturních vystoupení a dozvědět se více nejen o aktuálně probíhajícím českém předsednictví. Těšíme se na vás 10. října od 13 hodin na Náměstí Svobody v Brně.\n.\nOd 17:30 hodin se můžete těšit na debatu s názvem Předsednictví očima regionů a debatovat s: \nJanem Grolichem (hejtmanem Jihomoravského kraje) \nPetrem Chládkem (ředitelem Jihomoravského inovačního centra) \nIgorem Blahušiakem (ředitelem Odboru komunikace o evropských záležitostech Úřadu vlády ČR)\nAkci pořádá Úřad vlády ČR a Eurocentrum Brno. Těšit se můžete také na partnerské organizace a zástupce z Ministerstva pro místní rozvoj\, Jihomoravského kraje a Kanceláře Jihomoravského kraje pro meziregionální spolupráci\, Města Brna\, Domu zahraniční spolupráce\, Europe Direct Brno\, EURES či Europass\, které můžete navštívit na stánku.\n.\nCelý program zakončí večerním koncertem zpěvačka DEBBI.\n.\nKompletní program a další aktualizace najdete ve facebookové události ZDE.
URL:https://tvorimevropu.showyourweb.cz/event/predsedame-evrope-8-3/
CATEGORIES:Brno
ATTACH;FMTTYPE=image/jpeg:https://tvorimevropu.showyourweb.cz/wp-content/uploads/2022/01/31675-supercomputer_pixabay.jpg
END:VEVENT
BEGIN:VEVENT
DTSTART;TZID=UTC:20220924T100000
DTEND;TZID=UTC:20220924T190000
DTSTAMP:20260420T033029
CREATED:20220915T062413Z
LAST-MODIFIED:20220915T062413Z
UID:169399-1664013600-1664046000@tvorimevropu.showyourweb.cz
SUMMARY:Předsedáme Evropě - nyní i v Plzni
DESCRIPTION:Předsedáme Evropě – teď i v našem regionu! Česko již několik měsíců předsedá Radě Evropské unie a i vy se můžete zapojit. \nVe druhém pololetí tohoto roku se Česká republika zhostila role předsednictví Rady Evropské unie. Co to pro nás znamená a jak to vlastně funguje? Přijďte se k za námi podívat příští sobotu na náměstí Republiky v Plzni a můžeme si popovídat. \nTematická roadshow\, která bude ještě v následujících čtyřech týdnech obrážet krajská města\, se zastaví u nás na západě. v Plzni jsme se spojili s akcí #JETOTU\, kterou pořádá Středisko volného času Radovánek. Společně s našimi kolegy z klatovského Europe Direct a Domu zahraniční spolupráce vám nabídneme aktivity a zajímavé kvízy\, samozřejmě informace a nebude chybět ani debatní stan se skvělými hosty. a nesmí chybět fotokoutek s okamžitým tiskem fotek\, takže nemusíte na nic čekat. \nBudeme se na vás těšit v sobotu 24.9. od 10 do 19 hodin na náměstí Republiky v Plzni. Nezapomeňte sledovat i naše sítě. \nCelá akce je zdarma.
URL:https://tvorimevropu.showyourweb.cz/event/predsedame-evrope-nyni-i-v-plzni-3/
CATEGORIES:Plzeň
ATTACH;FMTTYPE=image/jpeg:https://tvorimevropu.showyourweb.cz/wp-content/uploads/2022/01/31800-120-hlasovani_econ.jpg
END:VEVENT
BEGIN:VEVENT
DTSTART;VALUE=DATE:20220818
DTEND;VALUE=DATE:20220914
DTSTAMP:20260420T033029
CREATED:20220818T070015Z
LAST-MODIFIED:20220818T070015Z
UID:169306-1660780800-1663113599@tvorimevropu.showyourweb.cz
SUMMARY:Kvíz: Jak dobře znáte Česko?
DESCRIPTION:VÝHERCI kvízu jsou: paní Vlasta Š.\, paní Eva T. a pan Lukáš F. Gratulujeme! \nČeská republika momentálně předsedá Radě EU\, proto Eurocentrum Ústí nad Labem pro Vás připravilo zábavný kvíz o české historii\, památkách a reáliích. Dokážete v kvízu získat alespoň 8000 bodů? Pokud ano\, budete zařazeni do slosování o skvělé ceny. \nStačí kliknout ZDE a hrát.  \nPravidla soutěže:  \n\nSoutěž trvá do 13. září 2022.\nSoutěžící musí získat minimálně 8000 bodů a vyplnit své jméno a e-mail\, aby byli zařazeni do slosování o ceny.\nSlosování proběhne v polovině září 2022. Vylosováni budou tři výherci\, kteří budou kontaktováni e-mailem. Výhry budou odeslány poštou do konce září 2022.\nVýhry odesíláme pouze na území České republiky\, do zahraničí není možné výhry zaslat.
URL:https://tvorimevropu.showyourweb.cz/event/kviz-jak-dobre-znate-cesko-3/
CATEGORIES:Ústí nad Labem
ATTACH;FMTTYPE=:
END:VEVENT
BEGIN:VEVENT
DTSTART;TZID=UTC:20220518T180000
DTEND;TZID=UTC:20220518T193000
DTSTAMP:20260420T033029
CREATED:20220516T165959Z
LAST-MODIFIED:20220516T165959Z
UID:169283-1652896800-1652902200@tvorimevropu.showyourweb.cz
SUMMARY:Věda\, výzkum\, inovace: budoucnost v EU
DESCRIPTION:Věda\, výzkum a inovace jsou klíčovými tématy pro Jihomoravský kraj. Zásadními jsou v tomto směru vysoké školy a výzkumná centra\, jejichž velký podíl sídlí právě v oblasti jižní Moravy\, což vytváří skvělé podmínky pro inovace a podnikání a přispívá k dynamickému růstu počtu firem\, jež svůj vlastní výzkum a vývoj realizují. Tato skutečnost řadí Jihomoravský kraj do popředí z hlediska vývoje počtu firem realizující vlastní výzkum a vývoj v rámci celé České republiky.\n.\nv posledních letech se tato oblast dostává do popředí i v agendách Evropské unie\, což mj. značí například navýšení podílů financí do oblasti výzkumu\, vývoje a inovací ve velkém finančním rámci na období 2021-2027.\n.\nDokáže se Česká republika vymanit z negativní konotace „montovny Evropy“ a proměnit tak svůj potenciál a převzít pozici leadera v této oblasti? Jaké jsou výzvy v této oblasti\, kterým čelí výzkumníci Jihomoravského kraje/ČR? Je česká vědecko-výzkumná scéna připravena na absenci financování ze strukturálních fondů? Jaká je v tomto ohledu naše pozice ve srovnání s ostatními členy EU? Jaké budou priority v této oblasti během předsednictví České republiky v radě EU? Právě o tom a o dalších otázkách spojených s výzkumem\, vývojem a inovacemi budou naši hosté diskutovat. Pozvání přijali: \n\nNikola Kostlánová (vědecká tajmenice\, CEITEC MUNI)\nPavlína Pancová Šimková (Lesnická a dřevařská fakulta\, MENDELU)\nPatrik Reichl (ředitel Regionální rozvojové agentury jižní Moravy)\n\nDebatu moderuje Kateřina Zichová (Euractiv.cz) \n.\nDebatu bude možné sledovat na našich facebookových stránkách. Své dotazy můžete pokládat do komentářů k živému vysílání nebo využít již nyní aplikace Slido.com s hashtagem #CZPRESBrno2 \n.
URL:https://tvorimevropu.showyourweb.cz/event/veda-vyzkum-inovace-budoucnost-v-eu-3/
LOCATION:34426-120-f202102220490901
CATEGORIES:Brno
ATTACH;FMTTYPE=:
END:VEVENT
BEGIN:VEVENT
DTSTART;TZID=UTC:20220510T170000
DTEND;TZID=UTC:20220510T180000
DTSTAMP:20260420T033029
CREATED:20220504T103306Z
LAST-MODIFIED:20220504T103306Z
UID:169269-1652202000-1652205600@tvorimevropu.showyourweb.cz
SUMMARY:Online debata: Přechod z využívání fosilních paliv na moderní energetiku a transformace krajiny
DESCRIPTION:Eurocentrum Ústí nad Labem Vás zve na online debatu se zaměřením na přechod z fosilních paliv na moderní energetiku a následnou transformaci krajiny v Ústeckém kraji. \nDatum a čas: 10. 5. 2022 od 17. hodin \nMísto: Online na FB\, stačí kliknout ZDE.  \nDiskutována budou témata budoucnost české energetiky\, rozvoj obnovitelných zdrojů v Ústeckém kraji a celé ČR\, dopady transformace uhelných regionů na ústeckou společnost a ekonomiku nebo budoucí obnova krajiny po těžbě uhlí. \n\nPozvání na debatu přijali: \n\nPavel Farkač – manažer transformačních a rozvojových projektů\, skupina Sev.en\nMikuláš Černík – výzkumník\, Re-set\, platforma pro sociálně-ekologickou transformaci\nRut Bízková – konzultantka v oblasti výzkumu\, životního prostředí a energetiky; členka Rady pro výzkum\, vývoj a inovace\n\nCelou debatou nás provede moderátorka Aneta Zachová\, šéfredaktorka EURACTIV.cz. \n\nSvé dotazy můžete pokládat do komentářů k živému vysílání nebo využít již nyní aplikace sli.do s hashtagem #CZPRES11 nebo ZDE.  \nDebata je součástí cyklu regionálních tematických debat v rámci příprav českého předsednictví v Radě EU.
URL:https://tvorimevropu.showyourweb.cz/event/online-debata-prechod-z-vyuzivani-fosilnich-paliv-na-moderni-energetiku-a-transformace-krajiny-3/
LOCATION:34426-120-f202102220490901
CATEGORIES:Ústí nad Labem
ATTACH;FMTTYPE=:
END:VEVENT
BEGIN:VEVENT
DTSTART;TZID=UTC:20220426T170000
DTEND;TZID=UTC:20220426T190000
DTSTAMP:20260420T033029
CREATED:20220425T092427Z
LAST-MODIFIED:20220425T092427Z
UID:169251-1650992400-1650999600@tvorimevropu.showyourweb.cz
SUMMARY:České zdravotnictví na špici Evropy: Evropská spolupráce a výzvy budoucnosti
DESCRIPTION:Odkaz na událost zde. \nZdravotnictví se za poslední rok stalo jednou z nejsledovanějších politik Evropské unie. Jakou roli hraje v oblasti zdravotnictví Evropská unie a jak se tato role proměnila během posledních let? Jaký má evropská spolupráce dopad na Českou republiku a co naopak může Česko nabídnout Evropě a světu? Jaká agenda v oblasti zdravotnictví bude Česko čekat v době jejího předsednictví?\nDiskutovat s Vámi budou:\n– Tomáš Doležal\, Institut pro zdravotní ekonomiku iHETA\n– Vít Havelka\, Institut pro evropskou politiku EUROPEUM\n– zástupce Ministerstva zdravotnictví/Úřadu vlády ČR (tba) \nDebatu bude moderovat Ludmila Johnová\, vedoucí Oddělení pro Eurocentra Úřadu vlády ČR.\nDebata bude probíhat online na Facebooku. \nSvé dotazy můžete pokládat do komentářů k živému vysílání nebo prostřednictvím Slido.com s hashtagem #CZPRES7. \nDebata je součástí cyklu regionálních tematických debat v rámci příprav českého předsednictví v Radě EU .
URL:https://tvorimevropu.showyourweb.cz/event/ceske-zdravotnictvi-na-spici-evropy-evropska-spoluprace-a-vyzvy-budoucnosti-3/
CATEGORIES:České Budějovice
ATTACH;FMTTYPE=:
END:VEVENT
BEGIN:VEVENT
DTSTART;TZID=UTC:20220419T173000
DTEND;TZID=UTC:20220419T190000
DTSTAMP:20260420T033029
CREATED:20220413T132705Z
LAST-MODIFIED:20220413T132705Z
UID:169243-1650389400-1650394800@tvorimevropu.showyourweb.cz
SUMMARY:Zachování českého vinařského a farmářského dědictví (ONLINE)
DESCRIPTION:Zemědělství a vinařství jsou tradičními doménami Jihomoravského kraje. Sektory zároveň čelí obrovským výzvám\, ať už jde o dopady klimatických změn\, rostoucí ceny nebo nejisté tržní prostředí. Pro následující měsíce a roky bude klíčové zvyšování jejich odolnosti vůči nejrůznějším vnějším negativním vlivům tak\, aby nadále mohly fungovat ve prospěch celé společnosti. Svou roli v tom může sehrát i EU. Evropské zemědělství zároveň čekají změny spojené s novou společnou zemědělskou politikou EU\, ale také s dopady ruské agrese vůči Ukrajině. Tématem by se mohlo v následujících měsících zabývat i české předsednictví v Radě EU\, kterého se země chopí ji 1. července 2022. \nDokáže se zemědělství a vinařství vypořádat s výzvami 21. století? Jak je modernizovat a zachovat jejich specifičnost? Jaké příležitosti nabízejí nové technologie? Co mohou zemědělci a vinaři očekávat od Evropské unie a jak se může Česko podílet na nelezení správných řešení? Právě o tom budou hosté\, kteří se zemědělství a vinařství věnují jak na akademické půdě\, tak i v praxi. \nDebatovat budou: \n Martin Chlad: prezident Svazu vinařů ČR\n Mojmír Baroň: prezident Unie enologů ČR\, vedoucí Ústavu vinohradnictví a vinařství MENDELU\n Lubor Lacina: vedoucí Ústavu financí Provozně ekonomické fakulty MENDELU \nDebatu moderuje Aneta Zachová (Euractiv.cz)  \nDebatu bude možné sledovat online na facebookové stránce Eurocentra Brno. Bližší informace najdete také ve facebookové události ZDE. \nSvé dotazy můžete pokládat do komentářů k živému vysílání nebo využít již nyní aplikace Slido.com s hashtagem #CZPRESBrno \nAkce se koná ve spolupráci Eurocentra Brno se Zastoupením Jihomoravského kraje při EU a webovými portály Euroskop.cz a EURACTIV.
URL:https://tvorimevropu.showyourweb.cz/event/zachovani-ceskeho-vinarskeho-a-farmarskeho-dedictvi-online-3/
CATEGORIES:Brno
ATTACH;FMTTYPE=image/jpeg:https://tvorimevropu.showyourweb.cz/wp-content/uploads/2022/01/24609-06_2015.jpg
END:VEVENT
BEGIN:VEVENT
DTSTART;TZID=UTC:20220330T180000
DTEND;TZID=UTC:20220330T193000
DTSTAMP:20260420T033029
CREATED:20220329T125014Z
LAST-MODIFIED:20220329T125014Z
UID:169235-1648663200-1648668600@tvorimevropu.showyourweb.cz
SUMMARY:Česko předsedá Evropě
DESCRIPTION:Česká republika se ujme 1. července 2022 svého druhého předsednictví   a bude tak půl roku určovat agendu a priority Rady. Jak vypadají přípravy na předsednictví tři měsíce před jeho zahájením a na jaké akce se můžeme těšit? Jaká témata bude Česko během předsednictví řešit a jaký dopad na naše předsednictví může mít například situace na Ukrajině?\nna tyto a další otázky Vám odpovíme v naší debatě\, ve které vystoupí:\n Jaroslav Zajíček\, velvyslanec Stálého zastoupení ČR při EU v Bruselu\n Alice Krutilová\, ředitelka Odboru pro předsednictví ČR v Radě EU na Úřadu vlády ČR\nDebatu bude moderovat Martin Vokálek\, výkonný ředitel Institutu pro evropskou politiku EUROPEUM.\n Své dotazy můžete pokládat do komentářů k živému vysílání nebo využít již nyní aplikace Slido.com s hashtagem #CZPRES1.\nDebata je součástí cyklu regionálních tematických debat v rámci příprav českého předsednictví v Radě EU\, který organizují Eurocentra a Euroskop Úřadu vlády ČR. \nDebata se bude vysílat živě na FB Eurocentra Praha\, Euroskopu a Youtube Euroskopu.\nUdálost na FB najdete zde: facebook.com/events/3027077384175878
URL:https://tvorimevropu.showyourweb.cz/event/cesko-predseda-evrope-3/
CATEGORIES:Praha
END:VEVENT
END:VCALENDAR