BEGIN:VCALENDAR
VERSION:2.0
PRODID:-//Tvoříme Evropu - ECPv6.15.0.1//NONSGML v1.0//EN
CALSCALE:GREGORIAN
METHOD:PUBLISH
X-WR-CALNAME:Tvoříme Evropu
X-ORIGINAL-URL:https://tvorimevropu.showyourweb.cz
X-WR-CALDESC:Akce na Tvoříme Evropu
REFRESH-INTERVAL;VALUE=DURATION:PT1H
X-Robots-Tag:noindex
X-PUBLISHED-TTL:PT1H
BEGIN:VTIMEZONE
TZID:Europe/Prague
BEGIN:DAYLIGHT
TZOFFSETFROM:+0100
TZOFFSETTO:+0200
TZNAME:CEST
DTSTART:20240331T010000
END:DAYLIGHT
BEGIN:STANDARD
TZOFFSETFROM:+0200
TZOFFSETTO:+0100
TZNAME:CET
DTSTART:20241027T010000
END:STANDARD
END:VTIMEZONE
BEGIN:VTIMEZONE
TZID:UTC
BEGIN:STANDARD
TZOFFSETFROM:+0000
TZOFFSETTO:+0000
TZNAME:UTC
DTSTART:20240101T000000
END:STANDARD
END:VTIMEZONE
BEGIN:VEVENT
DTSTART;TZID=Europe/Prague:20241030T090000
DTEND;TZID=Europe/Prague:20241030T150000
DTSTAMP:20260419T233514
CREATED:20241022T165051Z
LAST-MODIFIED:20241022T165051Z
UID:170337-1730278800-1730300400@tvorimevropu.showyourweb.cz
SUMMARY:VZ Tour 2024 Karlovy Vary
DESCRIPTION:Centrum pro regionální rozvoj pořádá v rámci VZ Tour 2024 konferenci o veřejných zakázkách v Karlových Varech. \nKlíčoví hráči na poli veřejného zadávání představí nejnovější trendy a osvědčené postupy v oblasti veřejných zakázek. Jde o skvělou příležitost setkat se s lídry ve veřejném zadávání a získat přístup k jejich know-how. Můžete se těšit na inspirativní případové studie\, sdílení rozhodovací praxe\, Best Practice a konzultace na místě s těmi nejlepšími z oboru. \nInovace a integrita ve veřejném zadávání \nAkce se koná ve středu 30. listopadu v Karlových Varech v Císařských Lázních od 9 hodin. \nKonference \,\,Inovace a integrita ve veřejném zadávání“ bude zaměřena na nejnovější vývoj\, výzvy a inovace ve veřejném zadávání a auditu v České republice. v rámci konference proběhne diskuse o klíčových tématech\, která formují budoucnost zadávání veřejných zakázek v České republice\, budou sdíleny znalosti\, zkušenosti a nejlepší postupy v oblastech aktuálních trendů ve veřejných zakázkách\, auditů MF\, přezkumů soudních rozhodnutí\, postupy při řízení před ÚOHS. Dále budou představeny možnosti zadávání veřejných zakázek s prvky Design & Build a možnosti implementace zásady DNSH. \nPřijďte a dozvíte se vše\, co potřebujete o veřejných zakázkách vědět\, abyste mohli úspěšně realizovat své projekty! \n 
URL:https://tvorimevropu.showyourweb.cz/event/vz-tour-2024-karlovy-vary-3/
CATEGORIES:Karlovy Vary
END:VEVENT
BEGIN:VEVENT
DTSTART;TZID=UTC:20240528T100000
DTEND;TZID=UTC:20240528T150000
DTSTAMP:20260419T233514
CREATED:20240604T142501Z
LAST-MODIFIED:20240604T142501Z
UID:170182-1716890400-1716908400@tvorimevropu.showyourweb.cz
SUMMARY:Slavíme 20 let EU v regionech - Pardubice
DESCRIPTION:Již dvacet let jsme součástí Evropské unie\, která zásadně zlepšuje život v celé České republice. a jak evropské peníze proměnily náš kraj? Od restaurovaných památek po nové silnice a cyklostezky\, více míst ve školkách\, komunitní centra a špičkové vybavení nemocnic – to je spousta důvodů k oslavám. Přijďte se přesvědčit sami! Těšit se můžete na pestrý program\, který pro Vás nachystala pobočka Centra pro regionální rozvoj Pardubice (CRR) v rámci květnových oslav. \n\n\nSpolečně si můžeme prohlédnout projekty\, které dopomohly v podporovaných oblastech ke zlepšení infrastruktury Pardubického kraje – doprava\, školství\, památky\, pomoc sociálně potřebným\, zdravotnictví\, ekologie atd. \nSamozřejmě jako vždy i tentokrát zástupci CRR při společném setkání nabídnou možnost konzultace Vašich nápadů a záměrů. Ochotně Vám poskytnou informace o aktuálních možnostech IROP II a podmínkách čerpání. \nEurocentrum Pardubice zde v rámci prezentace představí své služby pro širokou i odbornou veřejnost.  \n\n\n\nTyp akce:\nAkce pro veřejnost\n\n\nTermín konání:\n28. 5. 2024 10:00 – 15:00\n\n\n\nAdresa místa konání:\nKrajský úřad Pardubického kraje\, Komenského nám. 120\, 530 02\, Pardubice\n\n\n\nKontakt na Centrum pro regionální rozvoj Pardubice:\nIng. Andrea Koblížková\, tel.: 703 186 967\, andrea.koblizkova@crr.cz\nMgr. Martina Lerachová\, tel: 703 186 966\, martina.lerachova@crr.cz \nKontaktní osoba na Ministerstvo pro místní rozvoj:\nRadka Kozlová\, Eurocentrum Pardubice (tel. 739 682 806\, email radka.kozlova@mmr.gov.cz) \nV případě zájmu o účast na 2. bloku pro odbornou veřejnost od 13 hod Vás prosíme o registraci\, viz odkaz ZDE.
URL:https://tvorimevropu.showyourweb.cz/event/slavime-20-let-eu-v-regionech-pardubice-3/
CATEGORIES:20 let v EU,Pardubice
END:VEVENT
END:VCALENDAR