BEGIN:VCALENDAR
VERSION:2.0
PRODID:-//Tvoříme Evropu - ECPv6.15.0.1//NONSGML v1.0//EN
CALSCALE:GREGORIAN
METHOD:PUBLISH
X-WR-CALNAME:Tvoříme Evropu
X-ORIGINAL-URL:https://tvorimevropu.showyourweb.cz
X-WR-CALDESC:Akce na Tvoříme Evropu
REFRESH-INTERVAL;VALUE=DURATION:PT1H
X-Robots-Tag:noindex
X-PUBLISHED-TTL:PT1H
BEGIN:VTIMEZONE
TZID:Europe/Prague
BEGIN:DAYLIGHT
TZOFFSETFROM:+0100
TZOFFSETTO:+0200
TZNAME:CEST
DTSTART:20240331T010000
END:DAYLIGHT
BEGIN:STANDARD
TZOFFSETFROM:+0200
TZOFFSETTO:+0100
TZNAME:CET
DTSTART:20241027T010000
END:STANDARD
END:VTIMEZONE
BEGIN:VTIMEZONE
TZID:UTC
BEGIN:STANDARD
TZOFFSETFROM:+0000
TZOFFSETTO:+0000
TZNAME:UTC
DTSTART:20240101T000000
END:STANDARD
END:VTIMEZONE
BEGIN:VEVENT
DTSTART;TZID=Europe/Prague:20241105T170000
DTEND;TZID=Europe/Prague:20241105T183000
DTSTAMP:20260419T220406
CREATED:20241030T100358Z
LAST-MODIFIED:20241030T100358Z
UID:170349-1730826000-1730831400@tvorimevropu.showyourweb.cz
SUMMARY:20 let v EU: Co členství dalo a vzalo Česku?
DESCRIPTION:Přijďte diskutovat na další ze série debat Café Evropa!\nZajímá Vás\, jak město ovlivní Green Deal\, jak čerpat dotace z EU na lokální projekty\, dopad přijetí eura\, bezpečnost nebo další evropská témata?\n\n\nPřijďte diskutovat s našimi hosty:\nViktor Daněk\, bývalý zpravodaj Českého rozhlasu v Bruselu\nMilena Vicenová\, bývalá stálá představitelka při EU\nModerátor: Igor Blahušiak\, EU analytik\n\n\nKDY: v úterý 5. listopadu 2024\, od 17:00\nKDE: Koncertní sál\, Zámecká 118\, 753 01 Hranice\nTěšíme se na Vás!\n\nAkci pořádá Institut EUROPEUM spolu se Zastoupením Evropské komise v ČR  a městskými kulturními zařízeními Hranice.
URL:https://tvorimevropu.showyourweb.cz/event/20-let-v-eu-co-clenstvi-dalo-a-vzalo-cesku-3/
CATEGORIES:20 let v EU,Olomouc
ATTACH;FMTTYPE=image/jpeg:https://tvorimevropu.showyourweb.cz/wp-content/uploads/2024/10/463383385_1035146085288759_3809967304160182142_n.jpg
END:VEVENT
BEGIN:VEVENT
DTSTART;TZID=Europe/Prague:20241031T170000
DTEND;TZID=Europe/Prague:20241031T183000
DTSTAMP:20260419T220406
CREATED:20241030T095732Z
LAST-MODIFIED:20241030T095732Z
UID:170348-1730394000-1730399400@tvorimevropu.showyourweb.cz
SUMMARY:20 let v EU: Co členství dalo a vzalo Šumpersku?
DESCRIPTION:Přijďte debatovat na další ze série regionálních debat Café Evropa! \nTentokrát budeme v Šumperku. Jak hodnotíte 20 let Česka v EU? Obáváte se\, co přinese migrační pakt\, Green Deal? Pomohly evropské dotace v rozvoji města? Co Vám Evropská unie dala a vzala? \nChceme Vás slyšet! \nHosté: \nRadim Sršeň\, náměstek ministra pro místní rozvoj a zástupce ČR v Evropském výboru regionů \nIrena Götzová\, ředitelka Odboru pro politické plánování na Ministerstvu zahraničních věcí ČR \nModeruje: Irena Krcháková\, bývalá redaktorka České televize \n\nKDE: Městská knihovna T. G. Masaryka (28. října 1280/1\, Šumperk) \nKDY: Čtvrtek 31. října 2024 od 17:00 \n\nAkci pořádá EUROPEUM ve spolupráci se Zastoupením Evropské komise v ČR. \nPro nejaktuálnější informace sledujte událost.
URL:https://tvorimevropu.showyourweb.cz/event/20-let-v-eu-co-clenstvi-dalo-a-vzalo-sumpersku-3/
CATEGORIES:Olomouc
ATTACH;FMTTYPE=image/jpeg:https://tvorimevropu.showyourweb.cz/wp-content/uploads/2024/10/sumperk.jpg
END:VEVENT
BEGIN:VEVENT
DTSTART;TZID=UTC:20240501T150000
DTEND;TZID=UTC:20240501T180000
DTSTAMP:20260419T220406
CREATED:20240327T222730Z
LAST-MODIFIED:20240327T222730Z
UID:170080-1714575600-1714586400@tvorimevropu.showyourweb.cz
SUMMARY:Koncerty pro Vás aneb 20 let ČR v EU
DESCRIPTION:Zveme Vás na akci konanou při příležitosti oslav 20 let členství České republiky v Evropské unii \nNa co se můžete těšit: \n\nvelkoformátová výstava vybraných projektů podpořených fondy EU\nnarozeninový dort EU\nkoncerty: Bee Band\, POETIKA\n\nDoprovodný program pro celou rodinu. \nPo celý den vstupné zdarma: Oblastní galerie Vysočiny v Jihlavě\, Muzeum Vysočiny Jihlava\, Dům Gustava Mahlera\, Podzemí\, Brána Matky Boží \nKomentované prohlídky radnice a kostela sv. Ignáce z Loyoly v čase 15:30 a 16:30 (rezervace na www.dojihlavy.cz) \nPro návštěvníky Zoo Jihlava bude otevřeno Centrum PodpoVRCH a prohlídky s průvodcem po stavbách ZOO (5 kontinentů).
URL:https://tvorimevropu.showyourweb.cz/event/koncerty-pro-vas-aneb-20-let-cr-v-eu-3/
CATEGORIES:20 let v EU,Jihlava
END:VEVENT
END:VCALENDAR