BEGIN:VCALENDAR
VERSION:2.0
PRODID:-//Tvoříme Evropu - ECPv6.15.0.1//NONSGML v1.0//EN
CALSCALE:GREGORIAN
METHOD:PUBLISH
X-ORIGINAL-URL:https://tvorimevropu.showyourweb.cz
X-WR-CALDESC:Akce na Tvoříme Evropu
REFRESH-INTERVAL;VALUE=DURATION:PT1H
X-Robots-Tag:noindex
X-PUBLISHED-TTL:PT1H
BEGIN:VTIMEZONE
TZID:Europe/Prague
BEGIN:DAYLIGHT
TZOFFSETFROM:+0100
TZOFFSETTO:+0200
TZNAME:CEST
DTSTART:20250330T010000
END:DAYLIGHT
BEGIN:STANDARD
TZOFFSETFROM:+0200
TZOFFSETTO:+0100
TZNAME:CET
DTSTART:20251026T010000
END:STANDARD
END:VTIMEZONE
BEGIN:VEVENT
DTSTART;VALUE=DATE:20250423
DTEND;VALUE=DATE:20250528
DTSTAMP:20260420T013942
CREATED:20250423T105055Z
LAST-MODIFIED:20250423T105055Z
UID:170475-1745366400-1748390399@tvorimevropu.showyourweb.cz
SUMMARY:Den Evropy na školách
DESCRIPTION:Eurocentrum Pardubice pořádá tradiční projektový Den Evropy\, jenž bude zaměřen na poznávání Evropy\, členských zemí Evropské unie\, rozmanitých národů\, pokrmů\, jazyků a kultur. \nTěšíme se na všechny žáky I. a II. stupně základních škol v Pardubickém kraji\, kteří se s námi v průběhu dubna a května do projektu zapojí! \nCílem Dne Evropy je seznámit žáky s rozmanitostmi zemí EU a podpořit týmovou spolupráci\, přičemž nejlepší týmy obdrží drobné ceny Eurocentra Pardubice! \nSoučástí aktivit je také úniková hra EU hledá prezidenta! v případě zájmu o programy nás kontaktujte na emailu: lucie.boukalova@vlada.gov.cz. \nZačínáme dne 23. dubna v Dolní Rovni!
URL:https://tvorimevropu.showyourweb.cz/event/den-evropy-na-skolach-2/
CATEGORIES:Pardubice
END:VEVENT
END:VCALENDAR