BEGIN:VCALENDAR
VERSION:2.0
PRODID:-//Tvoříme Evropu - ECPv6.15.0.1//NONSGML v1.0//EN
CALSCALE:GREGORIAN
METHOD:PUBLISH
X-WR-CALNAME:Tvoříme Evropu
X-ORIGINAL-URL:https://tvorimevropu.showyourweb.cz
X-WR-CALDESC:Akce na Tvoříme Evropu
REFRESH-INTERVAL;VALUE=DURATION:PT1H
X-Robots-Tag:noindex
X-PUBLISHED-TTL:PT1H
BEGIN:VTIMEZONE
TZID:UTC
BEGIN:STANDARD
TZOFFSETFROM:+0000
TZOFFSETTO:+0000
TZNAME:UTC
DTSTART:20240101T000000
END:STANDARD
END:VTIMEZONE
BEGIN:VEVENT
DTSTART;TZID=UTC:20240926T180000
DTEND;TZID=UTC:20240928T233000
DTSTAMP:20260419T233510
CREATED:20240911T165417Z
LAST-MODIFIED:20240911T165417Z
UID:170264-1727373600-1727566200@tvorimevropu.showyourweb.cz
SUMMARY:Periferie III
DESCRIPTION:Literární festival PERIFERIE\, pořádaný spisovatelským tandemem Filip Koryta a Teodor Kravál ve spolupráci s Karlovarským krajem\, se koná v Karlovarském kraji už potřetí! \nOd čtvrtka 26. září do soboty 28. září. \nTentokrát se vydá do dalších koutů kraje. Do Chodova\, kde si budete moci prohlédnout novou městskou knihovnu zrekonstruovanou za pomoci evropských fondů a do Aše rovnou dvakrát\, do kulturního centra La Ritma. ve třech dnech se setkáte se zajímavými autorkami a autory\, jak těmi ostřílenými\, tak i s teenagery\, kteří teprve tvořit začínají. Čekají Vás autorská čtení\, slam poetry\, workshop\, přednášky a zkušenosti s programy Domu zahraniční spolupráce. \nSledujte informace a podrobný program na FB v události \n  \nNás\, holky z Eurocentra a EUROPE DIRECT Karlovy Vary\, tam určitě potkáte také! \nTĚŽÍME se na PERIFERII!
URL:https://tvorimevropu.showyourweb.cz/event/periferie-iii-3/
CATEGORIES:Karlovy Vary
END:VEVENT
END:VCALENDAR