BEGIN:VCALENDAR
VERSION:2.0
PRODID:-//Tvoříme Evropu - ECPv6.15.0.1//NONSGML v1.0//EN
CALSCALE:GREGORIAN
METHOD:PUBLISH
X-ORIGINAL-URL:https://tvorimevropu.showyourweb.cz
X-WR-CALDESC:Akce na Tvoříme Evropu
REFRESH-INTERVAL;VALUE=DURATION:PT1H
X-Robots-Tag:noindex
X-PUBLISHED-TTL:PT1H
BEGIN:VTIMEZONE
TZID:Europe/Prague
BEGIN:DAYLIGHT
TZOFFSETFROM:+0100
TZOFFSETTO:+0200
TZNAME:CEST
DTSTART:20250330T010000
END:DAYLIGHT
BEGIN:STANDARD
TZOFFSETFROM:+0200
TZOFFSETTO:+0100
TZNAME:CET
DTSTART:20251026T010000
END:STANDARD
END:VTIMEZONE
BEGIN:VTIMEZONE
TZID:UTC
BEGIN:STANDARD
TZOFFSETFROM:+0000
TZOFFSETTO:+0000
TZNAME:UTC
DTSTART:20220101T000000
END:STANDARD
END:VTIMEZONE
BEGIN:VEVENT
DTSTART;VALUE=DATE:20250625
DTEND;VALUE=DATE:20250901
DTSTAMP:20260420T013906
CREATED:20250625T093612Z
LAST-MODIFIED:20250625T093612Z
UID:170516-1750809600-1756684799@tvorimevropu.showyourweb.cz
SUMMARY:Online kvíz Cesty Evropou
DESCRIPTION:Připravili jsme pro vás letní online soutěž „Cesty Evropou – za poznáním i zábavou“. Zapojte se a vyhrajte zajímavé ceny (např. sportovní kameru)! \nVyzkoušejte si\, co víte o cestování po Evropě a o programech Evropské unie\, přes které můžete získat finanční podporu na své cesty (pro mladé ve věku 13-30 let). Kvíz je možné vyplnit do 31. 8. 2025. \n \n  \n  \n  \n  \n  \n  \n  \n  \nPravidla soutěže: \n\nVyplňte všech 10 kvízových otázek a získejte minimálně 5000 bodů. Pokud dosáhnete tohoto skóre\, budete automaticky zařazeni do slosování o zajímavé ceny.\nKvíz naleznete ZDE nebo můžete zadat soutěžní pin 008812643 na kahoot.it.\nZ celkového počtu účastníků\, kteří splní podmínky\, vylosujeme 3 šťastné výherce\, kteří získají atraktivní ceny. Po ukončení soutěže budeme výherce kontaktovat na uvedeném e-mailu. v případě\, že daný výherce neodpoví do 7 dní\, nárok na výhru propadá a budeme kontaktovat náhradníka.\nVyplňte na konci kvízu své jméno a e-mailovou adresu. Tyto údaje je nutné vyplnit\, abychom Vás mohli kontaktovat v případě výhry. Pokud nebudou tyto údaje vyplněné\, nebudete zařazeni do slosování.\nVýhry odesíláme pouze na území České republiky\, do zahraničí není možné výhry zaslat.\n\nPodrobná pravidla soutěže (pdf): Podmínky soutěže Cesty Evropou \nSoutěž je vyhlášena u příležitosti letošního výročí 35 let sítě Eurodesk. Tato informační síť poskytuje mladým lidem po celé Evropě informace o jejich příležitostech a možnostech výjezdů s finanční podporou programů Evropské unie. Eurocentrum České Budějovice je regionálním partnerem sítě Eurodesk. \nPřejeme Vám hodně štěstí v soutěži a krásné léto plné skvělých zážitků!
URL:https://tvorimevropu.showyourweb.cz/event/online-kviz-cesty-evropou-2/
CATEGORIES:České Budějovice
END:VEVENT
BEGIN:VEVENT
DTSTART;TZID=UTC:20241015T170000
DTEND;TZID=UTC:20241015T183000
DTSTAMP:20260420T013906
CREATED:20240911T084140Z
LAST-MODIFIED:20240911T084140Z
UID:170259-1729011600-1729017000@tvorimevropu.showyourweb.cz
SUMMARY:Cestovatelská beseda - Bad Ischl a Solná komora
DESCRIPTION:Zveme Vás na cestovatelskou besedu na téma Bad Ischl a Solná komora – Evropské hlavní město kultury 2024! \nKdy: 15. 10. 2024 od 17:00 \nKde: Víceúčelový sál Centra celoživotního vzdělávání\, Wonkova 1262/1a\, Hradec Králové \nVstup zdarma! \n\nEvropským hlavním městem kultury se letos stal rakouský Bad Ischl společně se Solnou komorou. Poprvé za třicet devět let získalo tento významný titul jedno město a celý region s třiadvaceti alpskými obcemi. S novinářkou Pavlou Apostolaki zavítáte do Bad Ischlu\, kde prozkoumáte bohatou historii tohoto lázeňského města\, navštívíte místa spojená s císařskou rodinou a vychutnáte si krásy okolní přírody.
URL:https://tvorimevropu.showyourweb.cz/event/cestovatelska-beseda-bad-ischl-a-solna-komora-3/
CATEGORIES:Hradec Králové
END:VEVENT
BEGIN:VEVENT
DTSTART;TZID=UTC:20241002T120000
DTEND;TZID=UTC:20241016T120000
DTSTAMP:20260420T013906
CREATED:20241006T185150Z
LAST-MODIFIED:20241006T185150Z
UID:170312-1727870400-1729080000@tvorimevropu.showyourweb.cz
SUMMARY:#DiscoverEU
DESCRIPTION:Mladí lidé ve věku 18 let mají opět šanci soutěžit od 2. do 16. října 2024 o měsíční jízdenku\, která jim umožní prozkoumat Evropu.\nIniciativa DiscoverEU\, která je nyní součástí programu Erasmus+\, nabízí mladým lidem ve věku kolem 18 let jedinečnou příležitost prozkoumat Evropu udržitelným způsobem – vlakem. \nSoutěž je určena lidem narozeným mezi 1. lednem 2006 (včetně) a 31. prosincem 2006 (včetně).\nDo soutěže o bezplatnou měsíční vlakovou jízdenku se mohou přihlásit buď jako jednotlivci nebo ve skupině až o čtyřech členech. Díky ní lze během 30 dní navštívit evropská města. Stačí na Evropském portálu pro mládež  zodpovědět otázky zaměřené na Evropskou unii\, její priority a iniciativy pro mladé lidi. Ze správných odpovědí bude vylosováno více než 800 finalistů. \nNezmeškejte svou šanci\, soutěž probíhá od 2. října 2024 od 12:00 do 16. října 2024 do 12:00.
URL:https://tvorimevropu.showyourweb.cz/event/discovereu-3/
CATEGORIES:Karlovy Vary
END:VEVENT
BEGIN:VEVENT
DTSTART;TZID=UTC:20240729T080000
DTEND;TZID=UTC:20240825T233000
DTSTAMP:20260420T013906
CREATED:20240730T102749Z
LAST-MODIFIED:20240730T102749Z
UID:170220-1722240000-1724628600@tvorimevropu.showyourweb.cz
SUMMARY:Letní cestovatelský kvíz o ceny!
DESCRIPTION:Zkuste náš cestovatelský kahoot kvíz a otestujte své znalosti! Letní měsíce jsou dobou cestování a poznávání cizích zemí i kultur. Otestujte si své vědomosti o cestování v EU. na co máte právo jako cestující po EU\, jaká jsou evropská nej a dokážete poznat památky podle fotografie? na vylosovaného výherce\, který správně zodpoví na všechny otázky čekají hodnotné ceny od Eurocentra Hradec Králové! \nOtevřít kvíz můžete na tomto odkaze: https://1url.cz/n1NXY \nnebo zadáním PINU: 07149007 na kahoot.it
URL:https://tvorimevropu.showyourweb.cz/event/letni-cestovatelsky-kviz-o-ceny-3/
CATEGORIES:Hradec Králové
END:VEVENT
BEGIN:VEVENT
DTSTART;TZID=UTC:20231106T090000
DTEND;TZID=UTC:20231106T100000
DTSTAMP:20260420T013906
CREATED:20230925T060511Z
LAST-MODIFIED:20230925T060511Z
UID:169886-1699261200-1699264800@tvorimevropu.showyourweb.cz
SUMMARY:Na zkušenou do Evropy
DESCRIPTION:Láká Vás studium v zahraničí? Chcete pracovat v jiné zemi EU\, získat zkušenosti a naučit se cizí jazyk? Jaké výhody přináší mezinárodní dobrovolnictví? \n \n  \nEurocentrum Hradec Králové a Dům zahraniční spolupráce Vás zve na přednášku „Na zkušenou do Evropy„\, která se uskuteční v pondělí 6. listopadu od 9.00 v prostorách Úřadu práce Hradec Králové\, ul. Wonkova 1142/1\, 500 02 Hradec Králové.  Beseda je určena zejména studentům posledních ročníků středních škol\, otevřena je však i široké veřejnosti. Akce je pořádána v rámci Týdne vzdělávání dospělých v Královéhradeckém kraji. \nZ důvodu omezené kapacity prosíme zájemce o registraci na: eurocentrum.hk@euroskop.cz \n 
URL:https://tvorimevropu.showyourweb.cz/event/na-zkusenou-do-evropy-3/
CATEGORIES:Hradec Králové
END:VEVENT
BEGIN:VEVENT
DTSTART;TZID=UTC:20231004T140000
DTEND;TZID=UTC:20231006T153000
DTSTAMP:20260420T013906
CREATED:20230930T081602Z
LAST-MODIFIED:20230930T081602Z
UID:169891-1696428000-1696606200@tvorimevropu.showyourweb.cz
SUMMARY:Evropský kongres lázeňství a balneologie 2023
DESCRIPTION:Ve dnech 4. – 6. října se bude v Karlových Varech konat Evropský kongres lázeňství a balneologie 2023. Jednání a přednášky budou probíhat nejen v Císařských Lázních\, ale i v kongresovém hotelu Thermal. \nTéma kongresu \nJe to jedna z největších a nejproslulejších akcí\, která se zabývá zdravotní a lázeňskou turistikou. Letošní ročník je zaměřen na téma „Evropské lázně – cesta ke zdravému životu“.\nBěhem konference se představí významní profesionálové s bohatou praxí v oboru\, kteří promluví o důsledcích pandemie COVID-19 na lázeňství nebo dopadu aktuálních témat a trendů\, jako jsou udržitelnost\, digitalizace a vzdělávání. \nProgram \nV úvodu proběhnou jednání orgánů Evropské lázeňské asociace (ESPA) a společné pití karlovarské minerální vody. Druhý den začne slavnostním zahájením za přítomnosti ministra pro místní rozvoj Ivana Bartoše\, náměstka ministra zdravotnictví Josefa Pavlovice a nejvyšších zástupců města a kraje. Dále budou následovat po celý den bloky odborných vystoupení zástupců a zástupkyň různých evropských organizací a institucí\, které se zabývají lázeňstvím a balneologií. Jejich seznam je široký a podrobně si ho můžete prohlédnout na webu kongresu  europeanspas.eu/congress/\nPoslední den je věnován paralelním workshopům\, kde budou sdíleny příklady dobré praxe\, výzkumné aktivity i pohled místních samospráv na přínos lázeňství. Odpoledne pak bude kongres slavnostně zakončen za účasti ministra pro evropské záležitosti Martina Dvořáka a účastníci budou moci navštívit další 3 lázeňská města Mariánské Lázně\, Františkovy Lázně a Jáchymov. \nOcenění a veletrh \nSoučástí kongresu bude také předávání ceny ESPA Innovation Awards za nové\, efektivnější postupy zvyšující kvalitu lázeňských resortů a veletrh ESPA SPA-CE B2B zaměřený na špičkovou lázeňskou a wellness turistiku s účastí více než 15 zemí. \n 
URL:https://tvorimevropu.showyourweb.cz/event/evropsky-kongres-lazenstvi-a-balneologie-2023-3/
CATEGORIES:Karlovy Vary
ATTACH;FMTTYPE=image/jpeg:https://tvorimevropu.showyourweb.cz/wp-content/uploads/2022/01/23618-120-skotsko_referendum_480.jpg
END:VEVENT
BEGIN:VEVENT
DTSTART;VALUE=DATE:20230919
DTEND;VALUE=DATE:20231016
DTSTAMP:20260420T013906
CREATED:20230919T074058Z
LAST-MODIFIED:20230919T074058Z
UID:169879-1695081600-1697414399@tvorimevropu.showyourweb.cz
SUMMARY:Soutěž: Poznejte Španělsko
DESCRIPTION:Španělsko je slunná země plná zajímavých míst k poznání\, která jsou výjimečná unikátní architekturou a vzhledem. Zároveň zde najdete nevšední přírodní úkazy nebo ostrovy s nádhernými plážemi. \n Zkuste poznat šest známých míst Španělska a vyhrajte skvělé ceny!  \nPravidla soutěže: \n\nSoutěž probíhá do 15. 10. 2023. \nVaše odpovědi posílejte na e-mail: eurocentrum.ul@euroskop.cz\nSlosování proběhne v druhé polovině října 2023. Ze správných odpovědí budou vylosování tři výherci\, kteří budou kontaktování e-mailem. Výhry budou odeslány do konce října 2023.\nVýhry odesíláme pouze na území České republiky\, do zahraničí není možné výhry zaslat.\n\nSoutěž se koná v rámci předsednictví Španělska v Radě EU\, které trvá do 31. 12. 2023. Více informací o španělském předsednictví se dozvíte ZDE.
URL:https://tvorimevropu.showyourweb.cz/event/soutez-poznejte-spanelsko-3/
CATEGORIES:Ústí nad Labem
ATTACH;FMTTYPE=:
END:VEVENT
BEGIN:VEVENT
DTSTART;TZID=UTC:20230315T120000
DTEND;TZID=UTC:20230329T120000
DTSTAMP:20260420T013906
CREATED:20230308T085749Z
LAST-MODIFIED:20230308T085749Z
UID:169628-1678881600-1680091200@tvorimevropu.showyourweb.cz
SUMMARY:Soutěž DiscoverEU
DESCRIPTION:Je vám 18 let a chcete cestovat po Evropě? Přihlaste se do soutěže DiscoverEU a vyhrajte vlakovou jízdenku.  \nDiscoverEU je iniciativa programu Erasmus+. Mladí lidé ve věku 18 let mohou vyhrát časovou jízdenku na vlak a cestovat neomezeně po Evropě udržitelným způsobem. \nDalší kolo proběhne od 15. března 2023 do 29. března. Soutěže se mohou zúčastnit lidé narození mezi 1. červencem 2004 (včetně) a 30. červnem 2005 (včetně).  \nOd 15. března se stačí přihlásit na stránce https://youth.europa.eu/discovereu_cs a vyplnit kvízové otázky. Pokud budete vybráni\, můžete mezi 15. červnem 2023 a 30. září 2024 využít třicetidenní vlakovou jízdenku po Evropě. \nPodmínky účasti v soutěži: \n\ndatum narození spadající do období od 1. července 2004 (včetně) do 30. června 2005 (včetně)\nzadání platného čísla občanského průkazu\, cestovního pasu nebo pobytové karty do elektronické přihlášky\nstátní příslušnost jedné ze zemí Evropské unie.\n\nVeškeré informace naleznete na oficiální webové stránce. 
URL:https://tvorimevropu.showyourweb.cz/event/soutez-discovereu-4/
CATEGORIES:Ústí nad Labem
ATTACH;FMTTYPE=image/jpeg:https://tvorimevropu.showyourweb.cz/wp-content/uploads/2022/01/30061-120-phil_hogan.jpg
END:VEVENT
BEGIN:VEVENT
DTSTART;TZID=UTC:20221025T093000
DTEND;TZID=UTC:20221025T190000
DTSTAMP:20260420T013906
CREATED:20221009T112246Z
LAST-MODIFIED:20221009T112246Z
UID:169442-1666690200-1666724400@tvorimevropu.showyourweb.cz
SUMMARY:FESTIVAL KNIH aneb s knížkou není nuda
DESCRIPTION:Dopolední program od 9\,30 je vyhrazen pro přihlášené školy. \nOdpoledne je vstup volný pro veřejnost:\nA-KLUB\n14\,00 -15\,45 – výtvarná dílna s Romanou „Komiksoví bambuláci“\n16\,00 – Time to move aktivity\, Erasmus+\n16\,15 – cestovatelská přednáška o Armenii\, diskuse „Jak si užít Armenii“\nDĚTSKÉ ODDĚLENÍ\n14\,00 – 17\,30 – virtuální realita – letecký simulátor\, ukázka herních počítačů\, Cosplay – fotokoutek\nHALA KNIHOVNY\n14\,00 – 17\,30 – 3D tisk – prezentace\, přednáška\, kvíz o ceny a další aktivity                                                14\,00 – 16\,00 – předsednictví ČR v Radě EU – informace\, kvíz o ceny\nSÁL\n17\,15 – spisovatel Štěpán Javůrek – autogramiáda\, povídání o knížkách \nAkci pořádá Krajská knihovna Karlovy Vary ve spolupráci s Eurocentrem a EUROPE DIRECT Karlovy Vary.
URL:https://tvorimevropu.showyourweb.cz/event/festival-knih-aneb-s-knizkou-neni-nuda-3/
CATEGORIES:Karlovy Vary
END:VEVENT
BEGIN:VEVENT
DTSTART;TZID=UTC:20220504T163000
DTEND;TZID=UTC:20220504T173000
DTSTAMP:20260420T013906
CREATED:20220419T090625Z
LAST-MODIFIED:20220419T090625Z
UID:169247-1651681800-1651685400@tvorimevropu.showyourweb.cz
SUMMARY:FRANCIE: Za inspirací na kraj světa II
DESCRIPTION:Bretaňské pobřeží lemované majáky se stalo námětem pro mnohé umělce. Turisty zde lákají malebná městečka s historickými přístavy\, vydatná kuchyně či cidre. Inspiraci však můžeme nalézt nejen v nespoutaném oceánu a mýtické kultuře\, ale také v nových projektech\, jež do regionu vnášejí svěží vítr. \nO své impresi z putování po bretaňském pobřeží se s námi podělí Dominik Plíhal\, který v regionu absolvoval pracovní stáž a účastnil se dobrovolnické mise. \nAkce se koná u příležitosti předsednictví Francie v Radě EU. \nPozvánka zde: Francie – Vietnamská \n \n 
URL:https://tvorimevropu.showyourweb.cz/event/francie-za-inspiraci-na-kraj-sveta-ii-3/
CATEGORIES:Ostrava
END:VEVENT
BEGIN:VEVENT
DTSTART;TZID=UTC:20220503T170000
DTEND;TZID=UTC:20220503T180000
DTSTAMP:20260420T013906
CREATED:20220419T085115Z
LAST-MODIFIED:20220419T085115Z
UID:169245-1651597200-1651600800@tvorimevropu.showyourweb.cz
SUMMARY:FRANCIE: Za inspirací na kraj světa
DESCRIPTION:Bretaňské pobřeží lemované majáky se stalo námětem pro mnohé umělce. Turisty zde lákají malebná městečka s historickými přístavy\, vydatná kuchyně či cidre. Inspiraci však můžeme nalézt nejen v nespoutaném oceánu a mýtické kultuře\, ale také v nových projektech\, jež do regionu vnášejí svěží vítr. \nO své impresi z putování po bretaňském pobřeží se s námi podělí Dominik Plíhal\, který v regionu absolvoval pracovní stáž a účastnil se dobrovolnické mise. \nAkce se koná u příležitosti předsednictví Francie v Radě EU. \nPozvánka zde: Francie – Jiřího Trnky
URL:https://tvorimevropu.showyourweb.cz/event/francie-za-inspiraci-na-kraj-sveta-3/
CATEGORIES:Ostrava
END:VEVENT
END:VCALENDAR