BEGIN:VCALENDAR
VERSION:2.0
PRODID:-//Tvoříme Evropu - ECPv6.15.0.1//NONSGML v1.0//EN
CALSCALE:GREGORIAN
METHOD:PUBLISH
X-ORIGINAL-URL:https://tvorimevropu.showyourweb.cz
X-WR-CALDESC:Akce na Tvoříme Evropu
REFRESH-INTERVAL;VALUE=DURATION:PT1H
X-Robots-Tag:noindex
X-PUBLISHED-TTL:PT1H
BEGIN:VTIMEZONE
TZID:Europe/Prague
BEGIN:DAYLIGHT
TZOFFSETFROM:+0100
TZOFFSETTO:+0200
TZNAME:CEST
DTSTART:20250330T010000
END:DAYLIGHT
BEGIN:STANDARD
TZOFFSETFROM:+0200
TZOFFSETTO:+0100
TZNAME:CET
DTSTART:20251026T010000
END:STANDARD
END:VTIMEZONE
BEGIN:VEVENT
DTSTART;TZID=Europe/Prague:20250621T130000
DTEND;TZID=Europe/Prague:20250621T170000
DTSTAMP:20260419T235004
CREATED:20250610T075706Z
LAST-MODIFIED:20250610T075706Z
UID:170512-1750510800-1750525200@tvorimevropu.showyourweb.cz
SUMMARY:Česko-Bavorský den 2025 - Vimperk
DESCRIPTION:V červnu tohoto roku ožije prostor zrevitalizovaných Pivovarských teras a přilehlého okolí velkou Slavností přátelství měst Vimperk a Freyung. Dvoudenní program 20.–21. 6. bude plný hudby a interaktivní zábavy pro děti i dospělé. \n \n  \n  \n  \n  \nSouběžně se Slavností přátelství proběhne v budově Všeobecného a sportovního gymnázia Vimperk také Česko – Bavorský den\, který odprezentuje úspěšné projekty této přeshraniční spolupráce. Můžete se těšit na kolo štěstí nebo slepou mapu na stanovišti Eurocentra\, lví maskoty Václava a Lopolda\, fotografickou soutěž nebo vystoupení Pošumavské dudácké muziky.
URL:https://tvorimevropu.showyourweb.cz/event/cesko-bavorsky-den-2025-vimperk-2/
LOCATION:31756-newsletter_sez_cislo_353
CATEGORIES:České Budějovice
END:VEVENT
END:VCALENDAR