BEGIN:VCALENDAR
VERSION:2.0
PRODID:-//Tvoříme Evropu - ECPv6.15.0.1//NONSGML v1.0//EN
CALSCALE:GREGORIAN
METHOD:PUBLISH
X-WR-CALNAME:Tvoříme Evropu
X-ORIGINAL-URL:https://tvorimevropu.showyourweb.cz
X-WR-CALDESC:Akce na Tvoříme Evropu
REFRESH-INTERVAL;VALUE=DURATION:PT1H
X-Robots-Tag:noindex
X-PUBLISHED-TTL:PT1H
BEGIN:VTIMEZONE
TZID:UTC
BEGIN:STANDARD
TZOFFSETFROM:+0000
TZOFFSETTO:+0000
TZNAME:UTC
DTSTART:20240101T000000
END:STANDARD
END:VTIMEZONE
BEGIN:VEVENT
DTSTART;VALUE=DATE:20240219
DTEND;VALUE=DATE:20240309
DTSTAMP:20260420T054521
CREATED:20240219T085800Z
LAST-MODIFIED:20240219T085800Z
UID:170006-1708300800-1709942399@tvorimevropu.showyourweb.cz
SUMMARY:Soutěž: Poznejte Belgii
DESCRIPTION:Rozlohou sice malá země\, na významu jí to ale neubírá. Belgie je zajímavou zemí s unikátními stavbami a architekturou. Nabízí nejen tradiční belgickou čokoládu\, hranolky a vafle\, ale také místa\, která stojí za to navštívit. \nPoznejte zajímavá místa Belgie a vyhrajte skvělé ceny! \nPravidla soutěže: \n\nSoutěž probíhá do 8. 3. 2024.\nVaše odpovědi posílejte na e-mail: eurocentrum.ul@euroskop.cz\nSlosování proběhne v druhé polovině března 2024. Ze správných odpovědí budou vylosování tři výherci\, kteří budou kontaktování e-mailem. Výhry budou odeslány do konce března 2024.\nVýhry odesíláme pouze na území České republiky\, do zahraničí není možné výhry zaslat.\n\nSoutěž se koná v rámci předsednictví Belgie v Radě EU\, které trvá do 30. 6. 2024. Více informací o belgickém předsednictví se dozvíte ZDE. 
URL:https://tvorimevropu.showyourweb.cz/event/soutez-poznejte-belgii-3/
CATEGORIES:Ústí nad Labem
END:VEVENT
BEGIN:VEVENT
DTSTART;TZID=UTC:20240205T170000
DTEND;TZID=UTC:20240205T180000
DTSTAMP:20260420T054521
CREATED:20240118T113316Z
LAST-MODIFIED:20240118T113316Z
UID:169960-1707152400-1707156000@tvorimevropu.showyourweb.cz
SUMMARY:Rozhoduje opravdu Brusel "o nás bez nás"?
DESCRIPTION:Od boje proti suchu po zvládnutí covidové krize – Evropská unie ovlivňuje každodenní život každého z nás. Důležitost spolupráce evropských států se ukazuje zejména při zvládání současných celoevropských krizí. Jak ale Češi a Češky ovlivňují dění v Evropě\, daří se nám prosazovat naše zájmy?\nPřednáší Vendula Kazlauskas\, analytička Asociace pro mezinárodní otázky\n\n\nAkce se koná ve spolupráci s Asociací pro mezinárodní otázky a se Zastoupením Evropské komise v ČR.\nSál Knihovny Kroměřížska\, 17:00. Vstup zdarma.
URL:https://tvorimevropu.showyourweb.cz/event/rozhoduje-opravdu-brusel-o-nas-bez-nas-3/
CATEGORIES:Zlín
ATTACH;FMTTYPE=image/jpeg:https://tvorimevropu.showyourweb.cz/wp-content/uploads/2024/01/alexey-larionov-KSife3mbHMw-unsplash-1-scaled-1.jpg
END:VEVENT
END:VCALENDAR