BEGIN:VCALENDAR
VERSION:2.0
PRODID:-//Tvoříme Evropu - ECPv6.15.0.1//NONSGML v1.0//EN
CALSCALE:GREGORIAN
METHOD:PUBLISH
X-ORIGINAL-URL:https://tvorimevropu.showyourweb.cz
X-WR-CALDESC:Akce na Tvoříme Evropu
REFRESH-INTERVAL;VALUE=DURATION:PT1H
X-Robots-Tag:noindex
X-PUBLISHED-TTL:PT1H
BEGIN:VTIMEZONE
TZID:Europe/Prague
BEGIN:DAYLIGHT
TZOFFSETFROM:+0100
TZOFFSETTO:+0200
TZNAME:CEST
DTSTART:20250330T010000
END:DAYLIGHT
BEGIN:STANDARD
TZOFFSETFROM:+0200
TZOFFSETTO:+0100
TZNAME:CET
DTSTART:20251026T010000
END:STANDARD
END:VTIMEZONE
BEGIN:VEVENT
DTSTART;VALUE=DATE:20250609
DTEND;VALUE=DATE:20250610
DTSTAMP:20260420T015022
CREATED:20250423T113758Z
LAST-MODIFIED:20250423T113758Z
UID:170479-1749427200-1749513599@tvorimevropu.showyourweb.cz
SUMMARY:Krajské kolo soutěže EuropaSecura 2025: Pardubice
DESCRIPTION:Soutěž EuropaSecura je určena všem studentům a studentkám SŠ\, kteří mají zájem o aktuální dění a mezinárodní události\, chtějí si rozšířit znalosti a zažít něco nezapomenutelného. V roce 2025 se uskuteční již 18. ročník! \nDo krajského kola postoupilo pět týmů studentů a studentek středních škol z Pardubického kraje\, kteří se setkají v pondělí 09. 06. 2025 od 9:00 v budově Krajského úřadu Pardubického kraje (Reálka Pardubice\, sál Jana Kašpara\, Komenského nám. 120)\, kde budou moci prezentovat své vypracované analýzy na dané bezpečnostní téma. \nKrajské kolo se skládá z písemné a ústní části. V písemné části si s námi vyzkoušíte psaní odborného textu a vžijete se do role expertek a expertů na mezinárodní situaci. Ústní části krajského kola soutěže se v každém kraji zúčastní maximálně pět týmů s nejlepšími analýzami. Ústní kolo bude probíhat formou ústní obhajoby analýzy\, oponentury a diskuze. Krajská kola se konají ve spolupráci s Eurocentry Úřadu vlády ČR a Europe Direct. \nVítězný tým se zúčastní týdenního workshopu s Armádou ČR ve výcvikovém středisku v Brdech! Do nezapomenutelného a unikátního celostátního finále postupuje vždy nejlepší tým z každého kraje. Celostátní finále soutěže EuropaSecura je organizováno v úzké spolupráci s Ministerstvem obrany ČR a příslušníky Armády ČR na vojenské základně v Brdech. Soutěžící budou plnit nejrůznější úkoly v terénu i na jednáních jako diplomaté členských zemí EU a řešit neklidnou situaci ve fiktivním státě. Účastníci*e si odnesou unikátní zkušenosti a zážitky a tři nejlepší týmy vyhrají zájezd do Bruselu. \n\nCelostátní finále proběhne od 01. do 05. září 2025.\nFinále se zúčastní max. 14 nejlepších týmů z ČR.\nKaždý tým zastupuje náhodně přidělenou členskou zemi EU.\nZažijete nevšední survival\, vžijete se do role diplomatů a získáte nové zkušenosti a zážitky.\n\nHlavní cenou soutěže EuropaSecura pro tři nejlepší týmy je plně hrazený zájezd do Bruselu. Vítězové navštíví sídla institucí Evropské unie a HQ NATO a setkají se zajímavými lidmi a politiky (v roce 2022 mj. eurokomisařka Věra Jourová). Výherci si prohlédnou např. sídlo Evropské komise\, projdou si budovu Evropského parlamentu a budou mít možnost debatovat s diplomaty a diplomatkami hájící zájmy České republiky u těchto institucí. Vedle oficiální části programu bude čas i na prohlídku turistických pamětihodností Bruselu a zábavu. \nSoutěž EuropaSecura je organizována Institutem pro evropskou politiku EUROPEUM ve spolupráci s Ministerstvem obrany\, Armádou České republiky\, Zastoupením Evropské komise v České republice\, sítí Eurocenter Úřadu vlády ČR a infocenter Europe Direct za podpory Ministerstva zahraničních věcí České republiky\, Hanns-Seidel-Stiftung a Velvyslanectví USA v České republice.
URL:https://tvorimevropu.showyourweb.cz/event/krajske-kolo-souteze-europasecura-2025-pardubice-2/
CATEGORIES:Pardubice
END:VEVENT
BEGIN:VEVENT
DTSTART;VALUE=DATE:20250516
DTEND;VALUE=DATE:20250517
DTSTAMP:20260420T015022
CREATED:20250513T091930Z
LAST-MODIFIED:20250513T091930Z
UID:170500-1747353600-1747439999@tvorimevropu.showyourweb.cz
SUMMARY:Krajské kolo soutěže EuropaSecura 2025
DESCRIPTION:Soutěž EuropaSecura je určena všem studentům a studentkám SŠ\, kteří mají zájem o aktuální dění a mezinárodní události\, chtějí si rozšířit znalosti a zažít něco nezapomenutelného. V roce 2025 se uskuteční již 18. ročník! \nDo krajského kola postoupilo pět týmů studentů a studentek středních škol ze Zlínského kraje\, kteří se setkají 16. 05. 2025 od 10:00 v budově TIC ZLÍN\, 23. BUDOVA SVIT\, kde budou moci prezentovat své vypracované analýzy na dané bezpečnostní téma. \nKrajské kolo se skládá z písemné a ústní části. V písemné části si s námi vyzkoušíte psaní odborného textu a vžijete se do role expertek a expertů na mezinárodní situaci. Ústní části krajského kola soutěže se v každém kraji zúčastní maximálně pět týmů s nejlepšími analýzami. Ústní kolo bude probíhat formou ústní obhajoby analýzy\, oponentury a diskuze. Krajská kola se konají ve spolupráci s Eurocentry Úřadu vlády ČR a Europe Direct. \nVítězný tým se zúčastní týdenního workshopu s Armádou ČR ve výcvikovém středisku v Brdech! Do nezapomenutelného a unikátního celostátního finále postupuje vždy nejlepší tým z každého kraje. Celostátní finále soutěže EuropaSecura je organizováno v úzké spolupráci s Ministerstvem obrany ČR a příslušníky Armády ČR na vojenské základně v Brdech. Soutěžící budou plnit nejrůznější úkoly v terénu i na jednáních jako diplomaté členských zemí EU a řešit neklidnou situaci ve fiktivním státě. Účastníci*e si odnesou unikátní zkušenosti a zážitky a tři nejlepší týmy vyhrají zájezd do Bruselu. \n\nCelostátní finále proběhne od 01. do 05. září 2025.\nFinále se zúčastní max. 14 nejlepších týmů z ČR.\nKaždý tým zastupuje náhodně přidělenou členskou zemi EU.\nZažijete nevšední survival\, vžijete se do role diplomatů a získáte nové zkušenosti a zážitky.\n\nHlavní cenou soutěže EuropaSecura pro tři nejlepší týmy je plně hrazený zájezd do Bruselu. Vítězové navštíví sídla institucí Evropské unie a HQ NATO a setkají se zajímavými lidmi a politiky (v roce 2022 mj. eurokomisařka Věra Jourová). Výherci si prohlédnou např. sídlo Evropské komise\, projdou si budovu Evropského parlamentu a budou mít možnost debatovat s diplomaty a diplomatkami hájící zájmy České republiky u těchto institucí. Vedle oficiální části programu bude čas i na prohlídku turistických pamětihodností Bruselu a zábavu. \nSoutěž EuropaSecura je organizována Institutem pro evropskou politiku EUROPEUM ve spolupráci s Ministerstvem obrany\, Armádou České republiky\, Zastoupením Evropské komise v České republice\, sítí Eurocenter Úřadu vlády ČR a infocenter Europe Direct za podpory Ministerstva zahraničních věcí České republiky\, Hanns-Seidel-Stiftung a Velvyslanectví USA v České republice.
URL:https://tvorimevropu.showyourweb.cz/event/krajske-kolo-souteze-europasecura-2025-2/
CATEGORIES:Zlín
END:VEVENT
END:VCALENDAR