BEGIN:VCALENDAR
VERSION:2.0
PRODID:-//Tvoříme Evropu - ECPv6.15.0.1//NONSGML v1.0//EN
CALSCALE:GREGORIAN
METHOD:PUBLISH
X-ORIGINAL-URL:https://tvorimevropu.showyourweb.cz
X-WR-CALDESC:Akce na Tvoříme Evropu
REFRESH-INTERVAL;VALUE=DURATION:PT1H
X-Robots-Tag:noindex
X-PUBLISHED-TTL:PT1H
BEGIN:VTIMEZONE
TZID:Europe/Prague
BEGIN:DAYLIGHT
TZOFFSETFROM:+0100
TZOFFSETTO:+0200
TZNAME:CEST
DTSTART:20250330T010000
END:DAYLIGHT
BEGIN:STANDARD
TZOFFSETFROM:+0200
TZOFFSETTO:+0100
TZNAME:CET
DTSTART:20251026T010000
END:STANDARD
END:VTIMEZONE
BEGIN:VTIMEZONE
TZID:UTC
BEGIN:STANDARD
TZOFFSETFROM:+0000
TZOFFSETTO:+0000
TZNAME:UTC
DTSTART:20220101T000000
END:STANDARD
END:VTIMEZONE
BEGIN:VEVENT
DTSTART;TZID=Europe/Prague:20250205T170000
DTEND;TZID=Europe/Prague:20250205T180000
DTSTAMP:20260419T220515
CREATED:20250103T122602Z
LAST-MODIFIED:20250103T122602Z
UID:170382-1738774800-1738778400@tvorimevropu.showyourweb.cz
SUMMARY:Cestovatelská beseda: Polsko\, soused který nás baví
DESCRIPTION:Vydejte se s námi a novinářkou Pavlou Apostolaki za atraktivními místy Polska. \nPolsko patří v posledních letech k nejrychleji rozvíjejícím se státům Evropy. Jeho expanze se projevuje i v cestovním ruchu\, kde se turistům otevírají nové lokality s perfektně zajištěným servisem. \n \nNa besedě navštívíte klenot severu Gdaňsk i s jeho jantarovou historií. v lázeňských Sopotech poznáte zdejší léčivé zdroje a v Gdyni se vydáte za odvážnými námořníky. Zavítáte na polskou Saharu\, na pohyblivé duny a proplujete vodním kanálem do Viselského zálivu. v Lublinu půjdete po stopách polských Židů a ochutnáte jejich kuchyni. v Poznani proniknete do tajemství špionáže\, odhalíte chuť výtečných svatomartinských rohlíčků a bramborové muzeum ve sklepě. Navštívíte tajuplná místa v polských Krkonoších a nakonec se ocitnete v Hitlerově tajném sídle v Osówce. \nKdy: 5. 2. 2024 od 17:00 hodin \nKde: Víceúčelový sál Knihovny města Hradce Králové\, Wonkova 1262/1a; 500 02  \nTěšíme se na setkání!
URL:https://tvorimevropu.showyourweb.cz/event/cestovatelska-beseda-polsko-soused-ktery-nas-bavi-3/
CATEGORIES:Hradec Králové
END:VEVENT
BEGIN:VEVENT
DTSTART;TZID=Europe/Prague:20250203T140000
DTEND;TZID=Europe/Prague:20250203T153000
DTSTAMP:20260419T220515
CREATED:20250109T142300Z
LAST-MODIFIED:20250109T142300Z
UID:170384-1738591200-1738596600@tvorimevropu.showyourweb.cz
SUMMARY:Polsko: cestovatelská beseda
DESCRIPTION:Eurocentrum Plzeň zve všechny zájemce na cestovatelskou besedu o Polsku.\n\n\nBeseda se uskuteční dne 3. února 2025 od 14 hodin v prostorách „Zeleného domu“ Městské knihovny Rokycany u příležitosti polského předsednictví Radě EU. \nCílem akce je zvýšit povědomí o současných\, nejvíce diskutovaných evropských tématech\, kulturních rozmanitostech Evropy a činnosti sítě Eurocenter. \nPřijďte se s námi vydat do země jantaru\, malebných měst a pohádkových hradů\, a poznejte blíže stát právě předsedající Radě EU! \n 
URL:https://tvorimevropu.showyourweb.cz/event/polsko-cestovatelska-beseda-3/
CATEGORIES:Plzeň
ATTACH;FMTTYPE=image/jpeg:https://tvorimevropu.showyourweb.cz/wp-content/uploads/2025/01/EC-Plzen-prednaska-Polsko.jpg
END:VEVENT
BEGIN:VEVENT
DTSTART;TZID=UTC:20241015T170000
DTEND;TZID=UTC:20241015T183000
DTSTAMP:20260419T220515
CREATED:20240911T084140Z
LAST-MODIFIED:20240911T084140Z
UID:170259-1729011600-1729017000@tvorimevropu.showyourweb.cz
SUMMARY:Cestovatelská beseda - Bad Ischl a Solná komora
DESCRIPTION:Zveme Vás na cestovatelskou besedu na téma Bad Ischl a Solná komora – Evropské hlavní město kultury 2024! \nKdy: 15. 10. 2024 od 17:00 \nKde: Víceúčelový sál Centra celoživotního vzdělávání\, Wonkova 1262/1a\, Hradec Králové \nVstup zdarma! \n\nEvropským hlavním městem kultury se letos stal rakouský Bad Ischl společně se Solnou komorou. Poprvé za třicet devět let získalo tento významný titul jedno město a celý region s třiadvaceti alpskými obcemi. S novinářkou Pavlou Apostolaki zavítáte do Bad Ischlu\, kde prozkoumáte bohatou historii tohoto lázeňského města\, navštívíte místa spojená s císařskou rodinou a vychutnáte si krásy okolní přírody.
URL:https://tvorimevropu.showyourweb.cz/event/cestovatelska-beseda-bad-ischl-a-solna-komora-3/
CATEGORIES:Hradec Králové
END:VEVENT
BEGIN:VEVENT
DTSTART;TZID=UTC:20240911T170000
DTEND;TZID=UTC:20240911T180000
DTSTAMP:20260419T220515
CREATED:20240829T073913Z
LAST-MODIFIED:20240829T073913Z
UID:170242-1726074000-1726077600@tvorimevropu.showyourweb.cz
SUMMARY:Na kus řeči o Evropě
DESCRIPTION:Letos slavíme 20 leté výročí vstupu do Evropské unie. Přijďte si poslechnout a popovídat si o Evropě a jejích současných i budoucích výzvách na poli diplomacie a spolupráce. S Knihovnou Ústeckého kraje Vás zveme na besedu s paní Hanou Mottlovou\, ředitelkou Odboru politik EU z Ministerstva zahraničních věcí.  \n \nBeseda proběhne 11. září 2024 od 17 hodin v budově Knihovny Ústeckého kraje v Ústí nad Labem. Dozvíte se\, jak probíhá koordinace české politiky vůči EU\, jaké výzvy přináší současná politická situace v Evropě nebo jaké jsou zkušenosti a poznatky Mgr. Hany Mottlové z její předchozí diplomatické kariéry. Vstup je zdarma. \nMgr. Hana Mottlová má za sebou bohatou diplomatickou kariéru. Jako velvyslankyně působila v Londýně\, Irsku\, Řecku nebo v Republice Nyanmarský svaz. Několik let vykonávala funkci vedoucí politického úřadu na Zastupitelském úřadu ČR ve Washingtonu. v současné době působí na Ministerstvu zahraničních věcí jako ředitelka Odboru politik EU.
URL:https://tvorimevropu.showyourweb.cz/event/na-kus-reci-o-evrope-3/
CATEGORIES:20 let v EU,Ústí nad Labem
END:VEVENT
BEGIN:VEVENT
DTSTART;TZID=UTC:20230112T160000
DTEND;TZID=UTC:20230112T180000
DTSTAMP:20260419T220515
CREATED:20221216T142052Z
LAST-MODIFIED:20221216T142052Z
UID:169510-1673539200-1673546400@tvorimevropu.showyourweb.cz
SUMMARY:Dezinformace a mediální obezřetnost
DESCRIPTION:Zveme vás na lednový seminář s debatou na téma Dezinformace a mediální obezřetnost do inovačního centra INION\, Drahomířino nábřeží 16 (v objektu městské knihovny Drahovice). \nVystupovat budou: \n» zkušený lektor Zdeněk Svoboda (certifikovaný organizací Elpida)\, zahájí úvodem do mediální gramotnosti a vysvětlí\, jak myslet kriticky a být mediálně obezřetný \n» dlouholetá redaktorka regionálního zpravodajství ČT Daniela Tunklová \n» moderátor Tomáš Bouška\, politolog a bývalý tiskový mluvčí ministerstva školství. \n  \nAkci pořádáme ve spolupráci s Novinářským inkubátorem (https://novinarskyinkubator.cz/). Seminář je zdarma a je určen nejen pro seniory\, ale pro všechny\, kteří se chtějí trochu lépe vyznat ve světě médií a informací. \nPro zajištění místa je možná registrace na emailu: eurocentrum.kv@euroskop.cz nebo telefonu 725 810 364. \n 
URL:https://tvorimevropu.showyourweb.cz/event/dezinformace-a-medialni-obezretnost-3/
CATEGORIES:Karlovy Vary
END:VEVENT
BEGIN:VEVENT
DTSTART;VALUE=DATE:20221202
DTEND;VALUE=DATE:20221203
DTSTAMP:20260419T220515
CREATED:20221125T145125Z
LAST-MODIFIED:20221125T145125Z
UID:169506-1669939200-1670025599@tvorimevropu.showyourweb.cz
SUMMARY:České Vánoce
DESCRIPTION:Pojďte s námi prožít Vánoce trochu jinak. v Karlových Varech v kině Drahomíra (Vítězná 627/50)\, v pátek 2. prosince od 15:30 hod. Čekají na vás vánoční tradice z jiných evropských zemí\, přednáška o rodině Čapků nebo pořad Poezie a jazz – český speciál. Připraveny pro vás budou též české vánoční zvyky\, výroba netradičních ozdob a nebo si budete moci napsat přání Ježíškovi. \nAkce se koná při příležitosti předsednictví České republiky v Radě EU. \nVíce zde https://fb.me/e/2Y0cyFZfo \n 
URL:https://tvorimevropu.showyourweb.cz/event/ceske-vanoce-3/
CATEGORIES:Karlovy Vary
END:VEVENT
BEGIN:VEVENT
DTSTART;TZID=UTC:20220523T173000
DTEND;TZID=UTC:20220523T183000
DTSTAMP:20260419T220515
CREATED:20220519T085140Z
LAST-MODIFIED:20220519T085140Z
UID:169285-1653327000-1653330600@tvorimevropu.showyourweb.cz
SUMMARY:Velvyslankyní Evropské unie v Iráku
DESCRIPTION:Beseda s Janou Hybáškovou\, která má za sebou velké množství zkušeností ze zahraniční politiky. Mezi státy\, ve kterých působila na pozici velvyslankyně\, nalezneme např.: Slovinsko\, Katar\, Kuvajt\, Irák a Namibii.\nJejí vyprávění je obohaceno i o zkušenosti z Evropského parlamentu\, kde získala pozici předsedkyně Delegace pro vztahy s Izraelem. v letech 2011 – 2015 působila jako velvyslankyně EU v Iráku – byla první Češkou na takto vysoké diplomatické pozici EU.
URL:https://tvorimevropu.showyourweb.cz/event/velvyslankyni-evropske-unie-v-iraku-3/
CATEGORIES:České Budějovice
ATTACH;FMTTYPE=:
END:VEVENT
BEGIN:VEVENT
DTSTART;TZID=UTC:20220504T163000
DTEND;TZID=UTC:20220504T173000
DTSTAMP:20260419T220515
CREATED:20220419T090625Z
LAST-MODIFIED:20220419T090625Z
UID:169247-1651681800-1651685400@tvorimevropu.showyourweb.cz
SUMMARY:FRANCIE: Za inspirací na kraj světa II
DESCRIPTION:Bretaňské pobřeží lemované majáky se stalo námětem pro mnohé umělce. Turisty zde lákají malebná městečka s historickými přístavy\, vydatná kuchyně či cidre. Inspiraci však můžeme nalézt nejen v nespoutaném oceánu a mýtické kultuře\, ale také v nových projektech\, jež do regionu vnášejí svěží vítr. \nO své impresi z putování po bretaňském pobřeží se s námi podělí Dominik Plíhal\, který v regionu absolvoval pracovní stáž a účastnil se dobrovolnické mise. \nAkce se koná u příležitosti předsednictví Francie v Radě EU. \nPozvánka zde: Francie – Vietnamská \n \n 
URL:https://tvorimevropu.showyourweb.cz/event/francie-za-inspiraci-na-kraj-sveta-ii-3/
CATEGORIES:Ostrava
END:VEVENT
BEGIN:VEVENT
DTSTART;TZID=UTC:20220503T170000
DTEND;TZID=UTC:20220503T180000
DTSTAMP:20260419T220515
CREATED:20220419T085115Z
LAST-MODIFIED:20220419T085115Z
UID:169245-1651597200-1651600800@tvorimevropu.showyourweb.cz
SUMMARY:FRANCIE: Za inspirací na kraj světa
DESCRIPTION:Bretaňské pobřeží lemované majáky se stalo námětem pro mnohé umělce. Turisty zde lákají malebná městečka s historickými přístavy\, vydatná kuchyně či cidre. Inspiraci však můžeme nalézt nejen v nespoutaném oceánu a mýtické kultuře\, ale také v nových projektech\, jež do regionu vnášejí svěží vítr. \nO své impresi z putování po bretaňském pobřeží se s námi podělí Dominik Plíhal\, který v regionu absolvoval pracovní stáž a účastnil se dobrovolnické mise. \nAkce se koná u příležitosti předsednictví Francie v Radě EU. \nPozvánka zde: Francie – Jiřího Trnky
URL:https://tvorimevropu.showyourweb.cz/event/francie-za-inspiraci-na-kraj-sveta-3/
CATEGORIES:Ostrava
END:VEVENT
END:VCALENDAR