BEGIN:VCALENDAR
VERSION:2.0
PRODID:-//Tvoříme Evropu - ECPv6.15.0.1//NONSGML v1.0//EN
CALSCALE:GREGORIAN
METHOD:PUBLISH
X-ORIGINAL-URL:https://tvorimevropu.showyourweb.cz
X-WR-CALDESC:Akce na Tvoříme Evropu
REFRESH-INTERVAL;VALUE=DURATION:PT1H
X-Robots-Tag:noindex
X-PUBLISHED-TTL:PT1H
BEGIN:VTIMEZONE
TZID:UTC
BEGIN:STANDARD
TZOFFSETFROM:+0000
TZOFFSETTO:+0000
TZNAME:UTC
DTSTART:20240101T000000
END:STANDARD
END:VTIMEZONE
BEGIN:VEVENT
DTSTART;VALUE=DATE:20240129
DTEND;VALUE=DATE:20240301
DTSTAMP:20260420T053551
CREATED:20240205T112918Z
LAST-MODIFIED:20240205T112918Z
UID:169985-1706486400-1709251199@tvorimevropu.showyourweb.cz
SUMMARY:Belgie v Evropské unii (soutěžní online kvíz)
DESCRIPTION:Belgie předsedá v Radě EU a Eurocentrum Pardubice si pro všechny zájemce připravilo soutěžní obrázkový kvíz! \nZajímá vás tato země a její kultura? Neváhejte s námi soutěžit o hodnotné tematické ceny\, a to až do konce února! \nVyhodnocení a zaslání cen třem účastníkům s nejvyšším počtem správně zodpovězených otázek proběhne začátkem března. \nOdkaz na kvíz zde a na plakátu níže: https://forms.gle/H3Wsr3cWQg3GWYBRA \nPřejeme hodně štěstí a zábavy! \nTým Eurocentra Pardubice
URL:https://tvorimevropu.showyourweb.cz/event/belgie-v-evropske-unii-soutezni-online-kviz-3/
CATEGORIES:Pardubice
END:VEVENT
END:VCALENDAR