BEGIN:VCALENDAR
VERSION:2.0
PRODID:-//Tvoříme Evropu - ECPv6.15.0.1//NONSGML v1.0//EN
CALSCALE:GREGORIAN
METHOD:PUBLISH
X-WR-CALNAME:Tvoříme Evropu
X-ORIGINAL-URL:https://tvorimevropu.showyourweb.cz
X-WR-CALDESC:Akce na Tvoříme Evropu
REFRESH-INTERVAL;VALUE=DURATION:PT1H
X-Robots-Tag:noindex
X-PUBLISHED-TTL:PT1H
BEGIN:VTIMEZONE
TZID:UTC
BEGIN:STANDARD
TZOFFSETFROM:+0000
TZOFFSETTO:+0000
TZNAME:UTC
DTSTART:20240101T000000
END:STANDARD
END:VTIMEZONE
BEGIN:VEVENT
DTSTART;TZID=UTC:20240128T080000
DTEND;TZID=UTC:20240227T233000
DTSTAMP:20260420T011212
CREATED:20240128T193838Z
LAST-MODIFIED:20240128T193838Z
UID:169975-1706428800-1709076600@tvorimevropu.showyourweb.cz
SUMMARY:Soutěžní kvíz: Co víte o Belgii?
DESCRIPTION:Zkuste náš kahoot kvíz a otestujte své znalosti! \n  \nOtevřít ho můžete na tomto odkaze: https://1url.cz/MugOh; \nnebo zadáním PINU: 06475216 na kahoot.it\, \npřípadně přes tento QR kód: \n  \nPro nejúspěšnější soutěžící jsou připraveny věcné ceny!
URL:https://tvorimevropu.showyourweb.cz/event/soutezni-kviz-co-vite-o-belgii-3/
CATEGORIES:Hradec Králové
END:VEVENT
END:VCALENDAR