BEGIN:VCALENDAR
VERSION:2.0
PRODID:-//Tvoříme Evropu - ECPv6.15.0.1//NONSGML v1.0//EN
CALSCALE:GREGORIAN
METHOD:PUBLISH
X-WR-CALNAME:Tvoříme Evropu
X-ORIGINAL-URL:https://tvorimevropu.showyourweb.cz
X-WR-CALDESC:Akce na Tvoříme Evropu
REFRESH-INTERVAL;VALUE=DURATION:PT1H
X-Robots-Tag:noindex
X-PUBLISHED-TTL:PT1H
BEGIN:VTIMEZONE
TZID:UTC
BEGIN:STANDARD
TZOFFSETFROM:+0000
TZOFFSETTO:+0000
TZNAME:UTC
DTSTART:20240101T000000
END:STANDARD
END:VTIMEZONE
BEGIN:VEVENT
DTSTART;TZID=UTC:20240517T130000
DTEND;TZID=UTC:20240517T143000
DTSTAMP:20260420T033038
CREATED:20240517T161636Z
LAST-MODIFIED:20240517T161636Z
UID:170163-1715950800-1715956200@tvorimevropu.showyourweb.cz
SUMMARY:O životě a práci v Belgii
DESCRIPTION:Eurocentrum Pardubice zve všechny zájemce na besedu u příležitosti belgického předsednictví v Radě EU! \nKdy: 17.5.2024\, 13:00 – 14:30 \nKde: Univerzita Pardubice\, Dopravní fakulta Jana Pernera\, Studentská 95\, 532 10 Pardubice \nPozvání na akci přijal Ing. Martin Páv\, nezávislý poradce pro Evropský úřad pro výběr personálu\, Brusel. \nNebude chybět ani ochutnávka tradičních belgických pralinek. \nTěšíme se na Vás!
URL:https://tvorimevropu.showyourweb.cz/event/o-zivote-a-praci-v-belgii-3/
CATEGORIES:Pardubice
END:VEVENT
END:VCALENDAR