BEGIN:VCALENDAR
VERSION:2.0
PRODID:-//Tvoříme Evropu - ECPv6.15.0.1//NONSGML v1.0//EN
CALSCALE:GREGORIAN
METHOD:PUBLISH
X-ORIGINAL-URL:https://tvorimevropu.showyourweb.cz
X-WR-CALDESC:Akce na Tvoříme Evropu
REFRESH-INTERVAL;VALUE=DURATION:PT1H
X-Robots-Tag:noindex
X-PUBLISHED-TTL:PT1H
BEGIN:VTIMEZONE
TZID:Europe/Prague
BEGIN:DAYLIGHT
TZOFFSETFROM:+0100
TZOFFSETTO:+0200
TZNAME:CEST
DTSTART:20250330T010000
END:DAYLIGHT
BEGIN:STANDARD
TZOFFSETFROM:+0200
TZOFFSETTO:+0100
TZNAME:CET
DTSTART:20251026T010000
END:STANDARD
END:VTIMEZONE
BEGIN:VTIMEZONE
TZID:UTC
BEGIN:STANDARD
TZOFFSETFROM:+0000
TZOFFSETTO:+0000
TZNAME:UTC
DTSTART:20240101T000000
END:STANDARD
END:VTIMEZONE
BEGIN:VEVENT
DTSTART;VALUE=DATE:20250102
DTEND;VALUE=DATE:20250201
DTSTAMP:20260419T220618
CREATED:20250109T082727Z
LAST-MODIFIED:20250109T082727Z
UID:170383-1735776000-1738367999@tvorimevropu.showyourweb.cz
SUMMARY:Výstava: Bájné bytosti Evropy
DESCRIPTION:Zveme Vás na výstavu výtvarných děl žáků základních škol Ústeckého kraje. Všechny vystavené obrázky spojuje jedno téma\, bájné bytosti Evropy.  \n \nBájné bytosti patří do kultury evropských států po staletí. Žáci si mohli vybrat z nespočtu mytologických stvoření\, pohádkových postav nebo dokonce nějakou bytost vymyslet. na obrázcích proto nechybí draci\, mořské panny\, víly a čarodějnice nebo slavná Lochnesská příšera. Přijďte se podívat do Knihovny Ústeckého kraje v Ústí nad Labem na originální výtvarné zpracování bájných bytostí Evropy. \nDo výtvarné soutěže přišlo více jak 350 obrázků\, z kapacitních důvodů  jsou ale vystavena pouze vybraná výtvarná díla. Výstava bude k dispozici celý leden 2025. Soutěž probíhala ve spolupráci s Knihovnou Ústeckého kraje. \n \n \n 
URL:https://tvorimevropu.showyourweb.cz/event/vystava-bajne-bytosti-evropy-3/
CATEGORIES:Ústí nad Labem
END:VEVENT
BEGIN:VEVENT
DTSTART;VALUE=DATE:20241003
DTEND;VALUE=DATE:20241201
DTSTAMP:20260419T220618
CREATED:20241003T091552Z
LAST-MODIFIED:20241003T091552Z
UID:170306-1727913600-1733011199@tvorimevropu.showyourweb.cz
SUMMARY:Výtvarná soutěž: Bájné bytosti Evropy
DESCRIPTION:Vyhlašujeme výtvarnou soutěž pro žáky základních škol Ústeckého kraje na téma Bájné bytosti Evropy!  \n \nMýty a báje jsou součástí evropské kultury. v těchto příbězích najdeme mnoho rozdílných bytostí\, které nás po staletí fascinují\, ať už je to Lochnesská příšera\, mořská panna\, hipogryf nebo třeba minotaur. \nNakreslete bájnou bytost\, která vás zajímá nebo fascinuje. Můžete si nějakou i vymyslet\, fantazii se meze nekladou. Výherci dostanou hodnotné ceny a navíc všechny zaslané obrázky budou vystaveny v lednu 2025 v Knihovně Ústeckého kraje v Ústí nad Labem. \nPravidla soutěže: \n\nKaždý soutěžící může poslat jedno soutěžní dílo zpracované jakoukoli výtvarnou technikou. Soutěž je určena pro žáky základních škol Ústeckého kraje.\nSoutěžní díla posílejte poštou na adresu Eurocentrum Ústí nad Labem\, Velká Hradební 48\, 400 01 Ústí nad Labem.\nNa každém díle musí být uvedeno jméno a příjmení autora\, věk/třída\, kontakt na školu a pedagoga.\nSoutěž probíhá do 30. listopadu 2024.\nSoutěž je rozdělena do dvou kategorií – 1. stupeň ZŠ (3 výherci) a 2. stupeň ZŠ (tři výherci). Výherci budou vybráni odbornou porotou. Výhry budou odeslány na adresu školy\, kde je pedagog předá žákovi.\nSoutěž probíhá ve spolupráci s Knihovnou Ústeckého kraje.
URL:https://tvorimevropu.showyourweb.cz/event/vytvarna-soutez-bajne-bytosti-evropy-3/
CATEGORIES:Ústí nad Labem
END:VEVENT
END:VCALENDAR