BEGIN:VCALENDAR
VERSION:2.0
PRODID:-//Tvoříme Evropu - ECPv6.15.0.1//NONSGML v1.0//EN
CALSCALE:GREGORIAN
METHOD:PUBLISH
X-WR-CALNAME:Tvoříme Evropu
X-ORIGINAL-URL:https://tvorimevropu.showyourweb.cz
X-WR-CALDESC:Akce na Tvoříme Evropu
REFRESH-INTERVAL;VALUE=DURATION:PT1H
X-Robots-Tag:noindex
X-PUBLISHED-TTL:PT1H
BEGIN:VTIMEZONE
TZID:Europe/Prague
BEGIN:DAYLIGHT
TZOFFSETFROM:+0100
TZOFFSETTO:+0200
TZNAME:CEST
DTSTART:20240331T010000
END:DAYLIGHT
BEGIN:STANDARD
TZOFFSETFROM:+0200
TZOFFSETTO:+0100
TZNAME:CET
DTSTART:20241027T010000
END:STANDARD
BEGIN:DAYLIGHT
TZOFFSETFROM:+0100
TZOFFSETTO:+0200
TZNAME:CEST
DTSTART:20250330T010000
END:DAYLIGHT
BEGIN:STANDARD
TZOFFSETFROM:+0200
TZOFFSETTO:+0100
TZNAME:CET
DTSTART:20251026T010000
END:STANDARD
END:VTIMEZONE
BEGIN:VTIMEZONE
TZID:UTC
BEGIN:STANDARD
TZOFFSETFROM:+0000
TZOFFSETTO:+0000
TZNAME:UTC
DTSTART:20230101T000000
END:STANDARD
END:VTIMEZONE
BEGIN:VEVENT
DTSTART;TZID=Europe/Prague:20250909T100000
DTEND;TZID=Europe/Prague:20250909T113000
DTSTAMP:20260419T234758
CREATED:20250718T075022Z
LAST-MODIFIED:20250718T075022Z
UID:169842-1757412000-1757417400@tvorimevropu.showyourweb.cz
SUMMARY:Umělá inteligence v praxi
DESCRIPTION:Co to je umělá inteligence (AI) a jak ji využít v každodenním životě? \nNejen na tyto otázky se zaměří praktická přednáška o umělé inteligenci. \nAkce probíhá v rámci Týdne pro Digitální Česko a je určena primárně seniorům z Klubu Aktiv\, z.s. \nS ohledem na omezenou kapacitu sálu je nutná předchozí registrace\, a to přes Klub Aktiv\, z.s.
URL:https://tvorimevropu.showyourweb.cz/event/umela-inteligence-v-praxi/
CATEGORIES:České Budějovice
END:VEVENT
BEGIN:VEVENT
DTSTART;TZID=Europe/Prague:20241122T110000
DTEND;TZID=Europe/Prague:20241122T143000
DTSTAMP:20260419T234758
CREATED:20241119T070305Z
LAST-MODIFIED:20241119T070305Z
UID:170368-1732273200-1732285800@tvorimevropu.showyourweb.cz
SUMMARY:Digitální Česko: Budoucnost digitalizace a nové technologie AI
DESCRIPTION:Eurocentrum Pardubice zve všechny zájemce na odborný seminář pro studenty Univerzity Pardubice – Univerzity třetího věku. \nBeseda se uskuteční dne 22. listopadu 2024 v době od 11:00 do 14:30 hodin v prostorách Dopravní fakulty Jana Pernera Univerzity Pardubice\, učebně B5. na konci příspěvku nebude chybět ani diskuse s účastníky. \nCílovou skupinou jsou primárně studenti Univerzity Pardubice a senioři. \nCílem akce je zvýšit povědomí o současných\, nejvíce diskutovaných evropských tématech\, kulturních rozmanitostech Evropy a činnosti sítě Eurocenter. \nPozvání na akci přijal Mgr. Ing. Petr Kleiner\, Technologické centrum Hradec Králové. \nAkce probíhá pod záštitou Týdne pro Digitální Česko\, který se koná v termínu 18.11. – 24.11.2024. Více informací ZDE.
URL:https://tvorimevropu.showyourweb.cz/event/digitalni-cesko-budoucnost-digitalizace-a-nove-technologie-ai-3/
CATEGORIES:Pardubice
END:VEVENT
BEGIN:VEVENT
DTSTART;TZID=UTC:20231122T180000
DTEND;TZID=UTC:20231122T193000
DTSTAMP:20260419T234758
CREATED:20231109T120906Z
LAST-MODIFIED:20231109T120906Z
UID:169933-1700676000-1700681400@tvorimevropu.showyourweb.cz
SUMMARY:Evropské debaty: Zkrotíme umělou inteligenci? Nebo ovládne AI nás?
DESCRIPTION:Hrozba\, nebo příležitost? To je stále častější otázka týkající se umělé inteligence\,. My se ale konkrétně zaměříme na to\, jak k AI přistupovat\, jak ji využít a jestli se dá zregulovat. Bojíme se změn? Pokud ano\, je strach oprávněný? Jaký dopad má na naše životy\, profese\, pracovní trh nebo koníčky? Povede se nám AI zkrotit? Beseda se zajímavými hosty\, mezi kterými budou filozofka a expertka na AI Dita Malečková\, prezidentka Internetového institutu\, vědkyně Tereza Bartoníčková a jeden z nejvlivnějších Čechů v kryptokomunitě Vavřinec Larry Čermák. Moderuje novinář Michael Rozsypal (exDVTV\, exČeský rozhlas). Vstup volný. \nHosté: Dita Malečková\, Tereza Bartoníčková a Vavřinec Čermák \nModeruje: Michael Rozsypal
URL:https://tvorimevropu.showyourweb.cz/event/evropske-debaty-zkrotime-umelou-inteligenci-nebo-ovladne-ai-nas-3/
CATEGORIES:Liberec
END:VEVENT
END:VCALENDAR