BEGIN:VCALENDAR
VERSION:2.0
PRODID:-//Tvoříme Evropu - ECPv6.15.0.1//NONSGML v1.0//EN
CALSCALE:GREGORIAN
METHOD:PUBLISH
X-ORIGINAL-URL:https://tvorimevropu.showyourweb.cz
X-WR-CALDESC:Akce na Tvoříme Evropu
REFRESH-INTERVAL;VALUE=DURATION:PT1H
X-Robots-Tag:noindex
X-PUBLISHED-TTL:PT1H
BEGIN:VTIMEZONE
TZID:Europe/Prague
BEGIN:DAYLIGHT
TZOFFSETFROM:+0100
TZOFFSETTO:+0200
TZNAME:CEST
DTSTART:20240331T010000
END:DAYLIGHT
BEGIN:STANDARD
TZOFFSETFROM:+0200
TZOFFSETTO:+0100
TZNAME:CET
DTSTART:20241027T010000
END:STANDARD
END:VTIMEZONE
BEGIN:VTIMEZONE
TZID:UTC
BEGIN:STANDARD
TZOFFSETFROM:+0000
TZOFFSETTO:+0000
TZNAME:UTC
DTSTART:20240101T000000
END:STANDARD
END:VTIMEZONE
BEGIN:VEVENT
DTSTART;TZID=Europe/Prague:20241104T080000
DTEND;TZID=Europe/Prague:20241130T180000
DTSTAMP:20260420T053452
CREATED:20241105T181625Z
LAST-MODIFIED:20241105T181625Z
UID:170357-1730707200-1732989600@tvorimevropu.showyourweb.cz
SUMMARY:Výstava fotografií Fotíme Evropu\, již 20 let!
DESCRIPTION:Výstava soutěžních snímků z letní fotosoutěže pořádané informačními středisky Europe Direct Hradec Králové a Europe Direct Pardubice a Eurocentry Hradec Králové a Pardubice. Fotosoutěž byla v letošním roce zaměřena na proměnu Evropy v průběhu 20 let členství ČR v EU. Cílem fotosoutěže tak bylo zachytit jedinečnost a rozmanitost Evropy v proměnách času. \nVýstava je k vidění v průběhu listopadu ve foyer Knihovny města Hradce Králové\, na adrese Wonkova 1262/1a\, 500 02 Hradec Králové\, v otevírací době knihovny.
URL:https://tvorimevropu.showyourweb.cz/event/vystava-fotografii-fotime-evropu-jiz-20-let-2-3/
CATEGORIES:Hradec Králové
END:VEVENT
BEGIN:VEVENT
DTSTART;TZID=UTC:20240710T130000
DTEND;TZID=UTC:20240710T150000
DTSTAMP:20260420T053452
CREATED:20240610T104047Z
LAST-MODIFIED:20240610T104047Z
UID:170196-1720616400-1720623600@tvorimevropu.showyourweb.cz
SUMMARY:Letní tábor Na skok do Evropy
DESCRIPTION:Letní tábory o Evropské unii a jednotné Evropě v její rozmanitosti. \nZŠ Štefcova Hradec Králové ve spolupráci s Eurocentry Pardubice a Hradec Králové pořádají další ročník letních táborů\, který s sebou opět přinese EURO DAY! \nCílem jednodenních výtvarných\, pohybových a vzdělávacích aktivit\, workshopů a soutěží bude seznámit žáky ZŠ z regionů všech věkových kategorií s rozmanitostmi\, odlišnými kulturami\, tradicemi a chutěmi Evropy a Evropanů. \nKdy: 10. 7. 2024 (13:00 – 15:00) \nKde: ZŠ Štefcova 1092\, 500 09 Hradec Králové 9 \nTěšíme se na další letní setkání! \n \n 
URL:https://tvorimevropu.showyourweb.cz/event/letni-tabor-na-skok-do-evropy-6-3/
CATEGORIES:Hradec Králové,Pardubice
END:VEVENT
BEGIN:VEVENT
DTSTART;TZID=UTC:20240523T190000
DTEND;TZID=UTC:20240523T210000
DTSTAMP:20260420T053452
CREATED:20240428T092002Z
LAST-MODIFIED:20240428T092002Z
UID:170142-1716490800-1716498000@tvorimevropu.showyourweb.cz
SUMMARY:Evropský speciál hospodského kvízu
DESCRIPTION:Vyzkoušejte si s Eurocentrem EUROPE DIRECT Jihlava své vědomosti o Evropě a EU v tradičním HOSPODSKÉM KVÍZU\, který je pořádán při příležitosti oslav 20let členství České republiky v Evropské unii a při příležitosti voleb do Evropského parlamentu v červnu 2024. \nVytvořte 3-8členný tým a přijďte si zasoutěžit. \nTermín: čtvrtek 23. 5. 2024 od 19:00 hod. \nMísto: Dělnický dům Jihlava (Žižkova 1696/15\, 586 01 Jihlava). \nRegistrace: https://forms.gle/9uwk5BGNoLaTTtNb9. \nÚčast je tentokrát ZDARMA\, hodnotné ceny zůstávají. \n 
URL:https://tvorimevropu.showyourweb.cz/event/evropsky-special-hospodskeho-kvizu-3/
CATEGORIES:20 let v EU,Jihlava
END:VEVENT
BEGIN:VEVENT
DTSTART;TZID=UTC:20240502T000000
DTEND;TZID=UTC:20240602T000000
DTSTAMP:20260420T053452
CREATED:20240503T085324Z
LAST-MODIFIED:20240503T085324Z
UID:170147-1714608000-1717286400@tvorimevropu.showyourweb.cz
SUMMARY:Česko volí Evropu
DESCRIPTION:Kvíz o ceny při příležitosti výročí 20 let České republiky v Evropské unii a blížících se voleb do Evropského parlamentu \nS nadcházejícími volbami do Evropského parlamentu v červnu 2024 a při příležitosti výročí 20 let České republiky v Evropské unii jsme si pro vás připravili soutěžní kvíz o zajímavé ceny! \nDo soutěže se můžete zapojit na platformě Kahoot.it. zadáním herního pinu: 09699858 nebo kliknutím na následující odkaz: https://kahoot.it/challenge/09699858. \nSoutěž probíhá od 2. 5. do 2. 6. 2024.
URL:https://tvorimevropu.showyourweb.cz/event/cesko-voli-evropu-3/
CATEGORIES:20 let v EU,Jihlava
END:VEVENT
BEGIN:VEVENT
DTSTART;TZID=UTC:20240301T000000
DTEND;TZID=UTC:20240430T233000
DTSTAMP:20260420T053452
CREATED:20240130T134255Z
LAST-MODIFIED:20240130T134255Z
UID:169976-1709251200-1714519800@tvorimevropu.showyourweb.cz
SUMMARY:Výtvarná soutěž Co se může stát za 20 let…
DESCRIPTION:Ztvárněte svoji představu\, co lze všechno změnit za 20 let. Jak bude vypadat Evropa v roce 2044? Jak budou vypadat města\, dopravní prostředky nebo příroda? Jak se projeví klimatické změny? Jak se změní podoba samotných lidí? Budeme žít pod vodou\, přestěhuje se život na jiné planety? Vytvořte superhrdinu\, který zachrání svět; namalujte změny\, které se za posledních 20 let staly. Fantazii se meze nekladou. \nSoutěží se ve třech kategoriích: \n\npředškolní děti a první stupeň základních škol\n2. stupeň ZŠ\nstřední školy\n\nSoutěžní díla přineste do dětských oddělení Knihovny města Hradce Králové (seznam)  nebo zašlete poštou na adresu Europe Direct\, Wonkova 1262/1a\, 500 02 Hradec Králové. \nSoutěž se koná k výročí 20 let České republiky v Evropské unii pod záštitou ministra pro evropské záležitosti. \n   \n  \n  \n  \n  \n  \n  \n  \n  \n  \n  \nPravidla a podmínky soutěže Co se může stát za 20 let
URL:https://tvorimevropu.showyourweb.cz/event/vytvarna-soutez-co-se-muze-stat-za-20-let-3/
CATEGORIES:20 let v EU,Hradec Králové
END:VEVENT
BEGIN:VEVENT
DTSTART;VALUE=DATE:20240122
DTEND;VALUE=DATE:20240123
DTSTAMP:20260420T053452
CREATED:20240118T114549Z
LAST-MODIFIED:20240118T114549Z
UID:169961-1705881600-1705967999@tvorimevropu.showyourweb.cz
SUMMARY:Konference „20 let tvoříme Evropu“
DESCRIPTION:Při příležitosti 20. výročí vstupu Česka do Evropské unie Vás zveme na konferenci „20 let tvoříme Evropu: Dopady členství v EU na českou ekonomiku a společnost“\, která se uskuteční v pondělí 22. ledna 2024. Celou vrcholnou akci\, která se bude konat v Lichtenštejnském paláci v Praze\, budete moci živě sledovat online. \nKonference organizovaná Úřadem vlády ve spolupráci se Zastoupením Evropské komise v České republice symbolicky zahájí sérii akcí\, kterými si během letošního roku budeme 20. výročí vstupu Česka do Evropské unie připomínat. Čeká Vás inspirativní diskuze\, odborné příspěvky a pohledy na to\, jak členství v EU ovlivnilo za posledních 20 let naši ekonomiku a společnost. \nHlavní projevy na konferenci přednesou předseda vlády ČR Petr Fiala a místopředsedkyně Evropské komise Věra Jourová. Konferenci zahájí ministr pro evropské záležitosti Martin Dvořák. \nŽivý přenos konference budete moci sledovat na facebookové stránce Tvoříme Evropu. K dispozici je i záznam konference v českém jazyce (dopolední program a odpolední program) a anglickém jazyce (dopolední program a odpolední program). \nProhlédněte si podrobný program:
URL:https://tvorimevropu.showyourweb.cz/event/konference-20-let-tvorime-evropu-3/
CATEGORIES:20 let v EU
END:VEVENT
END:VCALENDAR