BEGIN:VCALENDAR
VERSION:2.0
PRODID:-//Tvoříme Evropu - ECPv6.15.0.1//NONSGML v1.0//EN
CALSCALE:GREGORIAN
METHOD:PUBLISH
X-ORIGINAL-URL:https://tvorimevropu.showyourweb.cz
X-WR-CALDESC:Akce na Tvoříme Evropu
REFRESH-INTERVAL;VALUE=DURATION:PT1H
X-Robots-Tag:noindex
X-PUBLISHED-TTL:PT1H
BEGIN:VTIMEZONE
TZID:UTC
BEGIN:STANDARD
TZOFFSETFROM:+0000
TZOFFSETTO:+0000
TZNAME:UTC
DTSTART:20210101T000000
END:STANDARD
END:VTIMEZONE
BEGIN:VEVENT
DTSTART;TZID=UTC:20230601T080000
DTEND;TZID=UTC:20230630T170000
DTSTAMP:20260419T233557
CREATED:20230608T134026Z
LAST-MODIFIED:20230608T134026Z
UID:169791-1685606400-1688144400@tvorimevropu.showyourweb.cz
SUMMARY:Výtvarná soutěž pro žáky ZŠ "Jaká je tvá superschopnost?"
DESCRIPTION:Letošním tématem jsou schopnosti\, dovednosti a znalosti\, které máme nebo bychom chtěli mít. Rádi\nbychom touto aktivitou v dětech vzbudili větší zájem o sebe sama\, skrze uvědomění si svých\nschopností\, svých silných stránek\, a tím přeneseně i vnímání a potřebu jejich rozvíjení. Dalším motivem\nmůže být záliba dětí v tom\, někomu se podobat a tedy následně zobrazit jeho/její schopnosti\, které jim\npřijdou nevšední a zajímavé. \nLetošní ročník soutěže jsme tedy pojmenovali: Jaká je Tvoje superschopnost? \nvýtvarná soutěž_superschopnost_plakát \nBudeme rádi\, pokud téma vašim žákům představíte a pokusíte se je motivovat k vytvoření obrázku\,\nkterý by danou „superschopnost“ ilustroval. Fantazii se opět meze nekladou. Platí\, že limitem je pouze\nnebe. \nNaše limity jsou pouze organizačně-technického charakteru. \nTedy\, obrázky v libovolném formátu\, zpracované libovolnou technikou prosím zasílejte do 30. 6. 2023\nna adresu Eurocentrum Europe Direct Olomouc\, Dolní nám 9\, 779 00 Olomouc. \nSoutěží se ve dvou kategoriích. První jsou žáci 1. až 4. třída a druhá je 5. až 9. třída. Každý obrázek\nprosím opatřete jménem autora/autorky a třídou\, do které žák/yně chodí. \nVýsledky soutěže vyhlásíme na webových stránkách a fb profilu Eurocentra Europe Direct Olomouc\nna začátku září. \nZ došlých obrázků chceme uspořádat dětem výstavu\, kterou zpřístupníme i veřejnosti v rámci\nfestivalu Dny evropského dědictví (9. – 17.9.) v Olomouci. Navíc\, nejlepší 3 obrázky z každé kategorie\nodměníme cenami\, které\, doufáme\, dále rozvinout výtvarné schopnosti výherců:)\nTěšíme se na spolupráci!
URL:https://tvorimevropu.showyourweb.cz/event/vytvarna-soutez-pro-zaky-zs-jaka-je-tva-superschopnost-3/
CATEGORIES:Olomouc
END:VEVENT
BEGIN:VEVENT
DTSTART;TZID=UTC:20230505T080000
DTEND;TZID=UTC:20230505T113000
DTSTAMP:20260419T233557
CREATED:20230428T073335Z
LAST-MODIFIED:20230428T073335Z
UID:169738-1683273600-1683286200@tvorimevropu.showyourweb.cz
SUMMARY:Den Evropy na ZŠ Loučany
DESCRIPTION:Den Evropy oslavíme v pátek 5.5. dopoledním tematickým programem na ZŠ Loučany\, který má příhodný název DEN EVROPY. ve spolupráci se ZŠ jsme připravili pásmo edukačních aktivit\, jejichž cílem je hravou formou školáky 1. až 5. tříd seznámit s tím\, že ČR je nedílnou součástí Evropy a evropské spolupráce. Žáci se mimo jiné dozví o některých důležitých osobnostech a milnících\, které formovali evropskou spolupráci v minulém a tomto století. Nejmenší úspěšné řešitele kvízů\, her\, doplňovaček a dalších odměníme věcnými cenami. \nPokud i Vaše škola má zájem pořádat podobnou aktivitu\, neváhejte nás kontaktovat na emailu krsa@euroskop.cz
URL:https://tvorimevropu.showyourweb.cz/event/den-evropy-na-zs-loucany-3/
CATEGORIES:Olomouc
END:VEVENT
BEGIN:VEVENT
DTSTART;TZID=UTC:20230503T150000
DTEND;TZID=UTC:20230503T190000
DTSTAMP:20260419T233557
CREATED:20230426T104618Z
LAST-MODIFIED:20230426T104618Z
UID:169734-1683126000-1683140400@tvorimevropu.showyourweb.cz
SUMMARY:Eurocentrum Olomouc na Majálesu Olomouc
DESCRIPTION:Přijďte nás navštívit na informačním stánku\, který máme připravený v rámci oficiálního programu Majálesu Olomouc. Společně s dalšími organizacemi se prezentujeme na Biskupském nám. 1. Jsme Vám k dispozici informací a zároveň budete mít možnost vyzkoušet různé herní a komunikační aktivity související s problematikou EU.
URL:https://tvorimevropu.showyourweb.cz/event/eurocentrum-olomouc-na-majalesu-olomouc-3/
CATEGORIES:Olomouc
END:VEVENT
BEGIN:VEVENT
DTSTART;TZID=UTC:20230419T100000
DTEND;TZID=UTC:20230419T120000
DTSTAMP:20260419T233557
CREATED:20230426T103405Z
LAST-MODIFIED:20230426T103405Z
UID:169732-1681898400-1681905600@tvorimevropu.showyourweb.cz
SUMMARY:Bezpečné nákupy online/ fake news a dezinformace
DESCRIPTION:Srdečně zveme zájemce z řad středoškoláků na akci\, kterou pořádáme společně s Církevním gymnáziem řádu Německých rytířů v Olomouci. Cílem je upozornit studenty na jejich práva\, která jim jako evropským spotřebitelům zaručuje Evropská unie. Tématem studenty  provede Mgr. Ondřej Tichota z Evropského spotřebitelského centra. Součástí přednášky/debaty je i téma dezinformací a fake news\, které představí studenti katedry politologie a evr. studií FFUP v Olomouci. Registrace\, prosíme\, na email: krsa@euroskop.cz. Vstup volný.
URL:https://tvorimevropu.showyourweb.cz/event/bezpecne-nakupy-online-fake-news-a-dezinformace-3/
CATEGORIES:Olomouc
END:VEVENT
BEGIN:VEVENT
DTSTART;TZID=UTC:20230418T140000
DTEND;TZID=UTC:20230418T153000
DTSTAMP:20260419T233557
CREATED:20230426T102708Z
LAST-MODIFIED:20230426T102708Z
UID:169730-1681826400-1681831800@tvorimevropu.showyourweb.cz
SUMMARY:Jak být bezpečně online
DESCRIPTION:Srdečně zveme na seminář pro cílovou skupinu 55+ s tématem\, jak se bezpečně chovat na internetu. Problematiku představí Mgr. Ondřej Tichota z Evropského spotřebitelského centra. Tato organizace se dlouhodobě zabývá a řeší stížnosti občanů při podezření z porušení jejich spotřebitelských práv\, zejména v online prostoru. Vstup volný.
URL:https://tvorimevropu.showyourweb.cz/event/jak-byt-bezpecne-online-3/
CATEGORIES:Olomouc
END:VEVENT
BEGIN:VEVENT
DTSTART;TZID=UTC:20230417T163000
DTEND;TZID=UTC:20230417T180000
DTSTAMP:20260419T233557
CREATED:20230426T102135Z
LAST-MODIFIED:20230426T102135Z
UID:169728-1681749000-1681754400@tvorimevropu.showyourweb.cz
SUMMARY:Cestovatelský večer/ večer se studenty programu Erasmus +/ Irsko\, Chorvatsko\, Tádžikistán\, Kazachstán
DESCRIPTION:Srdečně zveme na volné pokračování cestovatelských večerů se VŠ studenty. Tentokrát Vám představíme Irsko očima Lenky Foniokové\, pracovnice Evropské komise\, která v současné době působí v Dublinu a Mirka Krši\, který navštěvuje Irsko pravidelně jako turista/cestovatel. Cílem je ukázat zájemcům zajímavosti a kulturní odlišnosti Irska. Večer je věnován také studentkám z Chorvatska\, Tádžikistánu a Kazachstánu\, které naopak představí\, jaké kulturní „šoky“ zažívají při pobytu v rámci programu Erasmus + zde v Česku. Těšíme se na Vás. Vstup volný.
URL:https://tvorimevropu.showyourweb.cz/event/cestovatelsky-vecer-vecer-se-studenty-programu-erasmus-irsko-chorvatsko-tadzikistan-kazachstan-3/
CATEGORIES:Olomouc
END:VEVENT
BEGIN:VEVENT
DTSTART;TZID=UTC:20230322T100000
DTEND;TZID=UTC:20230322T130000
DTSTAMP:20260419T233557
CREATED:20230426T100427Z
LAST-MODIFIED:20230426T100427Z
UID:169724-1679479200-1679490000@tvorimevropu.showyourweb.cz
SUMMARY:Den mobility Jeseník II
DESCRIPTION:Abychom uspokojili poptávku vydáme se na jesenické střední školy letos již po druhé. i tentokrát v rámci dopoledního programu studentům tamních středních škol představíme možnosti studia\, dobrovolné služby\, stáží v evropských institucích\, au-pair pobytů a práce v Evropské unii. Primárně je cílem upozornit studenty na možnost podpory těchto aktivit ze strany Evropské unie a vlády ČR. na akci spolupracujeme s Domem zahraniční spolupráce\, EURES poradci pro Olomoucký kraj a European Student Network Olomouc.
URL:https://tvorimevropu.showyourweb.cz/event/den-mobility-jesenik-ii-2-3/
CATEGORIES:Olomouc
END:VEVENT
BEGIN:VEVENT
DTSTART;TZID=UTC:20230306T080000
DTEND;TZID=UTC:20230306T170000
DTSTAMP:20260419T233557
CREATED:20230426T100015Z
LAST-MODIFIED:20230426T100015Z
UID:169722-1678089600-1678122000@tvorimevropu.showyourweb.cz
SUMMARY:Kvíz o Švédsku
DESCRIPTION:V souvislosti s předsednictvím Švédského království v Radě EU bychom Vám rádi nabídli\, věříme\, že nevšední možnost\, jak se o této nevšední evropské zemi dovědět více. na fb profilu Eurocentra máte možnost se zúčastnit kvízu o hodnotné ceny. Kvízovat můžete do 31.3. včetně. Více informací naleznete na našem Fb profilu. Soutěžícím držíme palce!
URL:https://tvorimevropu.showyourweb.cz/event/kviz-o-svedsku-3/
CATEGORIES:Olomouc
END:VEVENT
BEGIN:VEVENT
DTSTART;TZID=UTC:20230221T100000
DTEND;TZID=UTC:20230221T130000
DTSTAMP:20260419T233557
CREATED:20230426T094428Z
LAST-MODIFIED:20230426T094428Z
UID:169716-1676973600-1676984400@tvorimevropu.showyourweb.cz
SUMMARY:Den mobility Jeseník
DESCRIPTION:V rámci informační osvěty v strukturálně postižených regionech se už po několikáté vypravíme do Jeseníku. v rámci dopoledního programu studentům tamních středních škol představíme možnosti studia\, dobrovolné služby\, stáží v evropských institucích\, au-pair pobytů a práce v Evropské unii. Primárně je cílem upozornit studenty na možnost podpory těchto aktivit ze strany Evropské unie a vlády ČR. na akci spolupracujeme s Domem zahraniční spolupráce\, EURES poradci pro Olomoucký kraj a European Student Network Olomouc.
URL:https://tvorimevropu.showyourweb.cz/event/den-mobility-jesenik-2-3/
CATEGORIES:Olomouc
END:VEVENT
BEGIN:VEVENT
DTSTART;TZID=UTC:20230210T080000
DTEND;TZID=UTC:20230210T100000
DTSTAMP:20260419T233557
CREATED:20230426T095213Z
LAST-MODIFIED:20230426T095213Z
UID:169720-1676016000-1676023200@tvorimevropu.showyourweb.cz
SUMMARY:Jak učit o EU na základních školách
DESCRIPTION:Eurocentrum Olomouc pořádá ve spolupráci s katedrou ZSV Pedagogické fakulty UP seminář pro učitele základních škol. Cílem akce je diskuze o hledání vhodných témat z oblasti EU a způsobů\, jak je zajímavě předat školákům. Workshop vede Mgr. Miroslav Krša\, který má několikaletou praxi přednášení tématiky EU na základních školách v Olomouckém kraji.
URL:https://tvorimevropu.showyourweb.cz/event/jak-ucit-o-eu-na-zakladnich-skolach-3/
CATEGORIES:Olomouc
END:VEVENT
BEGIN:VEVENT
DTSTART;TZID=UTC:20230119T163000
DTEND;TZID=UTC:20230119T180000
DTSTAMP:20260419T233557
CREATED:20230426T093334Z
LAST-MODIFIED:20230426T093334Z
UID:169714-1674145800-1674151200@tvorimevropu.showyourweb.cz
SUMMARY:Cestování s mezinárodní účastí/ večer s účastníky programu Erasmus +
DESCRIPTION:Ve spolupráci s Knihovnou města Olomouc\, pobočka Jungmanova\, si Vás dovolujeme pozvat na cestovatelský večer\, jehož cílem je představit známé i méně známé evropské  mimoevropské destinace. Konkrétně budete mít možnost dozvědět se\, jak se žije v Gruzii a Taiwanu. Obě země představí studentky\, které zde absolvovaly studijní stáž Erasmus+. Vstup volný.
URL:https://tvorimevropu.showyourweb.cz/event/cestovani-s-mezinarodni-ucasti-vecer-s-ucastniky-programu-erasmus-3/
CATEGORIES:Olomouc
END:VEVENT
BEGIN:VEVENT
DTSTART;TZID=UTC:20220127T160000
DTEND;TZID=UTC:20220127T180000
DTSTAMP:20260419T233557
CREATED:20220207T090345Z
LAST-MODIFIED:20220207T090345Z
UID:169159-1643299200-1643306400@tvorimevropu.showyourweb.cz
SUMMARY:Po stopách evropské civilizace\, Irsko a Skotsko
DESCRIPTION:Chcete zjistit\, jak Irové a Skotové formovali novodobou Evropu a co pro ně Evropa znamená ve své současné podobě? a nakolik dnešní Irové a Skotové zůstávají Evropany a co pro ně znamená současná Evropa? Zveme Vás na přednášku pro veřejnost\, která proběhne v prostorách Městské knihovny Olomouc\, pobočka Jungmannova. Bližší informace zde: http://www.kmol.cz/19179-po-stopach-evropske-civilizace-irsko-a-skotsko/
URL:https://tvorimevropu.showyourweb.cz/event/po-stopach-evropske-civilizace-irsko-a-skotsko-3/
CATEGORIES:Olomouc
ATTACH;FMTTYPE=:
END:VEVENT
BEGIN:VEVENT
DTSTART;TZID=UTC:20211123T130000
DTEND;TZID=UTC:20211123T143000
DTSTAMP:20260419T233557
CREATED:20220207T090320Z
LAST-MODIFIED:20220207T090320Z
UID:169084-1637672400-1637677800@tvorimevropu.showyourweb.cz
SUMMARY:Nový rámec evropské rozvojové spolupráce
DESCRIPTION:Debatu se studenty rozvojových studií Univerzity Palackého na téma Nového rámce evropské rozvojové pomoci. na akci vystoupí odborník z ČRA. Tématem diskuze budou evropské priority na poli rozvojové politiky v programovém období 2021 – 2027. Studenti se seznámí s tím\, jaké priority nové programové období přináší a jaké nástroje budou k dipozici pro jejich naplnění. Cílem je také srovnat fungování rozvojové spolupráce na EU úrovni s tím\, jak k rozvojové spolupráci přistupuje Česká republika.
URL:https://tvorimevropu.showyourweb.cz/event/novy-ramec-evropske-rozvojove-spoluprace-3/
CATEGORIES:Olomouc
END:VEVENT
BEGIN:VEVENT
DTSTART;TZID=UTC:20211109T170000
DTEND;TZID=UTC:20211109T190000
DTSTAMP:20260419T233557
CREATED:20220207T090321Z
LAST-MODIFIED:20220207T090321Z
UID:169095-1636477200-1636484400@tvorimevropu.showyourweb.cz
SUMMARY:Olomouc v srdci Evropy; Jakou EU si přejete?
DESCRIPTION:Co se Vám líbí či naopak nelíbí na Evropské unii?\nJaké výzvy před Evropou stojí?\nJak EU mění Olomouc?\nPřijďte 9. listopadu 2021 od 17h do Domu u Parku\, Palackého 21 Olomouc. \nVyslechněte si zajímavé postřehy\, zapojte se do debaty a sdělte nám svůj názor! \nDiskutovat s Vámi budou:\nZděněk Beránek: ředitel think-tanku EUROPEUM\nMilena Hrdinková: státní tajemnice pro evropské záležitosti\nKarel Konečný: náměstek primátora města Olomouce\nModeruje: Dominik Petýrek\, vedoucí Politologického klubu UPOL\nVstup zdarma. Doporučená registrace na emailu: olomouc@europe-direct.cz. Občerstvení zajištěno.\nDebata je součástí Konference o budoucnosti Evropy\, která představuje celoevropskou demokratickou rozpravu\, jež nabízí veřejnosti nové fórum k otevřenému\, inkluzivnímu a transparentnímu sdílení názorů na řadu klíčových priorit a výzev Evropy.\nAkce je zároveň oslavou nového střediska EUROPE DIRECT Olomouc\, tak přijďte a dozvíte se více o našich aktivitách a plánovaných akcích.
URL:https://tvorimevropu.showyourweb.cz/event/olomouc-v-srdci-evropy-jakou-eu-si-prejete-3/
CATEGORIES:Olomouc
END:VEVENT
BEGIN:VEVENT
DTSTART;TZID=UTC:20211026T090000
DTEND;TZID=UTC:20211026T120000
DTSTAMP:20260419T233557
CREATED:20220207T090309Z
LAST-MODIFIED:20220207T090309Z
UID:169042-1635238800-1635249600@tvorimevropu.showyourweb.cz
SUMMARY:Den mobility v Olomouci
DESCRIPTION:Akce pro studenty středních škol\, na níž získají informace o studiu v zahraničí\, au-pair pobytech\, evropské dobrovolné službě\, práci v EU nebo stážích v evropských institucích. Akci organizuje Eurocentrum Europe Direct Olomouc. na studenty čekají odborníci z Domu zahraniční spolupráce a zahraniční studenti Erasmus Student Network.
URL:https://tvorimevropu.showyourweb.cz/event/den-mobility-v-olomouci-3/
CATEGORIES:Olomouc
END:VEVENT
BEGIN:VEVENT
DTSTART;TZID=UTC:20211018T170000
DTEND;TZID=UTC:20211018T183000
DTSTAMP:20260419T233557
CREATED:20220207T090310Z
LAST-MODIFIED:20220207T090310Z
UID:169057-1634576400-1634581800@tvorimevropu.showyourweb.cz
SUMMARY:Cestovatelská přednáška Ostrovy Bodamského jezera
DESCRIPTION:Srdečně Vás zveme na cestovatelskou přednášku v rámci Dnů německého jazyka s názvem Ostrovy Bodamského jezera. Svůj pohled na hraniční region 3 německy mluvících států Vám nabídne cestovatelka Pavla Apostolaki. \nAkce se uskuteční 18.10. od 17.hod. v Divadle na Cucky\, Dolní nám. 23. \nAkci pořádá Vědecká knihovna a Eurocentrum Europe Direct Olomouc. \nVstup zdarma.
URL:https://tvorimevropu.showyourweb.cz/event/cestovatelska-prednaska-ostrovy-bodamskeho-jezera-3/
CATEGORIES:Olomouc
END:VEVENT
BEGIN:VEVENT
DTSTART;TZID=UTC:20211013T170000
DTEND;TZID=UTC:20211013T180000
DTSTAMP:20260419T233557
CREATED:20220207T090256Z
LAST-MODIFIED:20220207T090256Z
UID:169014-1634144400-1634148000@tvorimevropu.showyourweb.cz
SUMMARY:Slavnostní zahájení Dnů německého jazyka v Olomouci
DESCRIPTION:Srdečně Vás zveme na slavnostní zahájení 7. ročníku festivalu Dnů německého jazyka\, které se uskuteční na nádvoří knihovny Zbrojnice v Olomouci. Od 13. do 30. října proběhne v Olomouci několik desítek akcí\, které mají za cíl upozornit na kulturní blízkost s naším největším sousedem. \nAkci pořádá Vědecká knihovna v Olomouci. Mezi hrdé partnery akce patří i Eurocentrum Europe Direct Olomouc. Více o chystaných akcích na slavnostním zahájení nebo na fb profilu OKU.
URL:https://tvorimevropu.showyourweb.cz/event/slavnostni-zahajeni-dnu-nemeckeho-jazyka-v-olomouci-3/
CATEGORIES:Olomouc
END:VEVENT
BEGIN:VEVENT
DTSTART;TZID=UTC:20210914T080000
DTEND;TZID=UTC:20210918T170000
DTSTAMP:20260419T233557
CREATED:20220207T090233Z
LAST-MODIFIED:20220207T090233Z
UID:168936-1631606400-1631984400@tvorimevropu.showyourweb.cz
SUMMARY:OLOMOUC | Příští stanice svět
DESCRIPTION:Přijďte na festival mezinárodního vzdělávání a naskočte do vlaku za novými zážitky s programy Erasmus+ a Evropský sbor solidarity. Těšit se můžete na workshopy\, besedy\, soutěže a každý večer taky na známé hudební interprety. \nPROGRAM: \nWORKSHOPY | BESEDY | SOUTĚŽE | KONCERTY \nProgram proběhne ve dvou speciálně upravených vagónech. Setkáte se se známými účastníky mezinárodních programů a dozvíte se o možnostech dobrovolnictví\, eko cestování\, zahraničního studia\, odborných stážích a životě v cizině. \nU vlaku najdete hlavní stage\, stánky s občerstvením\, soutěžní stanoviště a další doprovodný program. \nZASTÁVKY: \n14. 9. PRAHA \n15. 9. PLZEŇ \n16. 9. LIBEREC \n17. 9. OLOMOUC \n18. 9. BRNO \nVstup pro registrované účastníky je zdarma. http://prististanicesvet.cz/ \nPartneři akce jsou České dráhy a Správa železnic.
URL:https://tvorimevropu.showyourweb.cz/event/olomouc-pristi-stanice-svet-3/
CATEGORIES:Olomouc
END:VEVENT
BEGIN:VEVENT
DTSTART;TZID=UTC:20210909T100000
DTEND;TZID=UTC:20210909T180000
DTSTAMP:20260419T233557
CREATED:20220207T090233Z
LAST-MODIFIED:20220207T090233Z
UID:168931-1631181600-1631210400@tvorimevropu.showyourweb.cz
SUMMARY:Nejkrásnější strom v Evropě - Vernisáž a výstava dětských prací
DESCRIPTION:Přijměte pozvání na výstavu více než stovky dětských prací\, které nám v červnu došly na téma Nejkrásnější evropský strom. Obrázky budou k vidění od čtvrtka 9. září do soboty 11. září (9-11hod. a 16-19hod.) v unikátních prostorách nedávno rekonstruované olomoucké Oranžerie. Akce je součástí programu kulturního festivalu Dny evropského dědictví Olomouc. https://ded.olomouc.eu/
URL:https://tvorimevropu.showyourweb.cz/event/nejkrasnejsi-strom-v-evrope-vernisaz-a-vystava-detskych-praci-3/
CATEGORIES:Olomouc
END:VEVENT
BEGIN:VEVENT
DTSTART;TZID=UTC:20210517T093000
DTEND;TZID=UTC:20210517T143000
DTSTAMP:20260419T233557
CREATED:20220207T090139Z
LAST-MODIFIED:20220207T090139Z
UID:168782-1621243800-1621261800@tvorimevropu.showyourweb.cz
SUMMARY:Krajské kolo soutěže Europa Secura
DESCRIPTION:I přes stále nepříznivý epidemiologický stav se snažíme udělat vše proto\, abychom i letos připravili studentům plnohodnotné zážitky z účasti na krajském kole studentské soutěže s mezinárodně bezpečnostní tématikou Europa Secura. Držíme si palce a těšíme se na soutěžní týmy. Akci pořádá EUROPEUM a na organizaci krajského kola se podílí Eurocentrum Olomouc.
URL:https://tvorimevropu.showyourweb.cz/event/krajske-kolo-souteze-europa-secura-3/
CATEGORIES:Olomouc
END:VEVENT
BEGIN:VEVENT
DTSTART;TZID=UTC:20210429T143000
DTEND;TZID=UTC:20210429T160000
DTSTAMP:20260419T233557
CREATED:20220207T090140Z
LAST-MODIFIED:20220207T090140Z
UID:168792-1619706600-1619712000@tvorimevropu.showyourweb.cz
SUMMARY:Online čtenářský kvíz Udržitelný rozvoj
DESCRIPTION:Knihovna města Olomouce a Eurocentrum Olomouc pořádají online čtenářský kvíz pro studenty 1. – 3. ročníků odborných škol v Olomouci. Tématem kvízu je udržitelný rozvoj.  Budeme rádi\, pokud přijmete výzvu a za Vaši školu nominujete 1 až 3 týmy (tým = 2hráči +1 náhradník). Soutěž je koncipovaná pro celkem 11 týmů. Přihlásit se je možné do 27.4. na adrese krsa@euroskop.cz. Forma soutěže je obdobou oblíbeného hospodského kvízu.\nDo konce školního roku plánujeme uskutečnit celkem 3 kvízy. Budeme tedy hrát o vítězství v jednotlivých kolech a celkového vítěze kvízování. Týmy na jednotlivá kola lze obměňovat. Pokud to situace dovolí\, poslední kolo kvízu (červen) bychom rádi uskutečnili prezenčně.\nPrvní kolo se uskuteční 29.4. od 13.00 hod. na platformě MS TEAMS. Po přihlášení pošleme studentům přihlašovací údaje s podrobnými instrukcemi k soutěži.
URL:https://tvorimevropu.showyourweb.cz/event/online-ctenarsky-kviz-udrzitelny-rozvoj-3/
LOCATION:34426-120-f202102220490901
CATEGORIES:Olomouc
END:VEVENT
END:VCALENDAR